| Back to Multiple platform build/check report for BioC 3.9 |
|
This page was generated on 2019-03-30 12:09:35 -0400 (Sat, 30 Mar 2019).
| Package 129/1686 | Hostname | OS / Arch | INSTALL | BUILD | CHECK | BUILD BIN | ||||||
| BiGGR 1.19.0 Anand K. Gavai
| malbec2 | Linux (Ubuntu 18.04.2 LTS) / x86_64 | OK | OK | OK | |||||||
| tokay2 | Windows Server 2012 R2 Standard / x64 | OK | OK | OK | OK | |||||||
| celaya2 | OS X 10.11.6 El Capitan / x86_64 | OK | OK | OK | OK | |||||||
| merida2 | OS X 10.11.6 El Capitan / x86_64 | OK | OK | [ OK ] | OK |
| Package: BiGGR |
| Version: 1.19.0 |
| Command: /Library/Frameworks/R.framework/Versions/Current/Resources/bin/R CMD check --install=check:BiGGR.install-out.txt --library=/Library/Frameworks/R.framework/Versions/Current/Resources/library --no-vignettes --timings BiGGR_1.19.0.tar.gz |
| StartedAt: 2019-03-29 23:42:10 -0400 (Fri, 29 Mar 2019) |
| EndedAt: 2019-03-29 23:47:42 -0400 (Fri, 29 Mar 2019) |
| EllapsedTime: 331.9 seconds |
| RetCode: 0 |
| Status: OK |
| CheckDir: BiGGR.Rcheck |
| Warnings: 0 |
##############################################################################
##############################################################################
###
### Running command:
###
### /Library/Frameworks/R.framework/Versions/Current/Resources/bin/R CMD check --install=check:BiGGR.install-out.txt --library=/Library/Frameworks/R.framework/Versions/Current/Resources/library --no-vignettes --timings BiGGR_1.19.0.tar.gz
###
##############################################################################
##############################################################################
* using log directory ‘/Users/biocbuild/bbs-3.9-bioc/meat/BiGGR.Rcheck’
* using R Under development (unstable) (2018-11-27 r75683)
* using platform: x86_64-apple-darwin15.6.0 (64-bit)
* using session charset: UTF-8
* using option ‘--no-vignettes’
* checking for file ‘BiGGR/DESCRIPTION’ ... OK
* checking extension type ... Package
* this is package ‘BiGGR’ version ‘1.19.0’
* checking package namespace information ... OK
* checking package dependencies ... OK
* checking if this is a source package ... OK
* checking if there is a namespace ... OK
* checking for hidden files and directories ... NOTE
Found the following hidden files and directories:
.BBSoptions
These were most likely included in error. See section ‘Package
structure’ in the ‘Writing R Extensions’ manual.
* checking for portable file names ... OK
* checking for sufficient/correct file permissions ... OK
* checking whether package ‘BiGGR’ can be installed ... OK
* checking installed package size ... OK
* checking package directory ... OK
* checking ‘build’ directory ... OK
* checking DESCRIPTION meta-information ... OK
* checking top-level files ... OK
* checking for left-over files ... OK
* checking index information ... OK
* checking package subdirectories ... OK
* checking R files for non-ASCII characters ... OK
* checking R files for syntax errors ... OK
* checking whether the package can be loaded ... OK
* checking whether the package can be loaded with stated dependencies ... OK
* checking whether the package can be unloaded cleanly ... OK
* checking whether the namespace can be loaded with stated dependencies ... OK
* checking whether the namespace can be unloaded cleanly ... OK
* checking dependencies in R code ... NOTE
Package in Depends field not imported from: ‘stringr’
These packages need to be imported from (in the NAMESPACE file)
for when this namespace is loaded but not attached.
* checking S3 generic/method consistency ... OK
* checking replacement functions ... OK
* checking foreign function calls ... OK
* checking R code for possible problems ... NOTE
.buildSubModel: no visible global function definition for ‘new’
buildSBMLFromBiGG: no visible global function definition for
‘read.delim’
buildSBMLFromBiGG : <anonymous>: no visible global function definition
for ‘new’
buildSBMLFromBiGG: no visible global function definition for ‘new’
createLIMFromSBML: no visible global function definition for ‘hasArg’
gprMapping: no visible global function definition for ‘str_detect’
gprMapping: no visible global function definition for ‘na.omit’
gprMappingAvg: no visible global function definition for ‘na.omit’
sampleFluxEnsemble: no visible global function definition for ‘Xsample’
sbml2hyperdraw: no visible global function definition for ‘hasArg’
sbml2hyperdraw: no visible global function definition for ‘graphLayout’
sbml2hyperdraw: no visible global function definition for
‘nodeDataDefaults<-’
sbml2hyperdraw: no visible global function definition for
‘edgeDataDefaults<-’
sbml2hyperdraw: no visible global function definition for
‘graphDataDefaults<-’
sbml2hyperdraw : <anonymous>: no visible global function definition for
‘edgeData<-’
Undefined global functions or variables:
Xsample edgeData<- edgeDataDefaults<- graphDataDefaults<- graphLayout
hasArg na.omit new nodeDataDefaults<- read.delim str_detect
Consider adding
importFrom("methods", "hasArg", "new")
importFrom("stats", "na.omit")
importFrom("utils", "read.delim")
to your NAMESPACE file (and ensure that your DESCRIPTION Imports field
contains 'methods').
* checking Rd files ... OK
* checking Rd metadata ... OK
* checking Rd cross-references ... OK
* checking for missing documentation entries ... OK
* checking for code/documentation mismatches ... OK
* checking Rd \usage sections ... OK
* checking Rd contents ... OK
* checking for unstated dependencies in examples ... OK
* checking contents of ‘data’ directory ... OK
* checking data for non-ASCII characters ... OK
* checking data for ASCII and uncompressed saves ... OK
* checking sizes of PDF files under ‘inst/doc’ ... OK
* checking files in ‘vignettes’ ... OK
* checking examples ... OK
Examples with CPU or elapsed time > 5s
user system elapsed
gprMapping 145.759 2.149 149.416
gprMappingAvg 22.896 0.890 24.106
buildSBMLFromGenes 9.612 0.157 9.882
buildSBMLFromPathways 6.560 0.047 6.706
* checking for unstated dependencies in vignettes ... OK
* checking package vignettes in ‘inst/doc’ ... OK
* checking running R code from vignettes ... SKIPPED
* checking re-building of vignette outputs ... SKIPPED
* checking PDF version of manual ... OK
* DONE
Status: 3 NOTEs
See
‘/Users/biocbuild/bbs-3.9-bioc/meat/BiGGR.Rcheck/00check.log’
for details.
BiGGR.Rcheck/00install.out
############################################################################## ############################################################################## ### ### Running command: ### ### /Library/Frameworks/R.framework/Versions/Current/Resources/bin/R CMD INSTALL BiGGR ### ############################################################################## ############################################################################## * installing to library ‘/Library/Frameworks/R.framework/Versions/3.6/Resources/library’ * installing *source* package ‘BiGGR’ ... ** R ** data ** inst ** byte-compile and prepare package for lazy loading ** help *** installing help indices ** building package indices ** installing vignettes ** testing if installed package can be loaded * DONE (BiGGR)
BiGGR.Rcheck/BiGGR-Ex.timings
| name | user | system | elapsed | |
| BiGGR-package | 4.154 | 0.105 | 4.342 | |
| E.coli_iAF1260 | 1.420 | 0.044 | 1.500 | |
| E.coli_iJR904 | 0.781 | 0.017 | 0.819 | |
| E.coli_textbook | 0.050 | 0.003 | 0.053 | |
| H.pylori_ilT341 | 0.314 | 0.008 | 0.328 | |
| H.sapiens_Recon1 | 2.455 | 0.068 | 2.566 | |
| M.barkeri_iAF692 | 0.424 | 0.011 | 0.452 | |
| M.tuberculosis_iNJ661 | 0.626 | 0.021 | 0.669 | |
| P.putida_iJN746 | 0.675 | 0.020 | 0.707 | |
| Recon2 | 3.310 | 0.183 | 3.588 | |
| S.aureus_iSB619 | 0.509 | 0.024 | 0.546 | |
| S.cerevisiae_iND750 | 0.791 | 0.040 | 0.840 | |
| buildSBMLFromBiGG | 0.195 | 0.029 | 0.226 | |
| buildSBMLFromGenes | 9.612 | 0.157 | 9.882 | |
| buildSBMLFromPathways | 6.560 | 0.047 | 6.706 | |
| buildSBMLFromReactionIDs | 2.858 | 0.019 | 2.919 | |
| createLIMFromBiGG | 0.169 | 0.003 | 0.175 | |
| createLIMFromSBML | 2.031 | 0.010 | 2.074 | |
| extractGeneAssociations | 3.795 | 0.022 | 4.004 | |
| extractPathways | 3.731 | 0.016 | 3.977 | |
| getPathwaysForSBML | 4.274 | 0.020 | 4.449 | |
| getRates | 0.003 | 0.002 | 0.005 | |
| gprMapping | 145.759 | 2.149 | 149.416 | |
| gprMappingAvg | 22.896 | 0.890 | 24.106 | |
| lying.tunell.data | 0.003 | 0.002 | 0.005 | |
| rmvSpliceVariant | 3.841 | 0.018 | 3.964 | |
| sampleFluxEnsemble | 4.064 | 0.226 | 4.376 | |
| sbml2hyperdraw | 4.551 | 0.050 | 4.675 | |