| Back to Multiple platform build/check report for BioC 3.9 |
|
This page was generated on 2019-10-16 12:28:29 -0400 (Wed, 16 Oct 2019).
| Package 134/1741 | Hostname | OS / Arch | INSTALL | BUILD | CHECK | BUILD BIN | ||||||
| BiGGR 1.20.0 Anand K. Gavai
| malbec2 | Linux (Ubuntu 18.04.2 LTS) / x86_64 | OK | OK | OK | |||||||
| tokay2 | Windows Server 2012 R2 Standard / x64 | [ OK ] | OK | OK | OK | |||||||
| celaya2 | OS X 10.11.6 El Capitan / x86_64 | OK | OK | OK | OK |
| Package: BiGGR |
| Version: 1.20.0 |
| Command: C:\Users\biocbuild\bbs-3.9-bioc\R\bin\R.exe --arch x64 CMD INSTALL --no-multiarch BiGGR |
| StartedAt: 2019-10-15 19:55:32 -0400 (Tue, 15 Oct 2019) |
| EndedAt: 2019-10-15 19:57:12 -0400 (Tue, 15 Oct 2019) |
| EllapsedTime: 100.3 seconds |
| RetCode: 0 |
| Status: OK |
##############################################################################
##############################################################################
###
### Running command:
###
### C:\Users\biocbuild\bbs-3.9-bioc\R\bin\R.exe --arch x64 CMD INSTALL --no-multiarch BiGGR
###
##############################################################################
##############################################################################
* installing to library 'C:/Users/biocbuild/bbs-3.9-bioc/R/library'
* installing *source* package 'BiGGR' ...
** using staged installation
** R
** data
** inst
** byte-compile and prepare package for lazy loading
** help
*** installing help indices
converting help for package 'BiGGR'
finding HTML links ... done
BiGGR-internal html
BiGGR-package html
E.coli_iAF1260 html
E.coli_iJR904 html
E.coli_textbook html
Glycolysis html
H.pylori_ilT341 html
H.sapiens_Recon1 html
M.barkeri_iAF692 html
M.tuberculosis_iNJ661 html
P.putida_iJN746 html
Recon2 html
S.aureus_iSB619 html
S.cerevisiae_iND750 html
buildSBMLFromBiGG html
buildSBMLFromGenes html
finding level-2 HTML links ... done
buildSBMLFromPathways html
buildSBMLFromReactionIDs html
createLIMFromBiGG html
createLIMFromSBML html
extractGeneAssociations html
extractPathways html
getPathwaysForSBML html
getRates html
gprMapping html
gprMappingAvg html
lying.tunell.data html
rmvSpliceVariant html
sampleFluxEnsemble html
sbml2hyperdraw html
** building package indices
** installing vignettes
** testing if installed package can be loaded from temporary location
** testing if installed package can be loaded from final location
** testing if installed package keeps a record of temporary installation path
* DONE (BiGGR)
Making 'packages.html' ... done