| Back to Multiple platform build/check report for BioC 3.9 | 
  | 
This page was generated on 2018-11-07 15:52:17 -0500 (Wed, 07 Nov 2018).
| Package 731/1636 | Hostname | OS / Arch | INSTALL | BUILD | CHECK | BUILD BIN | ||||||
| htSeqTools 1.31.0 Oscar Reina 
  | malbec2 | Linux (Ubuntu 18.04.1 LTS) / x86_64 | OK | OK | WARNINGS | |||||||
| tokay2 | Windows Server 2012 R2 Standard / x64 | OK | OK | WARNINGS | OK | |||||||
| merida2 | OS X 10.11.6 El Capitan / x86_64 | OK | OK | WARNINGS | [ OK ] | 
| Package: htSeqTools | 
| Version: 1.31.0 | 
| Command: rm -rf htSeqTools.buildbin-libdir && mkdir htSeqTools.buildbin-libdir && /Users/biocbuild/BBS/utils/build-universal.sh htSeqTools_1.31.0.tar.gz /Library/Frameworks/R.framework/Versions/Current/Resources/bin/R htSeqTools.buildbin-libdir | 
| StartedAt: 2018-11-07 05:14:43 -0500 (Wed, 07 Nov 2018) | 
| EndedAt: 2018-11-07 05:16:10 -0500 (Wed, 07 Nov 2018) | 
| EllapsedTime: 86.8 seconds | 
| RetCode: 0 | 
| Status: OK | 
| PackageFile: htSeqTools_1.31.0.tgz | 
| PackageFileSize: 1.906 MiB | 
############################################################################## ############################################################################## ### ### Running command: ### ### rm -rf htSeqTools.buildbin-libdir && mkdir htSeqTools.buildbin-libdir && /Users/biocbuild/BBS/utils/build-universal.sh htSeqTools_1.31.0.tar.gz /Library/Frameworks/R.framework/Versions/Current/Resources/bin/R htSeqTools.buildbin-libdir ### ############################################################################## ############################################################################## >>>>>>> >>>>>>> INSTALLATION WITH 'R CMD INSTALL --preclean --no-multiarch --library=htSeqTools.buildbin-libdir htSeqTools_1.31.0.tar.gz' >>>>>>> * installing *source* package ‘htSeqTools’ ... ** R ** data ** inst ** byte-compile and prepare package for lazy loading Note: possible error in 'countHitsWindow(x, chrLengths = chrLengths, ': unused argument (chrLengths = chrLengths) Note: possible error in 'countHitsWindow(x, chrLengths = chrLengths, ': unused argument (chrLengths = chrLengths) Note: possible error in 'countHitsWindow(x, chrLengths = chrLengths, ': unused argument (chrLengths = chrLengths) Note: possible error in 'extendRanges(x, seqLen = seqLen, ': unused argument (chrLength = chrLength) Note: possible error in 'extendRanges(x, seqLen = seqLen, ': unused argument (chrLength = chrLength) Note: possible error in 'extendRanges(x, seqLen = seqLen, ': unused argument (chrLength = chrLength) Note: possible error in 'extendRanges(x, seqLen = seqLen, ': unused argument (chrLength = chrLength) Note: possible error in 'extendRanges(x, seqLen = seqLen, ': unused argument (chrLength = chrLength) Note: possible error in 'extendRanges(x, seqLen = seqLen, ': unused argument (chrLength = chrLength) ** help *** installing help indices ** building package indices ** installing vignettes ** testing if installed package can be loaded * DONE (htSeqTools)