| Back to Multiple platform build/check report for BioC 3.9 | 
  | 
This page was generated on 2019-10-16 12:41:46 -0400 (Wed, 16 Oct 2019).
| Package 773/1741 | Hostname | OS / Arch | INSTALL | BUILD | CHECK | BUILD BIN | ||||||
Oscar Reina 
  | malbec2 | Linux (Ubuntu 18.04.2 LTS) / x86_64 | OK | ERROR | skipped | |||||||
| tokay2 | Windows Server 2012 R2 Standard / x64 | [ OK ] | ERROR | skipped | skipped | |||||||
| celaya2 | OS X 10.11.6 El Capitan / x86_64 | OK | ERROR | skipped | skipped | 
| Package: htSeqTools | 
| Version: 1.32.0 | 
| Command: C:\cygwin\bin\curl.exe -O https://malbec2.bioconductor.org/BBS/3.9/bioc/src/contrib/htSeqTools_1.32.0.tar.gz && rm -rf htSeqTools.buildbin-libdir && mkdir htSeqTools.buildbin-libdir && C:\Users\biocbuild\bbs-3.9-bioc\R\bin\R.exe CMD INSTALL --merge-multiarch --build --library=htSeqTools.buildbin-libdir htSeqTools_1.32.0.tar.gz && C:\Users\biocbuild\bbs-3.9-bioc\R\bin\R.exe CMD INSTALL htSeqTools_1.32.0.zip && rm htSeqTools_1.32.0.tar.gz htSeqTools_1.32.0.zip | 
| StartedAt: 2019-10-15 20:48:43 -0400 (Tue, 15 Oct 2019) | 
| EndedAt: 2019-10-15 20:50:14 -0400 (Tue, 15 Oct 2019) | 
| EllapsedTime: 91.4 seconds | 
| RetCode: 0 | 
| Status: OK | 
##############################################################################
##############################################################################
###
### Running command:
###
###   C:\cygwin\bin\curl.exe -O https://malbec2.bioconductor.org/BBS/3.9/bioc/src/contrib/htSeqTools_1.32.0.tar.gz && rm -rf htSeqTools.buildbin-libdir && mkdir htSeqTools.buildbin-libdir && C:\Users\biocbuild\bbs-3.9-bioc\R\bin\R.exe CMD INSTALL --merge-multiarch --build --library=htSeqTools.buildbin-libdir htSeqTools_1.32.0.tar.gz && C:\Users\biocbuild\bbs-3.9-bioc\R\bin\R.exe CMD INSTALL htSeqTools_1.32.0.zip && rm htSeqTools_1.32.0.tar.gz htSeqTools_1.32.0.zip
###
##############################################################################
##############################################################################
  % Total    % Received % Xferd  Average Speed   Time    Time     Time  Current
                                 Dload  Upload   Total   Spent    Left  Speed
  0     0    0     0    0     0      0      0 --:--:-- --:--:-- --:--:--     0
100 1506k  100 1506k    0     0  14.7M      0 --:--:-- --:--:-- --:--:-- 15.9M
install for i386
* installing *source* package 'htSeqTools' ...
** using staged installation
** R
** data
** inst
** byte-compile and prepare package for lazy loading
Note: possible error in 'countHitsWindow(x, chrLengths = chrLengths, ': unused argument (chrLengths = chrLengths) 
Note: possible error in 'countHitsWindow(x, chrLengths = chrLengths, ': unused argument (chrLengths = chrLengths) 
Note: possible error in 'countHitsWindow(x, chrLengths = chrLengths, ': unused argument (chrLengths = chrLengths) 
Note: possible error in 'extendRanges(x, seqLen = seqLen, ': unused argument (chrLength = chrLength) 
Note: possible error in 'extendRanges(x, seqLen = seqLen, ': unused argument (chrLength = chrLength) 
Note: possible error in 'extendRanges(x, seqLen = seqLen, ': unused argument (chrLength = chrLength) 
Note: possible error in 'extendRanges(x, seqLen = seqLen, ': unused argument (chrLength = chrLength) 
Note: possible error in 'extendRanges(x, seqLen = seqLen, ': unused argument (chrLength = chrLength) 
Note: possible error in 'extendRanges(x, seqLen = seqLen, ': unused argument (chrLength = chrLength) 
** help
*** installing help indices
  converting help for package 'htSeqTools'
    finding HTML links ... done
    alignPeaks                              html  
    cmds                                    html  
    cmdsFit-class                           html  
    cmdsFit                                 html  
    countHitsWindow                         html  
    coverageDiff                            html  
    enrichedChrRegions                      html  
    enrichedPeaks                           html  
    enrichedRegions                         html  
    extendRanges                            html  
    fdrEnrichedCounts                       html  
    filterDuplReads                         html  
    findPeakHeight                          html  
    giniCoverage                            html  
    gridCover-class                         html  
    htSample                                html  
    islandCounts                            html  
    listOverlap                             html  
    mergeRegions                            html  
    plot-methods                            html  
    plotChrRegions                          html  
    regionsCoverage                         html  
    rowLogRegLRT                            html  
    ssdCoverage                             html  
    stdPeakLocation                         html  
** building package indices
** installing vignettes
** testing if installed package can be loaded from temporary location
Warning: Package 'htSeqTools' is deprecated and will be removed from
  Bioconductor version 3.10
** testing if installed package can be loaded from final location
Warning: Package 'htSeqTools' is deprecated and will be removed from
  Bioconductor version 3.10
** testing if installed package keeps a record of temporary installation path
install for x64
* installing *source* package 'htSeqTools' ...
** testing if installed package can be loaded
Warning: Package 'htSeqTools' is deprecated and will be removed from
  Bioconductor version 3.10
* MD5 sums
packaged installation of 'htSeqTools' as htSeqTools_1.32.0.zip
* DONE (htSeqTools)
* installing to library 'C:/Users/biocbuild/bbs-3.9-bioc/R/library'
package 'htSeqTools' successfully unpacked and MD5 sums checked