| Back to Multiple platform build/check report for BioC 3.9 |
|
This page was generated on 2019-10-16 12:38:29 -0400 (Wed, 16 Oct 2019).
| Package 1383/1741 | Hostname | OS / Arch | INSTALL | BUILD | CHECK | BUILD BIN | ||||||
| RITAN 1.8.0 Michael Zimmermann
| malbec2 | Linux (Ubuntu 18.04.2 LTS) / x86_64 | OK | OK | WARNINGS | |||||||
| tokay2 | Windows Server 2012 R2 Standard / x64 | OK | OK | WARNINGS | [ OK ] | |||||||
| celaya2 | OS X 10.11.6 El Capitan / x86_64 | OK | OK | WARNINGS | OK |
| Package: RITAN |
| Version: 1.8.0 |
| Command: rm -rf RITAN.buildbin-libdir && mkdir RITAN.buildbin-libdir && C:\Users\biocbuild\bbs-3.9-bioc\R\bin\R.exe CMD INSTALL --merge-multiarch --build --library=RITAN.buildbin-libdir RITAN_1.8.0.tar.gz |
| StartedAt: 2019-10-16 10:05:02 -0400 (Wed, 16 Oct 2019) |
| EndedAt: 2019-10-16 10:05:30 -0400 (Wed, 16 Oct 2019) |
| EllapsedTime: 27.6 seconds |
| RetCode: 0 |
| Status: OK |
| PackageFile: RITAN_1.8.0.zip |
| PackageFileSize: 474.2 KiB |
##############################################################################
##############################################################################
###
### Running command:
###
### rm -rf RITAN.buildbin-libdir && mkdir RITAN.buildbin-libdir && C:\Users\biocbuild\bbs-3.9-bioc\R\bin\R.exe CMD INSTALL --merge-multiarch --build --library=RITAN.buildbin-libdir RITAN_1.8.0.tar.gz
###
##############################################################################
##############################################################################
install for i386
* installing *source* package 'RITAN' ...
** using staged installation
** R
** data
*** moving datasets to lazyload DB
** inst
** byte-compile and prepare package for lazy loading
** help
*** installing help indices
converting help for package 'RITAN'
finding HTML links ... done
as.graph html
check_any_net_input html
check_net_input html
enrichment_symbols html
geneset_overlap html
icon_test html
load_all_protein_coding_symbols html
load_geneset_symbols html
network_overlap html
plot.term_enrichment html
plot.term_enrichment_by_subset html
readGMT html
readSIF html
resource_reduce html
show_active_genesets_hist html
summary.term_enrichment html
summary.term_enrichment_by_subset html
term_enrichment html
term_enrichment_by_subset html
vac1.day0vs31.de.genes html
vac1.day0vs56.de.genes html
vac2.day0vs31.de.genes html
vac2.day0vs56.de.genes html
writeGMT html
write_simple_table html
** building package indices
** installing vignettes
** testing if installed package can be loaded from temporary location
** testing if installed package can be loaded from final location
** testing if installed package keeps a record of temporary installation path
install for x64
* installing *source* package 'RITAN' ...
** testing if installed package can be loaded
* MD5 sums
packaged installation of 'RITAN' as RITAN_1.8.0.zip
* DONE (RITAN)