| Back to Multiple platform build/check report for BioC 3.9 |
|
This page was generated on 2019-04-09 12:33:34 -0400 (Tue, 09 Apr 2019).
| Package 1680/1703 | Hostname | OS / Arch | INSTALL | BUILD | CHECK | BUILD BIN | ||||||
| vulcan 1.5.0 Federico M. Giorgi
| malbec2 | Linux (Ubuntu 18.04.2 LTS) / x86_64 | OK | OK | OK | |||||||
| tokay2 | Windows Server 2012 R2 Standard / x64 | OK | OK | OK | [ OK ] | |||||||
| celaya2 | OS X 10.11.6 El Capitan / x86_64 | OK | OK | OK | OK | |||||||
| merida2 | OS X 10.11.6 El Capitan / x86_64 | OK | OK | OK | OK |
| Package: vulcan |
| Version: 1.5.0 |
| Command: rm -rf vulcan.buildbin-libdir && mkdir vulcan.buildbin-libdir && C:\Users\biocbuild\bbs-3.9-bioc\R\bin\R.exe CMD INSTALL --merge-multiarch --build --library=vulcan.buildbin-libdir vulcan_1.5.0.tar.gz |
| StartedAt: 2019-04-09 09:10:49 -0400 (Tue, 09 Apr 2019) |
| EndedAt: 2019-04-09 09:12:24 -0400 (Tue, 09 Apr 2019) |
| EllapsedTime: 94.7 seconds |
| RetCode: 0 |
| Status: OK |
| PackageFile: vulcan_1.5.0.zip |
| PackageFileSize: 306.4 KiB |
##############################################################################
##############################################################################
###
### Running command:
###
### rm -rf vulcan.buildbin-libdir && mkdir vulcan.buildbin-libdir && C:\Users\biocbuild\bbs-3.9-bioc\R\bin\R.exe CMD INSTALL --merge-multiarch --build --library=vulcan.buildbin-libdir vulcan_1.5.0.tar.gz
###
##############################################################################
##############################################################################
install for i386
* installing *source* package 'vulcan' ...
** R
** inst
** byte-compile and prepare package for lazy loading
** help
*** installing help indices
converting help for package 'vulcan'
finding HTML links ... done
average_fragment_length html
corr2p html
densityauc html
dpareto html
fisherp html
gsea html
kmgformat html
null_gsea html
p2corr html
p2z html
pareto.fit html
plot_gsea html
ppareto html
rea html
slice html
stouffer html
textplot2 html
val2col html
vulcan html
vulcan.annotate html
vulcan.import html
vulcan.normalize html
vulcan.pathways html
wstouffer html
z2p html
** building package indices
** installing vignettes
** testing if installed package can be loaded from temporary location
** testing if installed package can be loaded from final location
** testing if installed package keeps a record of temporary installation path
install for x64
* installing *source* package 'vulcan' ...
** testing if installed package can be loaded
* MD5 sums
packaged installation of 'vulcan' as vulcan_1.5.0.zip
* DONE (vulcan)