| Back to Multiple platform build/check report for BioC 3.9 |
|
This page was generated on 2019-04-09 13:35:51 -0400 (Tue, 09 Apr 2019).
| Package 1680/1703 | Hostname | OS / Arch | INSTALL | BUILD | CHECK | BUILD BIN | ||||||
| vulcan 1.5.0 Federico M. Giorgi
| malbec2 | Linux (Ubuntu 18.04.2 LTS) / x86_64 | OK | OK | OK | |||||||
| tokay2 | Windows Server 2012 R2 Standard / x64 | OK | OK | OK | OK | |||||||
| celaya2 | OS X 10.11.6 El Capitan / x86_64 | OK | OK | OK | OK | |||||||
| merida2 | OS X 10.11.6 El Capitan / x86_64 | OK | OK | [ OK ] | OK |
| Package: vulcan |
| Version: 1.5.0 |
| Command: /Library/Frameworks/R.framework/Versions/Current/Resources/bin/R CMD check --install=check:vulcan.install-out.txt --library=/Library/Frameworks/R.framework/Versions/Current/Resources/library --no-vignettes --timings vulcan_1.5.0.tar.gz |
| StartedAt: 2019-04-09 04:22:34 -0400 (Tue, 09 Apr 2019) |
| EndedAt: 2019-04-09 04:28:44 -0400 (Tue, 09 Apr 2019) |
| EllapsedTime: 370.0 seconds |
| RetCode: 0 |
| Status: OK |
| CheckDir: vulcan.Rcheck |
| Warnings: 0 |
##############################################################################
##############################################################################
###
### Running command:
###
### /Library/Frameworks/R.framework/Versions/Current/Resources/bin/R CMD check --install=check:vulcan.install-out.txt --library=/Library/Frameworks/R.framework/Versions/Current/Resources/library --no-vignettes --timings vulcan_1.5.0.tar.gz
###
##############################################################################
##############################################################################
* using log directory ‘/Users/biocbuild/bbs-3.9-bioc/meat/vulcan.Rcheck’
* using R Under development (unstable) (2018-11-27 r75683)
* using platform: x86_64-apple-darwin15.6.0 (64-bit)
* using session charset: UTF-8
* using option ‘--no-vignettes’
* checking for file ‘vulcan/DESCRIPTION’ ... OK
* checking extension type ... Package
* this is package ‘vulcan’ version ‘1.5.0’
* package encoding: UTF-8
* checking package namespace information ... OK
* checking package dependencies ... NOTE
Depends: includes the non-default packages:
'ChIPpeakAnno', 'TxDb.Hsapiens.UCSC.hg19.knownGene', 'zoo',
'GenomicRanges', 'S4Vectors', 'viper', 'DiffBind', 'locfit'
Adding so many packages to the search path is excessive and importing
selectively is preferable.
* checking if this is a source package ... OK
* checking if there is a namespace ... OK
* checking for hidden files and directories ... OK
* checking for portable file names ... OK
* checking for sufficient/correct file permissions ... OK
* checking whether package ‘vulcan’ can be installed ... OK
* checking installed package size ... OK
* checking package directory ... OK
* checking ‘build’ directory ... OK
* checking DESCRIPTION meta-information ... OK
* checking top-level files ... OK
* checking for left-over files ... OK
* checking index information ... OK
* checking package subdirectories ... OK
* checking R files for non-ASCII characters ... OK
* checking R files for syntax errors ... OK
* checking whether the package can be loaded ... OK
* checking whether the package can be loaded with stated dependencies ... OK
* checking whether the package can be unloaded cleanly ... OK
* checking whether the namespace can be loaded with stated dependencies ... OK
* checking whether the namespace can be unloaded cleanly ... OK
* checking dependencies in R code ... OK
* checking S3 generic/method consistency ... OK
* checking replacement functions ... OK
* checking foreign function calls ... OK
* checking R code for possible problems ... OK
* checking Rd files ... OK
* checking Rd metadata ... OK
* checking Rd cross-references ... OK
* checking for missing documentation entries ... OK
* checking for code/documentation mismatches ... OK
* checking Rd \usage sections ... OK
* checking Rd contents ... OK
* checking for unstated dependencies in examples ... OK
* checking sizes of PDF files under ‘inst/doc’ ... OK
* checking files in ‘vignettes’ ... OK
* checking examples ... OK
Examples with CPU or elapsed time > 5s
user system elapsed
average_fragment_length 4.898 0.227 5.14
* checking for unstated dependencies in vignettes ... OK
* checking package vignettes in ‘inst/doc’ ... OK
* checking running R code from vignettes ... SKIPPED
* checking re-building of vignette outputs ... SKIPPED
* checking PDF version of manual ... OK
* DONE
Status: 1 NOTE
See
‘/Users/biocbuild/bbs-3.9-bioc/meat/vulcan.Rcheck/00check.log’
for details.
vulcan.Rcheck/00install.out
############################################################################## ############################################################################## ### ### Running command: ### ### /Library/Frameworks/R.framework/Versions/Current/Resources/bin/R CMD INSTALL vulcan ### ############################################################################## ############################################################################## * installing to library ‘/Library/Frameworks/R.framework/Versions/3.6/Resources/library’ * installing *source* package ‘vulcan’ ... ** R ** inst ** byte-compile and prepare package for lazy loading ** help *** installing help indices ** building package indices ** installing vignettes ** testing if installed package can be loaded * DONE (vulcan)
vulcan.Rcheck/vulcan-Ex.timings
| name | user | system | elapsed | |
| average_fragment_length | 4.898 | 0.227 | 5.140 | |
| corr2p | 0.002 | 0.000 | 0.002 | |
| densityauc | 0.030 | 0.005 | 0.036 | |
| dpareto | 0.003 | 0.000 | 0.004 | |
| fisherp | 0 | 0 | 0 | |
| gsea | 0.960 | 0.054 | 1.015 | |
| kmgformat | 0.011 | 0.002 | 0.014 | |
| null_gsea | 0.036 | 0.004 | 0.040 | |
| p2corr | 0.000 | 0.001 | 0.000 | |
| p2z | 0 | 0 | 0 | |
| pareto.fit | 0.006 | 0.001 | 0.008 | |
| plot_gsea | 0.041 | 0.004 | 0.047 | |
| ppareto | 0.004 | 0.001 | 0.005 | |
| rea | 0.003 | 0.001 | 0.004 | |
| slice | 0.000 | 0.000 | 0.001 | |
| stouffer | 0.000 | 0.001 | 0.000 | |
| textplot2 | 0.215 | 0.013 | 0.228 | |
| val2col | 0.004 | 0.000 | 0.005 | |
| vulcan | 3.354 | 0.205 | 3.565 | |
| vulcan.annotate | 1.680 | 0.087 | 1.768 | |
| vulcan.import | 0.025 | 0.003 | 0.028 | |
| vulcan.normalize | 0.000 | 0.000 | 0.001 | |
| vulcan.pathways | 2.237 | 0.099 | 2.336 | |
| wstouffer | 0 | 0 | 0 | |
| z2p | 0.001 | 0.000 | 0.000 | |