| Back to Multiple platform build/check report for BioC 3.9 |
|
This page was generated on 2019-04-09 13:34:22 -0400 (Tue, 09 Apr 2019).
| Package 1282/1703 | Hostname | OS / Arch | INSTALL | BUILD | CHECK | BUILD BIN | ||||||
| ramwas 1.7.2 Andrey A Shabalin
| malbec2 | Linux (Ubuntu 18.04.2 LTS) / x86_64 | OK | OK | OK | |||||||
| tokay2 | Windows Server 2012 R2 Standard / x64 | OK | OK | OK | OK | |||||||
| celaya2 | OS X 10.11.6 El Capitan / x86_64 | OK | OK | OK | OK | |||||||
| merida2 | OS X 10.11.6 El Capitan / x86_64 | OK | OK | [ OK ] | OK |
| Package: ramwas |
| Version: 1.7.2 |
| Command: /Library/Frameworks/R.framework/Versions/Current/Resources/bin/R CMD check --install=check:ramwas.install-out.txt --library=/Library/Frameworks/R.framework/Versions/Current/Resources/library --no-vignettes --timings ramwas_1.7.2.tar.gz |
| StartedAt: 2019-04-09 03:09:40 -0400 (Tue, 09 Apr 2019) |
| EndedAt: 2019-04-09 03:13:34 -0400 (Tue, 09 Apr 2019) |
| EllapsedTime: 234.1 seconds |
| RetCode: 0 |
| Status: OK |
| CheckDir: ramwas.Rcheck |
| Warnings: 0 |
##############################################################################
##############################################################################
###
### Running command:
###
### /Library/Frameworks/R.framework/Versions/Current/Resources/bin/R CMD check --install=check:ramwas.install-out.txt --library=/Library/Frameworks/R.framework/Versions/Current/Resources/library --no-vignettes --timings ramwas_1.7.2.tar.gz
###
##############################################################################
##############################################################################
* using log directory ‘/Users/biocbuild/bbs-3.9-bioc/meat/ramwas.Rcheck’
* using R Under development (unstable) (2018-11-27 r75683)
* using platform: x86_64-apple-darwin15.6.0 (64-bit)
* using session charset: UTF-8
* using option ‘--no-vignettes’
* checking for file ‘ramwas/DESCRIPTION’ ... OK
* checking extension type ... Package
* this is package ‘ramwas’ version ‘1.7.2’
* checking package namespace information ... OK
* checking package dependencies ... OK
* checking if this is a source package ... OK
* checking if there is a namespace ... OK
* checking for hidden files and directories ... OK
* checking for portable file names ... OK
* checking for sufficient/correct file permissions ... OK
* checking whether package ‘ramwas’ can be installed ... OK
* checking installed package size ... OK
* checking package directory ... OK
* checking ‘build’ directory ... OK
* checking DESCRIPTION meta-information ... OK
* checking top-level files ... OK
* checking for left-over files ... OK
* checking index information ... OK
* checking package subdirectories ... OK
* checking R files for non-ASCII characters ... OK
* checking R files for syntax errors ... OK
* checking whether the package can be loaded ... OK
* checking whether the package can be loaded with stated dependencies ... OK
* checking whether the package can be unloaded cleanly ... OK
* checking whether the namespace can be loaded with stated dependencies ... OK
* checking whether the namespace can be unloaded cleanly ... OK
* checking dependencies in R code ... OK
* checking S3 generic/method consistency ... OK
* checking replacement functions ... OK
* checking foreign function calls ... OK
* checking R code for possible problems ... OK
* checking Rd files ... OK
* checking Rd metadata ... OK
* checking Rd cross-references ... OK
* checking for missing documentation entries ... OK
* checking for code/documentation mismatches ... OK
* checking Rd \usage sections ... OK
* checking Rd contents ... OK
* checking for unstated dependencies in examples ... OK
* checking line endings in C/C++/Fortran sources/headers ... OK
* checking compiled code ... NOTE
Note: information on .o files is not available
* checking files in ‘vignettes’ ... OK
* checking examples ... OK
Examples with CPU or elapsed time > 5s
user system elapsed
manhattan 7.592 0.803 8.446
* checking for unstated dependencies in vignettes ... OK
* checking package vignettes in ‘inst/doc’ ... OK
* checking running R code from vignettes ... SKIPPED
* checking re-building of vignette outputs ... SKIPPED
* checking PDF version of manual ... OK
* DONE
Status: 1 NOTE
See
‘/Users/biocbuild/bbs-3.9-bioc/meat/ramwas.Rcheck/00check.log’
for details.
ramwas.Rcheck/00install.out
############################################################################## ############################################################################## ### ### Running command: ### ### /Library/Frameworks/R.framework/Versions/Current/Resources/bin/R CMD INSTALL ramwas ### ############################################################################## ############################################################################## * installing to library ‘/Library/Frameworks/R.framework/Versions/3.6/Resources/library’ * installing *source* package ‘ramwas’ ... ** libs clang -I"/Library/Frameworks/R.framework/Resources/include" -DNDEBUG -I/usr/local/include -fPIC -Wall -g -O2 -c rw_c_code.c -o rw_c_code.o clang -dynamiclib -Wl,-headerpad_max_install_names -undefined dynamic_lookup -single_module -multiply_defined suppress -L/Library/Frameworks/R.framework/Resources/lib -L/usr/local/lib -o ramwas.so rw_c_code.o -F/Library/Frameworks/R.framework/.. -framework R -Wl,-framework -Wl,CoreFoundation installing to /Library/Frameworks/R.framework/Versions/3.6/Resources/library/ramwas/libs ** R ** inst ** byte-compile and prepare package for lazy loading ** help *** installing help indices *** copying figures ** building package indices ** installing vignettes ** testing if installed package can be loaded * DONE (ramwas)
ramwas.Rcheck/ramwas-Ex.timings
| name | user | system | elapsed | |
| MakeBED | 0 | 0 | 0 | |
| QCs | 0.036 | 0.003 | 0.040 | |
| cachedRDSload | 1.065 | 0.002 | 1.083 | |
| findBestNpvs | 0.002 | 0.000 | 0.002 | |
| get | 0.001 | 0.000 | 0.001 | |
| getCpGset | 3.226 | 0.209 | 3.472 | |
| injectSNPsMAF | 0.605 | 0.006 | 0.612 | |
| insilicoFASTQ | 0.001 | 0.000 | 0.001 | |
| isAbsolutePath | 0.000 | 0.000 | 0.001 | |
| makefullpath | 0.001 | 0.000 | 0.000 | |
| manhattan | 7.592 | 0.803 | 8.446 | |
| mat2cols | 0.000 | 0.001 | 0.001 | |
| orthonormalizeCovariates | 0.008 | 0.000 | 0.009 | |
| parameterDump | 0.003 | 0.001 | 0.003 | |
| parameterPreprocess | 0.010 | 0.008 | 0.018 | |
| parametersFromFile | 0.001 | 0.001 | 0.002 | |
| pipeline | 0.003 | 0.000 | 0.004 | |
| plotCV | 0.209 | 0.014 | 0.231 | |
| plotFragmentSizeDistributionEstimate | 0.034 | 0.001 | 0.035 | |
| plotPC | 0.008 | 0.002 | 0.010 | |
| processCommandLine | 0.001 | 0.001 | 0.002 | |
| pvalue2qvalue | 0.001 | 0.000 | 0.000 | |
| qqplotFast | 0.766 | 0.191 | 0.966 | |
| ramwas0createArtificialData | 0.300 | 0.041 | 0.343 | |
| ramwasAnnotateLocations | 0.001 | 0.000 | 0.001 | |
| ramwasParameters | 0.000 | 0.000 | 0.001 | |
| rowcolSumSq | 0.001 | 0.000 | 0.001 | |
| rwDataClass-class | 0.047 | 0.000 | 0.048 | |
| subsetData | 0 | 0 | 0 | |
| testPhenotype | 0.026 | 0.002 | 0.028 | |