| Back to Multiple platform build/check report for BioC 3.9 |
|
This page was generated on 2019-04-09 11:47:11 -0400 (Tue, 09 Apr 2019).
| Package 1282/1703 | Hostname | OS / Arch | INSTALL | BUILD | CHECK | BUILD BIN | ||||||
| ramwas 1.7.2 Andrey A Shabalin
| malbec2 | Linux (Ubuntu 18.04.2 LTS) / x86_64 | OK | OK | [ OK ] | |||||||
| tokay2 | Windows Server 2012 R2 Standard / x64 | OK | OK | OK | OK | |||||||
| celaya2 | OS X 10.11.6 El Capitan / x86_64 | OK | OK | OK | OK | |||||||
| merida2 | OS X 10.11.6 El Capitan / x86_64 | OK | OK | OK | OK |
| Package: ramwas |
| Version: 1.7.2 |
| Command: /home/biocbuild/bbs-3.9-bioc/R/bin/R CMD check --install=check:ramwas.install-out.txt --library=/home/biocbuild/bbs-3.9-bioc/R/library --no-vignettes --timings ramwas_1.7.2.tar.gz |
| StartedAt: 2019-04-09 03:00:00 -0400 (Tue, 09 Apr 2019) |
| EndedAt: 2019-04-09 03:03:49 -0400 (Tue, 09 Apr 2019) |
| EllapsedTime: 228.5 seconds |
| RetCode: 0 |
| Status: OK |
| CheckDir: ramwas.Rcheck |
| Warnings: 0 |
##############################################################################
##############################################################################
###
### Running command:
###
### /home/biocbuild/bbs-3.9-bioc/R/bin/R CMD check --install=check:ramwas.install-out.txt --library=/home/biocbuild/bbs-3.9-bioc/R/library --no-vignettes --timings ramwas_1.7.2.tar.gz
###
##############################################################################
##############################################################################
* using log directory ‘/home/biocbuild/bbs-3.9-bioc/meat/ramwas.Rcheck’
* using R Under development (unstable) (2019-03-18 r76245)
* using platform: x86_64-pc-linux-gnu (64-bit)
* using session charset: UTF-8
* using option ‘--no-vignettes’
* checking for file ‘ramwas/DESCRIPTION’ ... OK
* checking extension type ... Package
* this is package ‘ramwas’ version ‘1.7.2’
* checking package namespace information ... OK
* checking package dependencies ... OK
* checking if this is a source package ... OK
* checking if there is a namespace ... OK
* checking for hidden files and directories ... OK
* checking for portable file names ... OK
* checking for sufficient/correct file permissions ... OK
* checking whether package ‘ramwas’ can be installed ... OK
* checking installed package size ... OK
* checking package directory ... OK
* checking ‘build’ directory ... OK
* checking DESCRIPTION meta-information ... OK
* checking top-level files ... OK
* checking for left-over files ... OK
* checking index information ... OK
* checking package subdirectories ... OK
* checking R files for non-ASCII characters ... OK
* checking R files for syntax errors ... OK
* checking whether the package can be loaded ... OK
* checking whether the package can be loaded with stated dependencies ... OK
* checking whether the package can be unloaded cleanly ... OK
* checking whether the namespace can be loaded with stated dependencies ... OK
* checking whether the namespace can be unloaded cleanly ... OK
* checking dependencies in R code ... OK
* checking S3 generic/method consistency ... OK
* checking replacement functions ... OK
* checking foreign function calls ... OK
* checking R code for possible problems ... OK
* checking Rd files ... OK
* checking Rd metadata ... OK
* checking Rd cross-references ... OK
* checking for missing documentation entries ... OK
* checking for code/documentation mismatches ... OK
* checking Rd \usage sections ... OK
* checking Rd contents ... OK
* checking for unstated dependencies in examples ... OK
* checking line endings in C/C++/Fortran sources/headers ... OK
* checking compiled code ... NOTE
Note: information on .o files is not available
* checking files in ‘vignettes’ ... OK
* checking examples ... OK
Examples with CPU or elapsed time > 5s
user system elapsed
manhattan 8.903 0.566 9.677
getCpGset 3.986 0.132 5.368
* checking for unstated dependencies in vignettes ... OK
* checking package vignettes in ‘inst/doc’ ... OK
* checking running R code from vignettes ... SKIPPED
* checking re-building of vignette outputs ... SKIPPED
* checking PDF version of manual ... OK
* DONE
Status: 1 NOTE
See
‘/home/biocbuild/bbs-3.9-bioc/meat/ramwas.Rcheck/00check.log’
for details.
ramwas.Rcheck/00install.out
############################################################################## ############################################################################## ### ### Running command: ### ### /home/biocbuild/bbs-3.9-bioc/R/bin/R CMD INSTALL ramwas ### ############################################################################## ############################################################################## * installing to library ‘/home/biocbuild/bbs-3.9-bioc/R/library’ * installing *source* package ‘ramwas’ ... ** using staged installation ** libs gcc -I"/home/biocbuild/bbs-3.9-bioc/R/include" -DNDEBUG -I/usr/local/include -fpic -g -O2 -Wall -c rw_c_code.c -o rw_c_code.o gcc -shared -L/home/biocbuild/bbs-3.9-bioc/R/lib -L/usr/local/lib -o ramwas.so rw_c_code.o -L/home/biocbuild/bbs-3.9-bioc/R/lib -lR installing to /home/biocbuild/bbs-3.9-bioc/R/library/00LOCK-ramwas/00new/ramwas/libs ** R ** inst ** byte-compile and prepare package for lazy loading ** help *** installing help indices *** copying figures ** building package indices ** installing vignettes ** testing if installed package can be loaded from temporary location ** checking absolute paths in shared objects and dynamic libraries ** testing if installed package can be loaded from final location ** testing if installed package keeps a record of temporary installation path * DONE (ramwas)
ramwas.Rcheck/ramwas-Ex.timings
| name | user | system | elapsed | |
| MakeBED | 0 | 0 | 0 | |
| QCs | 0.038 | 0.004 | 0.129 | |
| cachedRDSload | 1.227 | 0.003 | 1.299 | |
| findBestNpvs | 0.002 | 0.000 | 0.002 | |
| get | 0.001 | 0.000 | 0.001 | |
| getCpGset | 3.986 | 0.132 | 5.368 | |
| injectSNPsMAF | 0.714 | 0.000 | 0.718 | |
| insilicoFASTQ | 0.002 | 0.000 | 0.002 | |
| isAbsolutePath | 0 | 0 | 0 | |
| makefullpath | 0.000 | 0.000 | 0.001 | |
| manhattan | 8.903 | 0.566 | 9.677 | |
| mat2cols | 0.001 | 0.000 | 0.001 | |
| orthonormalizeCovariates | 0.011 | 0.000 | 0.012 | |
| parameterDump | 0.000 | 0.003 | 0.003 | |
| parameterPreprocess | 0.006 | 0.064 | 0.106 | |
| parametersFromFile | 0.002 | 0.000 | 0.001 | |
| pipeline | 0.002 | 0.000 | 0.002 | |
| plotCV | 0.265 | 0.007 | 0.299 | |
| plotFragmentSizeDistributionEstimate | 0.041 | 0.000 | 0.041 | |
| plotPC | 0.008 | 0.000 | 0.019 | |
| processCommandLine | 0.001 | 0.001 | 0.001 | |
| pvalue2qvalue | 0.001 | 0.000 | 0.000 | |
| qqplotFast | 0.878 | 0.151 | 1.040 | |
| ramwas0createArtificialData | 0.289 | 0.020 | 0.309 | |
| ramwasAnnotateLocations | 0.000 | 0.001 | 0.001 | |
| ramwasParameters | 0.000 | 0.001 | 0.000 | |
| rowcolSumSq | 0.000 | 0.001 | 0.001 | |
| rwDataClass-class | 0.045 | 0.004 | 0.050 | |
| subsetData | 0 | 0 | 0 | |
| testPhenotype | 0.014 | 0.008 | 0.021 | |