| Back to Multiple platform build/check report for BioC 3.9 |
|
This page was generated on 2019-04-09 11:53:33 -0400 (Tue, 09 Apr 2019).
| Package 475/1703 | Hostname | OS / Arch | INSTALL | BUILD | CHECK | BUILD BIN | ||||||
| ecolitk 1.55.0 Laurent Gautier
| malbec2 | Linux (Ubuntu 18.04.2 LTS) / x86_64 | OK | OK | WARNINGS | |||||||
| tokay2 | Windows Server 2012 R2 Standard / x64 | OK | OK | WARNINGS | [ OK ] | |||||||
| celaya2 | OS X 10.11.6 El Capitan / x86_64 | OK | OK | WARNINGS | OK | |||||||
| merida2 | OS X 10.11.6 El Capitan / x86_64 | OK | OK | WARNINGS | OK |
| Package: ecolitk |
| Version: 1.55.0 |
| Command: rm -rf ecolitk.buildbin-libdir && mkdir ecolitk.buildbin-libdir && C:\Users\biocbuild\bbs-3.9-bioc\R\bin\R.exe CMD INSTALL --merge-multiarch --build --library=ecolitk.buildbin-libdir ecolitk_1.55.0.tar.gz |
| StartedAt: 2019-04-09 07:50:19 -0400 (Tue, 09 Apr 2019) |
| EndedAt: 2019-04-09 07:51:02 -0400 (Tue, 09 Apr 2019) |
| EllapsedTime: 43.3 seconds |
| RetCode: 0 |
| Status: OK |
| PackageFile: ecolitk_1.55.0.zip |
| PackageFileSize: 1.779 MiB |
##############################################################################
##############################################################################
###
### Running command:
###
### rm -rf ecolitk.buildbin-libdir && mkdir ecolitk.buildbin-libdir && C:\Users\biocbuild\bbs-3.9-bioc\R\bin\R.exe CMD INSTALL --merge-multiarch --build --library=ecolitk.buildbin-libdir ecolitk_1.55.0.tar.gz
###
##############################################################################
##############################################################################
install for i386
* installing *source* package 'ecolitk' ...
** R
** data
** inst
** byte-compile and prepare package for lazy loading
Note: possible error in 'strsplit(line, "\t", ': unused argument (extended = TRUE)
** help
*** installing help indices
converting help for package 'ecolitk'
finding HTML links ... done
ecoli.data html
ecoligenome.operon html
ecoligenomeBNUM html
ecoligenomeBNUM2MULTIFUN html
gccontent html
linkedmultiget html
multiFun html
pointsCircle html
polar2xy html
polygonChrom html
wstringapply html
** building package indices
** installing vignettes
** testing if installed package can be loaded from temporary location
** testing if installed package can be loaded from final location
** testing if installed package keeps a record of temporary installation path
install for x64
* installing *source* package 'ecolitk' ...
** testing if installed package can be loaded
* MD5 sums
packaged installation of 'ecolitk' as ecolitk_1.55.0.zip
* DONE (ecolitk)