| Back to Multiple platform build/check report for BioC 3.9 |
|
This page was generated on 2019-04-09 13:22:28 -0400 (Tue, 09 Apr 2019).
| Package 475/1703 | Hostname | OS / Arch | INSTALL | BUILD | CHECK | BUILD BIN | ||||||
| ecolitk 1.55.0 Laurent Gautier
| malbec2 | Linux (Ubuntu 18.04.2 LTS) / x86_64 | OK | OK | WARNINGS | |||||||
| tokay2 | Windows Server 2012 R2 Standard / x64 | OK | OK | WARNINGS | OK | |||||||
| celaya2 | OS X 10.11.6 El Capitan / x86_64 | OK | OK | WARNINGS | OK | |||||||
| merida2 | OS X 10.11.6 El Capitan / x86_64 | OK | OK | WARNINGS | [ OK ] |
| Package: ecolitk |
| Version: 1.55.0 |
| Command: rm -rf ecolitk.buildbin-libdir && mkdir ecolitk.buildbin-libdir && /Users/biocbuild/BBS/utils/build-universal.sh ecolitk_1.55.0.tar.gz /Library/Frameworks/R.framework/Versions/Current/Resources/bin/R ecolitk.buildbin-libdir |
| StartedAt: 2019-04-09 05:14:02 -0400 (Tue, 09 Apr 2019) |
| EndedAt: 2019-04-09 05:15:20 -0400 (Tue, 09 Apr 2019) |
| EllapsedTime: 77.7 seconds |
| RetCode: 0 |
| Status: OK |
| PackageFile: ecolitk_1.55.0.tgz |
| PackageFileSize: 1.768 MiB |
############################################################################## ############################################################################## ### ### Running command: ### ### rm -rf ecolitk.buildbin-libdir && mkdir ecolitk.buildbin-libdir && /Users/biocbuild/BBS/utils/build-universal.sh ecolitk_1.55.0.tar.gz /Library/Frameworks/R.framework/Versions/Current/Resources/bin/R ecolitk.buildbin-libdir ### ############################################################################## ############################################################################## >>>>>>> >>>>>>> INSTALLATION WITH 'R CMD INSTALL --preclean --no-multiarch --library=ecolitk.buildbin-libdir ecolitk_1.55.0.tar.gz' >>>>>>> * installing *source* package ‘ecolitk’ ... ** R ** data ** inst ** byte-compile and prepare package for lazy loading Note: possible error in 'strsplit(line, "\t", ': unused argument (extended = TRUE) ** help *** installing help indices ** building package indices ** installing vignettes ** testing if installed package can be loaded * DONE (ecolitk)