| Back to Multiple platform build/check report for BioC 3.9 |
|
This page was generated on 2019-04-09 12:30:58 -0400 (Tue, 09 Apr 2019).
| Package 168/1703 | Hostname | OS / Arch | INSTALL | BUILD | CHECK | BUILD BIN | ||||||
| biotmle 1.7.2 Nima Hejazi
| malbec2 | Linux (Ubuntu 18.04.2 LTS) / x86_64 | OK | OK | OK | |||||||
| tokay2 | Windows Server 2012 R2 Standard / x64 | OK | OK | OK | [ OK ] | |||||||
| celaya2 | OS X 10.11.6 El Capitan / x86_64 | OK | OK | OK | OK | |||||||
| merida2 | OS X 10.11.6 El Capitan / x86_64 | OK | OK | OK | OK |
| Package: biotmle |
| Version: 1.7.2 |
| Command: rm -rf biotmle.buildbin-libdir && mkdir biotmle.buildbin-libdir && C:\Users\biocbuild\bbs-3.9-bioc\R\bin\R.exe CMD INSTALL --merge-multiarch --build --library=biotmle.buildbin-libdir biotmle_1.7.2.tar.gz |
| StartedAt: 2019-04-09 07:31:40 -0400 (Tue, 09 Apr 2019) |
| EndedAt: 2019-04-09 07:32:10 -0400 (Tue, 09 Apr 2019) |
| EllapsedTime: 30.0 seconds |
| RetCode: 0 |
| Status: OK |
| PackageFile: biotmle_1.7.2.zip |
| PackageFileSize: 695 KiB |
##############################################################################
##############################################################################
###
### Running command:
###
### rm -rf biotmle.buildbin-libdir && mkdir biotmle.buildbin-libdir && C:\Users\biocbuild\bbs-3.9-bioc\R\bin\R.exe CMD INSTALL --merge-multiarch --build --library=biotmle.buildbin-libdir biotmle_1.7.2.tar.gz
###
##############################################################################
##############################################################################
install for i386
* installing *source* package 'biotmle' ...
** R
** inst
** byte-compile and prepare package for lazy loading
** help
*** installing help indices
converting help for package 'biotmle'
finding HTML links ... done
bioTMLE-class html
biomarkerTMLE_exposure html
biomarkertmle html
data.frame_OR_EList-class html
eif html
heatmap_ic html
modtest_ic html
plot.bioTMLE html
rnaseq_ic html
toptable html
volcano_ic html
** building package indices
** installing vignettes
** testing if installed package can be loaded from temporary location
** testing if installed package can be loaded from final location
** testing if installed package keeps a record of temporary installation path
install for x64
* installing *source* package 'biotmle' ...
** testing if installed package can be loaded
* MD5 sums
packaged installation of 'biotmle' as biotmle_1.7.2.zip
* DONE (biotmle)