| Back to Multiple platform build/check report for BioC 3.9 |
|
This page was generated on 2019-04-09 11:47:58 -0400 (Tue, 09 Apr 2019).
| Package 168/1703 | Hostname | OS / Arch | INSTALL | BUILD | CHECK | BUILD BIN | ||||||
| biotmle 1.7.2 Nima Hejazi
| malbec2 | Linux (Ubuntu 18.04.2 LTS) / x86_64 | OK | OK | [ OK ] | |||||||
| tokay2 | Windows Server 2012 R2 Standard / x64 | OK | OK | OK | OK | |||||||
| celaya2 | OS X 10.11.6 El Capitan / x86_64 | OK | OK | OK | OK | |||||||
| merida2 | OS X 10.11.6 El Capitan / x86_64 | OK | OK | OK | OK |
| Package: biotmle |
| Version: 1.7.2 |
| Command: /home/biocbuild/bbs-3.9-bioc/R/bin/R CMD check --install=check:biotmle.install-out.txt --library=/home/biocbuild/bbs-3.9-bioc/R/library --no-vignettes --timings biotmle_1.7.2.tar.gz |
| StartedAt: 2019-04-08 23:05:08 -0400 (Mon, 08 Apr 2019) |
| EndedAt: 2019-04-08 23:07:58 -0400 (Mon, 08 Apr 2019) |
| EllapsedTime: 169.7 seconds |
| RetCode: 0 |
| Status: OK |
| CheckDir: biotmle.Rcheck |
| Warnings: 0 |
##############################################################################
##############################################################################
###
### Running command:
###
### /home/biocbuild/bbs-3.9-bioc/R/bin/R CMD check --install=check:biotmle.install-out.txt --library=/home/biocbuild/bbs-3.9-bioc/R/library --no-vignettes --timings biotmle_1.7.2.tar.gz
###
##############################################################################
##############################################################################
* using log directory ‘/home/biocbuild/bbs-3.9-bioc/meat/biotmle.Rcheck’
* using R Under development (unstable) (2019-03-18 r76245)
* using platform: x86_64-pc-linux-gnu (64-bit)
* using session charset: UTF-8
* using option ‘--no-vignettes’
* checking for file ‘biotmle/DESCRIPTION’ ... OK
* this is package ‘biotmle’ version ‘1.7.2’
* package encoding: UTF-8
* checking package namespace information ... OK
* checking package dependencies ... OK
* checking if this is a source package ... OK
* checking if there is a namespace ... OK
* checking for hidden files and directories ... OK
* checking for portable file names ... OK
* checking for sufficient/correct file permissions ... OK
* checking whether package ‘biotmle’ can be installed ... OK
* checking installed package size ... OK
* checking package directory ... OK
* checking ‘build’ directory ... OK
* checking DESCRIPTION meta-information ... OK
* checking top-level files ... OK
* checking for left-over files ... OK
* checking index information ... OK
* checking package subdirectories ... OK
* checking R files for non-ASCII characters ... OK
* checking R files for syntax errors ... OK
* checking whether the package can be loaded ... OK
* checking whether the package can be loaded with stated dependencies ... OK
* checking whether the package can be unloaded cleanly ... OK
* checking whether the namespace can be loaded with stated dependencies ... OK
* checking whether the namespace can be unloaded cleanly ... OK
* checking dependencies in R code ... OK
* checking S3 generic/method consistency ... OK
* checking replacement functions ... OK
* checking foreign function calls ... OK
* checking R code for possible problems ... OK
* checking Rd files ... OK
* checking Rd metadata ... OK
* checking Rd cross-references ... OK
* checking for missing documentation entries ... OK
* checking for code/documentation mismatches ... OK
* checking Rd \usage sections ... OK
* checking Rd contents ... OK
* checking for unstated dependencies in examples ... OK
* checking files in ‘vignettes’ ... OK
* checking examples ... OK
Examples with CPU or elapsed time > 5s
user system elapsed
heatmap_ic 4.934 0.308 6.803
* checking for unstated dependencies in ‘tests’ ... OK
* checking tests ...
Running ‘testthat.R’
OK
* checking for unstated dependencies in vignettes ... OK
* checking package vignettes in ‘inst/doc’ ... OK
* checking running R code from vignettes ... SKIPPED
* checking re-building of vignette outputs ... SKIPPED
* checking PDF version of manual ... OK
* DONE
Status: OK
biotmle.Rcheck/00install.out
############################################################################## ############################################################################## ### ### Running command: ### ### /home/biocbuild/bbs-3.9-bioc/R/bin/R CMD INSTALL biotmle ### ############################################################################## ############################################################################## * installing to library ‘/home/biocbuild/bbs-3.9-bioc/R/library’ * installing *source* package ‘biotmle’ ... ** using staged installation ** R ** inst ** byte-compile and prepare package for lazy loading ** help *** installing help indices ** building package indices ** installing vignettes ** testing if installed package can be loaded from temporary location ** testing if installed package can be loaded from final location ** testing if installed package keeps a record of temporary installation path * DONE (biotmle)
biotmle.Rcheck/tests/testthat.Rout
R Under development (unstable) (2019-03-18 r76245) -- "Unsuffered Consequences"
Copyright (C) 2019 The R Foundation for Statistical Computing
Platform: x86_64-pc-linux-gnu (64-bit)
R is free software and comes with ABSOLUTELY NO WARRANTY.
You are welcome to redistribute it under certain conditions.
Type 'license()' or 'licence()' for distribution details.
R is a collaborative project with many contributors.
Type 'contributors()' for more information and
'citation()' on how to cite R or R packages in publications.
Type 'demo()' for some demos, 'help()' for on-line help, or
'help.start()' for an HTML browser interface to help.
Type 'q()' to quit R.
> library(testthat)
> library(biotmle)
biotmle v1.7.2: Targeted Learning with Moderated Statistics for Biomarker Discovery
>
> test_check("biotmle")
══ testthat results ═══════════════════════════════════════════════════════════
OK: 15 SKIPPED: 0 FAILED: 0
>
> proc.time()
user system elapsed
22.218 0.754 22.954
biotmle.Rcheck/biotmle-Ex.timings
| name | user | system | elapsed | |
| bioTMLE-class | 1.785 | 0.067 | 2.171 | |
| biomarkertmle | 2.105 | 0.314 | 2.417 | |
| heatmap_ic | 4.934 | 0.308 | 6.803 | |
| modtest_ic | 1.70 | 0.06 | 1.76 | |
| plot.bioTMLE | 1.883 | 0.032 | 1.915 | |
| volcano_ic | 2.361 | 0.096 | 2.457 | |