| Back to Multiple platform build/check report for BioC 3.9 |
|
This page was generated on 2019-04-09 12:15:43 -0400 (Tue, 09 Apr 2019).
| Package 167/1703 | Hostname | OS / Arch | INSTALL | BUILD | CHECK | BUILD BIN | ||||||
| biosvd 2.19.0 Anneleen Daemen
| malbec2 | Linux (Ubuntu 18.04.2 LTS) / x86_64 | OK | OK | OK | |||||||
| tokay2 | Windows Server 2012 R2 Standard / x64 | [ OK ] | OK | OK | OK | |||||||
| celaya2 | OS X 10.11.6 El Capitan / x86_64 | OK | OK | OK | OK | |||||||
| merida2 | OS X 10.11.6 El Capitan / x86_64 | OK | OK | OK | OK |
| Package: biosvd |
| Version: 2.19.0 |
| Command: C:\cygwin\bin\curl.exe -O https://malbec2.bioconductor.org/BBS/3.9/bioc/src/contrib/biosvd_2.19.0.tar.gz && rm -rf biosvd.buildbin-libdir && mkdir biosvd.buildbin-libdir && C:\Users\biocbuild\bbs-3.9-bioc\R\bin\R.exe CMD INSTALL --merge-multiarch --build --library=biosvd.buildbin-libdir biosvd_2.19.0.tar.gz && C:\Users\biocbuild\bbs-3.9-bioc\R\bin\R.exe CMD INSTALL biosvd_2.19.0.zip && rm biosvd_2.19.0.tar.gz biosvd_2.19.0.zip |
| StartedAt: 2019-04-08 20:38:38 -0400 (Mon, 08 Apr 2019) |
| EndedAt: 2019-04-08 20:39:24 -0400 (Mon, 08 Apr 2019) |
| EllapsedTime: 46.3 seconds |
| RetCode: 0 |
| Status: OK |
##############################################################################
##############################################################################
###
### Running command:
###
### C:\cygwin\bin\curl.exe -O https://malbec2.bioconductor.org/BBS/3.9/bioc/src/contrib/biosvd_2.19.0.tar.gz && rm -rf biosvd.buildbin-libdir && mkdir biosvd.buildbin-libdir && C:\Users\biocbuild\bbs-3.9-bioc\R\bin\R.exe CMD INSTALL --merge-multiarch --build --library=biosvd.buildbin-libdir biosvd_2.19.0.tar.gz && C:\Users\biocbuild\bbs-3.9-bioc\R\bin\R.exe CMD INSTALL biosvd_2.19.0.zip && rm biosvd_2.19.0.tar.gz biosvd_2.19.0.zip
###
##############################################################################
##############################################################################
% Total % Received % Xferd Average Speed Time Time Time Current
Dload Upload Total Spent Left Speed
0 0 0 0 0 0 0 0 --:--:-- --:--:-- --:--:-- 0
100 523k 100 523k 0 0 5492k 0 --:--:-- --:--:-- --:--:-- 5882k
install for i386
* installing *source* package 'biosvd' ...
** R
** data
** inst
** byte-compile and prepare package for lazy loading
** help
*** installing help indices
converting help for package 'biosvd'
finding HTML links ... done
Eigensystem-class html
EigensystemPlotParam-class html
HeLaData html
StarvationData html
YeastData html
assayColorMap-set html
biosvd html
compute-methods html
contrast-set html
exclude-methods html
featureColorMap-set html
figure-set html
filenames-set html
negativeValues-set html
palette-set html
path-set html
plot-methods html
plots-set html
prefix-set html
project-methods html
report-methods html
whichAssays-set html
whichEigenassays-set html
whichEigenfeatures-set html
whichFeatures-set html
whichPolarAxes-set html
** building package indices
** installing vignettes
** testing if installed package can be loaded from temporary location
** testing if installed package can be loaded from final location
** testing if installed package keeps a record of temporary installation path
install for x64
* installing *source* package 'biosvd' ...
** testing if installed package can be loaded
* MD5 sums
packaged installation of 'biosvd' as biosvd_2.19.0.zip
* DONE (biosvd)
* installing to library 'C:/Users/biocbuild/bbs-3.9-bioc/R/library'
package 'biosvd' successfully unpacked and MD5 sums checked