| Back to Multiple platform build/check report for BioC 3.9 |
|
This page was generated on 2019-04-09 11:37:22 -0400 (Tue, 09 Apr 2019).
| Package 167/1703 | Hostname | OS / Arch | INSTALL | BUILD | CHECK | BUILD BIN | ||||||
| biosvd 2.19.0 Anneleen Daemen
| malbec2 | Linux (Ubuntu 18.04.2 LTS) / x86_64 | OK | OK | [ OK ] | |||||||
| tokay2 | Windows Server 2012 R2 Standard / x64 | OK | OK | OK | OK | |||||||
| celaya2 | OS X 10.11.6 El Capitan / x86_64 | OK | OK | OK | OK | |||||||
| merida2 | OS X 10.11.6 El Capitan / x86_64 | OK | OK | OK | OK |
| Package: biosvd |
| Version: 2.19.0 |
| Command: /home/biocbuild/bbs-3.9-bioc/R/bin/R CMD check --install=check:biosvd.install-out.txt --library=/home/biocbuild/bbs-3.9-bioc/R/library --no-vignettes --timings biosvd_2.19.0.tar.gz |
| StartedAt: 2019-04-08 23:05:03 -0400 (Mon, 08 Apr 2019) |
| EndedAt: 2019-04-08 23:05:57 -0400 (Mon, 08 Apr 2019) |
| EllapsedTime: 54.2 seconds |
| RetCode: 0 |
| Status: OK |
| CheckDir: biosvd.Rcheck |
| Warnings: 0 |
##############################################################################
##############################################################################
###
### Running command:
###
### /home/biocbuild/bbs-3.9-bioc/R/bin/R CMD check --install=check:biosvd.install-out.txt --library=/home/biocbuild/bbs-3.9-bioc/R/library --no-vignettes --timings biosvd_2.19.0.tar.gz
###
##############################################################################
##############################################################################
* using log directory ‘/home/biocbuild/bbs-3.9-bioc/meat/biosvd.Rcheck’
* using R Under development (unstable) (2019-03-18 r76245)
* using platform: x86_64-pc-linux-gnu (64-bit)
* using session charset: UTF-8
* using option ‘--no-vignettes’
* checking for file ‘biosvd/DESCRIPTION’ ... OK
* checking extension type ... Package
* this is package ‘biosvd’ version ‘2.19.0’
* checking package namespace information ... OK
* checking package dependencies ... OK
* checking if this is a source package ... OK
* checking if there is a namespace ... OK
* checking for hidden files and directories ... OK
* checking for portable file names ... OK
* checking for sufficient/correct file permissions ... OK
* checking whether package ‘biosvd’ can be installed ... OK
* checking installed package size ... OK
* checking package directory ... OK
* checking ‘build’ directory ... OK
* checking DESCRIPTION meta-information ... OK
* checking top-level files ... OK
* checking for left-over files ... OK
* checking index information ... OK
* checking package subdirectories ... OK
* checking R files for non-ASCII characters ... OK
* checking R files for syntax errors ... OK
* checking whether the package can be loaded ... OK
* checking whether the package can be loaded with stated dependencies ... OK
* checking whether the package can be unloaded cleanly ... OK
* checking whether the namespace can be loaded with stated dependencies ... OK
* checking whether the namespace can be unloaded cleanly ... OK
* checking dependencies in R code ... OK
* checking S3 generic/method consistency ... OK
* checking replacement functions ... OK
* checking foreign function calls ... OK
* checking R code for possible problems ... NOTE
.checkColorMaps : <anonymous>: no visible global function definition
for ‘rainbow’
plot,Eigensystem-EigensystemPlotParam: no visible global function
definition for ‘pdf’
plot,Eigensystem-EigensystemPlotParam: no visible global function
definition for ‘dev.off’
plot,Eigensystem-EigensystemPlotParam: no visible global function
definition for ‘rainbow’
Undefined global functions or variables:
dev.off pdf rainbow
Consider adding
importFrom("grDevices", "dev.off", "pdf", "rainbow")
to your NAMESPACE file.
* checking Rd files ... OK
* checking Rd metadata ... OK
* checking Rd cross-references ... OK
* checking for missing documentation entries ... OK
* checking for code/documentation mismatches ... OK
* checking Rd \usage sections ... OK
* checking Rd contents ... OK
* checking for unstated dependencies in examples ... OK
* checking contents of ‘data’ directory ... OK
* checking data for non-ASCII characters ... OK
* checking data for ASCII and uncompressed saves ... OK
* checking files in ‘vignettes’ ... OK
* checking examples ... OK
* checking for unstated dependencies in vignettes ... OK
* checking package vignettes in ‘inst/doc’ ... OK
* checking running R code from vignettes ... SKIPPED
* checking re-building of vignette outputs ... SKIPPED
* checking PDF version of manual ... OK
* DONE
Status: 1 NOTE
See
‘/home/biocbuild/bbs-3.9-bioc/meat/biosvd.Rcheck/00check.log’
for details.
biosvd.Rcheck/00install.out
############################################################################## ############################################################################## ### ### Running command: ### ### /home/biocbuild/bbs-3.9-bioc/R/bin/R CMD INSTALL biosvd ### ############################################################################## ############################################################################## * installing to library ‘/home/biocbuild/bbs-3.9-bioc/R/library’ * installing *source* package ‘biosvd’ ... ** using staged installation ** R ** data ** inst ** byte-compile and prepare package for lazy loading ** help *** installing help indices ** building package indices ** installing vignettes ** testing if installed package can be loaded from temporary location ** testing if installed package can be loaded from final location ** testing if installed package keeps a record of temporary installation path * DONE (biosvd)
biosvd.Rcheck/biosvd-Ex.timings
| name | user | system | elapsed | |
| Eigensystem-class | 0.009 | 0.000 | 0.009 | |
| EigensystemPlotParam-class | 0.013 | 0.000 | 0.013 | |
| biosvd | 0.236 | 0.004 | 0.252 | |
| compute-methods | 0.005 | 0.000 | 0.005 | |
| exclude-methods | 0.006 | 0.004 | 0.010 | |
| plot-methods | 0.490 | 0.004 | 0.506 | |
| project-methods | 0.006 | 0.000 | 0.006 | |
| report-methods | 0.014 | 0.003 | 0.017 | |