| Back to Multiple platform build/check report for BioC 3.9 |
|
This page was generated on 2019-04-09 11:37:52 -0400 (Tue, 09 Apr 2019).
| Package 44/1703 | Hostname | OS / Arch | INSTALL | BUILD | CHECK | BUILD BIN | ||||||
| alsace 1.19.0 Ron Wehrens
| malbec2 | Linux (Ubuntu 18.04.2 LTS) / x86_64 | OK | OK | [ OK ] | |||||||
| tokay2 | Windows Server 2012 R2 Standard / x64 | OK | OK | OK | OK | |||||||
| celaya2 | OS X 10.11.6 El Capitan / x86_64 | OK | OK | OK | OK | |||||||
| merida2 | OS X 10.11.6 El Capitan / x86_64 | OK | OK | OK | OK |
| Package: alsace |
| Version: 1.19.0 |
| Command: /home/biocbuild/bbs-3.9-bioc/R/bin/R CMD check --install=check:alsace.install-out.txt --library=/home/biocbuild/bbs-3.9-bioc/R/library --no-vignettes --timings alsace_1.19.0.tar.gz |
| StartedAt: 2019-04-08 22:40:45 -0400 (Mon, 08 Apr 2019) |
| EndedAt: 2019-04-08 22:41:47 -0400 (Mon, 08 Apr 2019) |
| EllapsedTime: 61.5 seconds |
| RetCode: 0 |
| Status: OK |
| CheckDir: alsace.Rcheck |
| Warnings: 0 |
##############################################################################
##############################################################################
###
### Running command:
###
### /home/biocbuild/bbs-3.9-bioc/R/bin/R CMD check --install=check:alsace.install-out.txt --library=/home/biocbuild/bbs-3.9-bioc/R/library --no-vignettes --timings alsace_1.19.0.tar.gz
###
##############################################################################
##############################################################################
* using log directory ‘/home/biocbuild/bbs-3.9-bioc/meat/alsace.Rcheck’
* using R Under development (unstable) (2019-03-18 r76245)
* using platform: x86_64-pc-linux-gnu (64-bit)
* using session charset: UTF-8
* using option ‘--no-vignettes’
* checking for file ‘alsace/DESCRIPTION’ ... OK
* checking extension type ... Package
* this is package ‘alsace’ version ‘1.19.0’
* checking package namespace information ... OK
* checking package dependencies ... OK
* checking if this is a source package ... OK
* checking if there is a namespace ... OK
* checking for hidden files and directories ... OK
* checking for portable file names ... OK
* checking for sufficient/correct file permissions ... OK
* checking whether package ‘alsace’ can be installed ... OK
* checking installed package size ... OK
* checking package directory ... OK
* checking ‘build’ directory ... OK
* checking DESCRIPTION meta-information ... OK
* checking top-level files ... OK
* checking for left-over files ... OK
* checking index information ... OK
* checking package subdirectories ... OK
* checking R files for non-ASCII characters ... OK
* checking R files for syntax errors ... OK
* checking whether the package can be loaded ... OK
* checking whether the package can be loaded with stated dependencies ... OK
* checking whether the package can be unloaded cleanly ... OK
* checking whether the namespace can be loaded with stated dependencies ... OK
* checking whether the namespace can be unloaded cleanly ... OK
* checking dependencies in R code ... NOTE
'library' or 'require' call to ‘lattice’ in package code.
Please use :: or requireNamespace() instead.
See section 'Suggested packages' in the 'Writing R Extensions' manual.
* checking S3 generic/method consistency ... OK
* checking replacement functions ... OK
* checking foreign function calls ... OK
* checking R code for possible problems ... NOTE
getPeakTable : clusterPeaks: no visible global function definition for
‘stripplot’
getPeakTable : clusterPeaks : <anonymous>: no visible global function
definition for ‘panel.stripplot’
getPeakTable : clusterPeaks : <anonymous>: no visible global function
definition for ‘panel.abline’
Undefined global functions or variables:
panel.abline panel.stripplot stripplot
* checking Rd files ... OK
* checking Rd metadata ... OK
* checking Rd cross-references ... OK
* checking for missing documentation entries ... OK
* checking for code/documentation mismatches ... OK
* checking Rd \usage sections ... OK
* checking Rd contents ... OK
* checking for unstated dependencies in examples ... OK
* checking contents of ‘data’ directory ... OK
* checking data for non-ASCII characters ... OK
* checking data for ASCII and uncompressed saves ... OK
* checking files in ‘vignettes’ ... OK
* checking examples ... OK
Examples with CPU or elapsed time > 5s
user system elapsed
components 10.468 0.024 10.505
teaMerged 7.888 0.004 7.892
doALS 5.286 0.000 5.286
* checking for unstated dependencies in vignettes ... OK
* checking package vignettes in ‘inst/doc’ ... OK
* checking running R code from vignettes ... SKIPPED
* checking re-building of vignette outputs ... SKIPPED
* checking PDF version of manual ... OK
* DONE
Status: 2 NOTEs
See
‘/home/biocbuild/bbs-3.9-bioc/meat/alsace.Rcheck/00check.log’
for details.
alsace.Rcheck/00install.out
############################################################################## ############################################################################## ### ### Running command: ### ### /home/biocbuild/bbs-3.9-bioc/R/bin/R CMD INSTALL alsace ### ############################################################################## ############################################################################## * installing to library ‘/home/biocbuild/bbs-3.9-bioc/R/library’ * installing *source* package ‘alsace’ ... ** using staged installation ** R ** data ** byte-compile and prepare package for lazy loading ** help *** installing help indices ** building package indices ** installing vignettes ** testing if installed package can be loaded from temporary location ** testing if installed package can be loaded from final location ** testing if installed package keeps a record of temporary installation path * DONE (alsace)
alsace.Rcheck/alsace-Ex.timings
| name | user | system | elapsed | |
| components | 10.468 | 0.024 | 10.505 | |
| correctPeaks | 4.647 | 0.000 | 4.650 | |
| correctRT | 1.948 | 0.000 | 1.949 | |
| doALS | 5.286 | 0.000 | 5.286 | |
| filterPeaks | 0.028 | 0.000 | 0.029 | |
| fitpeaks | 4.712 | 0.004 | 4.716 | |
| getAllPeaks | 0.045 | 0.000 | 0.045 | |
| getPeakTable | 2.788 | 0.000 | 2.789 | |
| opa | 1.419 | 0.004 | 1.423 | |
| preprocess | 0.101 | 0.000 | 0.101 | |
| showALSresult | 0.077 | 0.004 | 0.082 | |
| tea | 0.099 | 0.000 | 0.099 | |
| teaMerged | 7.888 | 0.004 | 7.892 | |
| windows | 0.151 | 0.000 | 0.152 | |