| Back to Multiple platform build/check report for BioC 3.9 |
|
This page was generated on 2019-04-09 13:09:52 -0400 (Tue, 09 Apr 2019).
| Package 44/1703 | Hostname | OS / Arch | INSTALL | BUILD | CHECK | BUILD BIN | ||||||
| alsace 1.19.0 Ron Wehrens
| malbec2 | Linux (Ubuntu 18.04.2 LTS) / x86_64 | OK | OK | OK | |||||||
| tokay2 | Windows Server 2012 R2 Standard / x64 | OK | OK | OK | OK | |||||||
| celaya2 | OS X 10.11.6 El Capitan / x86_64 | OK | OK | [ OK ] | OK | |||||||
| merida2 | OS X 10.11.6 El Capitan / x86_64 | OK | OK | OK | OK |
| Package: alsace |
| Version: 1.19.0 |
| Command: /Library/Frameworks/R.framework/Versions/Current/Resources/bin/R CMD check --install=check:alsace.install-out.txt --library=/Library/Frameworks/R.framework/Versions/Current/Resources/library --no-vignettes --timings alsace_1.19.0.tar.gz |
| StartedAt: 2019-04-08 23:48:21 -0400 (Mon, 08 Apr 2019) |
| EndedAt: 2019-04-08 23:50:05 -0400 (Mon, 08 Apr 2019) |
| EllapsedTime: 104.3 seconds |
| RetCode: 0 |
| Status: OK |
| CheckDir: alsace.Rcheck |
| Warnings: 0 |
##############################################################################
##############################################################################
###
### Running command:
###
### /Library/Frameworks/R.framework/Versions/Current/Resources/bin/R CMD check --install=check:alsace.install-out.txt --library=/Library/Frameworks/R.framework/Versions/Current/Resources/library --no-vignettes --timings alsace_1.19.0.tar.gz
###
##############################################################################
##############################################################################
* using log directory ‘/Users/biocbuild/bbs-3.9-bioc/meat/alsace.Rcheck’
* using R Under development (unstable) (2019-03-18 r76245)
* using platform: x86_64-apple-darwin15.6.0 (64-bit)
* using session charset: UTF-8
* using option ‘--no-vignettes’
* checking for file ‘alsace/DESCRIPTION’ ... OK
* checking extension type ... Package
* this is package ‘alsace’ version ‘1.19.0’
* checking package namespace information ... OK
* checking package dependencies ... OK
* checking if this is a source package ... OK
* checking if there is a namespace ... OK
* checking for hidden files and directories ... OK
* checking for portable file names ... OK
* checking for sufficient/correct file permissions ... OK
* checking whether package ‘alsace’ can be installed ... OK
* checking installed package size ... OK
* checking package directory ... OK
* checking ‘build’ directory ... OK
* checking DESCRIPTION meta-information ... OK
* checking top-level files ... OK
* checking for left-over files ... OK
* checking index information ... OK
* checking package subdirectories ... OK
* checking R files for non-ASCII characters ... OK
* checking R files for syntax errors ... OK
* checking whether the package can be loaded ... OK
* checking whether the package can be loaded with stated dependencies ... OK
* checking whether the package can be unloaded cleanly ... OK
* checking whether the namespace can be loaded with stated dependencies ... OK
* checking whether the namespace can be unloaded cleanly ... OK
* checking dependencies in R code ... NOTE
'library' or 'require' call to ‘lattice’ in package code.
Please use :: or requireNamespace() instead.
See section 'Suggested packages' in the 'Writing R Extensions' manual.
* checking S3 generic/method consistency ... OK
* checking replacement functions ... OK
* checking foreign function calls ... OK
* checking R code for possible problems ... NOTE
getPeakTable : clusterPeaks: no visible global function definition for
‘stripplot’
getPeakTable : clusterPeaks : <anonymous>: no visible global function
definition for ‘panel.stripplot’
getPeakTable : clusterPeaks : <anonymous>: no visible global function
definition for ‘panel.abline’
Undefined global functions or variables:
panel.abline panel.stripplot stripplot
* checking Rd files ... OK
* checking Rd metadata ... OK
* checking Rd cross-references ... OK
* checking for missing documentation entries ... OK
* checking for code/documentation mismatches ... OK
* checking Rd \usage sections ... OK
* checking Rd contents ... OK
* checking for unstated dependencies in examples ... OK
* checking contents of ‘data’ directory ... OK
* checking data for non-ASCII characters ... OK
* checking data for ASCII and uncompressed saves ... OK
* checking sizes of PDF files under ‘inst/doc’ ... OK
* checking files in ‘vignettes’ ... OK
* checking examples ... OK
Examples with CPU or elapsed time > 5s
user system elapsed
components 18.365 2.620 20.989
teaMerged 9.422 0.992 10.414
fitpeaks 7.562 0.675 8.238
doALS 7.313 0.652 7.967
correctPeaks 7.245 0.585 7.831
* checking for unstated dependencies in vignettes ... OK
* checking package vignettes in ‘inst/doc’ ... OK
* checking running R code from vignettes ... SKIPPED
* checking re-building of vignette outputs ... SKIPPED
* checking PDF version of manual ... OK
* DONE
Status: 2 NOTEs
See
‘/Users/biocbuild/bbs-3.9-bioc/meat/alsace.Rcheck/00check.log’
for details.
alsace.Rcheck/00install.out
############################################################################## ############################################################################## ### ### Running command: ### ### /Library/Frameworks/R.framework/Versions/Current/Resources/bin/R CMD INSTALL alsace ### ############################################################################## ############################################################################## * installing to library ‘/Library/Frameworks/R.framework/Versions/3.6/Resources/library’ * installing *source* package ‘alsace’ ... ** using staged installation ** R ** data ** byte-compile and prepare package for lazy loading ** help *** installing help indices ** building package indices ** installing vignettes ** testing if installed package can be loaded from temporary location ** testing if installed package can be loaded from final location ** testing if installed package keeps a record of temporary installation path * DONE (alsace)
alsace.Rcheck/alsace-Ex.timings
| name | user | system | elapsed | |
| components | 18.365 | 2.620 | 20.989 | |
| correctPeaks | 7.245 | 0.585 | 7.831 | |
| correctRT | 3.414 | 0.345 | 3.772 | |
| doALS | 7.313 | 0.652 | 7.967 | |
| filterPeaks | 0.067 | 0.003 | 0.071 | |
| fitpeaks | 7.562 | 0.675 | 8.238 | |
| getAllPeaks | 0.065 | 0.006 | 0.072 | |
| getPeakTable | 4.026 | 0.308 | 4.333 | |
| opa | 2.008 | 0.150 | 2.159 | |
| preprocess | 0.146 | 0.008 | 0.154 | |
| showALSresult | 0.095 | 0.012 | 0.107 | |
| tea | 0.133 | 0.013 | 0.147 | |
| teaMerged | 9.422 | 0.992 | 10.414 | |
| windows | 0.155 | 0.029 | 0.186 | |