| Back to Multiple platform build/check report for BioC 3.9 |
|
This page was generated on 2019-04-09 11:58:48 -0400 (Tue, 09 Apr 2019).
| Package 1674/1703 | Hostname | OS / Arch | INSTALL | BUILD | CHECK | BUILD BIN | ||||||
| Vega 1.31.0 Sandro Morganella
| malbec2 | Linux (Ubuntu 18.04.2 LTS) / x86_64 | OK | OK | OK | |||||||
| tokay2 | Windows Server 2012 R2 Standard / x64 | [ OK ] | OK | OK | OK | |||||||
| celaya2 | OS X 10.11.6 El Capitan / x86_64 | OK | OK | WARNINGS | OK | |||||||
| merida2 | OS X 10.11.6 El Capitan / x86_64 | OK | OK | WARNINGS | OK |
| Package: Vega |
| Version: 1.31.0 |
| Command: C:\cygwin\bin\curl.exe -O https://malbec2.bioconductor.org/BBS/3.9/bioc/src/contrib/Vega_1.31.0.tar.gz && rm -rf Vega.buildbin-libdir && mkdir Vega.buildbin-libdir && C:\Users\biocbuild\bbs-3.9-bioc\R\bin\R.exe CMD INSTALL --merge-multiarch --build --library=Vega.buildbin-libdir Vega_1.31.0.tar.gz && C:\Users\biocbuild\bbs-3.9-bioc\R\bin\R.exe CMD INSTALL Vega_1.31.0.zip && rm Vega_1.31.0.tar.gz Vega_1.31.0.zip |
| StartedAt: 2019-04-08 18:24:11 -0400 (Mon, 08 Apr 2019) |
| EndedAt: 2019-04-08 18:24:44 -0400 (Mon, 08 Apr 2019) |
| EllapsedTime: 32.8 seconds |
| RetCode: 0 |
| Status: OK |
##############################################################################
##############################################################################
###
### Running command:
###
### C:\cygwin\bin\curl.exe -O https://malbec2.bioconductor.org/BBS/3.9/bioc/src/contrib/Vega_1.31.0.tar.gz && rm -rf Vega.buildbin-libdir && mkdir Vega.buildbin-libdir && C:\Users\biocbuild\bbs-3.9-bioc\R\bin\R.exe CMD INSTALL --merge-multiarch --build --library=Vega.buildbin-libdir Vega_1.31.0.tar.gz && C:\Users\biocbuild\bbs-3.9-bioc\R\bin\R.exe CMD INSTALL Vega_1.31.0.zip && rm Vega_1.31.0.tar.gz Vega_1.31.0.zip
###
##############################################################################
##############################################################################
% Total % Received % Xferd Average Speed Time Time Time Current
Dload Upload Total Spent Left Speed
0 0 0 0 0 0 0 0 --:--:-- --:--:-- --:--:-- 0
100 220k 100 220k 0 0 3602k 0 --:--:-- --:--:-- --:--:-- 4077k
install for i386
* installing *source* package 'Vega' ...
** libs
C:/Rtools/mingw_32/bin/gcc -I"C:/Users/BIOCBU˜1/BBS-3˜1.9-B/R/include" -DNDEBUG -I"C:/extsoft/include" -O3 -Wall -std=gnu99 -mtune=generic -c vega.c -o vega.o
vega.c: In function 'heap_delete':
vega.c:201:8: warning: variable 'deleted' set but not used [-Wunused-but-set-variable]
node deleted;
^
vega.c: In function 'vega':
vega.c:355:13: warning: unused variable 'maxptr' [-Wunused-variable]
node max, *maxptr, tmp_node;
^
vega.c:348:68: warning: unused variable 'tmp_lambda2' [-Wunused-variable]
double lambda, lambda_gradient, stop_lambda_gradient, tmp_lambda, tmp_lambda2;
^
vega.c:347:6: warning: unused variable 'index' [-Wunused-variable]
int index;
^
vega.c: In function 'update_priority':
vega.c:560:64: warning: unused variable 'next_mean' [-Wunused-variable]
double lambda, first_term, second_term, prev_mean, curr_mean, next_mean;
^
C:/Rtools/mingw_32/bin/gcc -shared -s -static-libgcc -o Vega.dll tmp.def vega.o -LC:/extsoft/lib/i386 -LC:/extsoft/lib -LC:/Users/BIOCBU˜1/BBS-3˜1.9-B/R/bin/i386 -lR
installing to C:/Users/biocbuild/bbs-3.9-bioc/meat/Vega.buildbin-libdir/00LOCK-Vega/00new/Vega/libs/i386
** R
** data
** byte-compile and prepare package for lazy loading
** help
*** installing help indices
converting help for package 'Vega'
finding HTML links ... done
G519 html
Vega-package html
plotSegmentation html
vega html
** building package indices
** installing vignettes
** testing if installed package can be loaded from temporary location
** testing if installed package can be loaded from final location
** testing if installed package keeps a record of temporary installation path
install for x64
* installing *source* package 'Vega' ...
** libs
C:/Rtools/mingw_64/bin/gcc -I"C:/Users/BIOCBU˜1/BBS-3˜1.9-B/R/include" -DNDEBUG -I"C:/extsoft/include" -O2 -Wall -std=gnu99 -mtune=generic -c vega.c -o vega.o
vega.c: In function 'heap_delete':
vega.c:201:8: warning: variable 'deleted' set but not used [-Wunused-but-set-variable]
node deleted;
^
vega.c: In function 'vega':
vega.c:355:13: warning: unused variable 'maxptr' [-Wunused-variable]
node max, *maxptr, tmp_node;
^
vega.c:348:68: warning: unused variable 'tmp_lambda2' [-Wunused-variable]
double lambda, lambda_gradient, stop_lambda_gradient, tmp_lambda, tmp_lambda2;
^
vega.c:347:6: warning: unused variable 'index' [-Wunused-variable]
int index;
^
vega.c: In function 'update_priority':
vega.c:560:64: warning: unused variable 'next_mean' [-Wunused-variable]
double lambda, first_term, second_term, prev_mean, curr_mean, next_mean;
^
C:/Rtools/mingw_64/bin/gcc -shared -s -static-libgcc -o Vega.dll tmp.def vega.o -LC:/extsoft/lib/x64 -LC:/extsoft/lib -LC:/Users/BIOCBU˜1/BBS-3˜1.9-B/R/bin/x64 -lR
installing to C:/Users/biocbuild/bbs-3.9-bioc/meat/Vega.buildbin-libdir/Vega/libs/x64
** testing if installed package can be loaded
* MD5 sums
packaged installation of 'Vega' as Vega_1.31.0.zip
* DONE (Vega)
* installing to library 'C:/Users/biocbuild/bbs-3.9-bioc/R/library'
package 'Vega' successfully unpacked and MD5 sums checked