| Back to Multiple platform build/check report for BioC 3.9 |
|
This page was generated on 2019-04-09 12:59:54 -0400 (Tue, 09 Apr 2019).
| Package 1674/1703 | Hostname | OS / Arch | INSTALL | BUILD | CHECK | BUILD BIN | ||||||
| Vega 1.31.0 Sandro Morganella
| malbec2 | Linux (Ubuntu 18.04.2 LTS) / x86_64 | OK | OK | OK | |||||||
| tokay2 | Windows Server 2012 R2 Standard / x64 | OK | OK | OK | OK | |||||||
| celaya2 | OS X 10.11.6 El Capitan / x86_64 | [ OK ] | OK | WARNINGS | OK | |||||||
| merida2 | OS X 10.11.6 El Capitan / x86_64 | OK | OK | WARNINGS | OK |
| Package: Vega |
| Version: 1.31.0 |
| Command: /Library/Frameworks/R.framework/Versions/Current/Resources/bin/R CMD INSTALL Vega |
| StartedAt: 2019-04-08 18:01:09 -0400 (Mon, 08 Apr 2019) |
| EndedAt: 2019-04-08 18:01:43 -0400 (Mon, 08 Apr 2019) |
| EllapsedTime: 34.5 seconds |
| RetCode: 0 |
| Status: OK |
##############################################################################
##############################################################################
###
### Running command:
###
### /Library/Frameworks/R.framework/Versions/Current/Resources/bin/R CMD INSTALL Vega
###
##############################################################################
##############################################################################
* installing to library ‘/Library/Frameworks/R.framework/Versions/3.6/Resources/library’
* installing *source* package ‘Vega’ ...
** using staged installation
** libs
clang -I"/Library/Frameworks/R.framework/Resources/include" -DNDEBUG -I/usr/local/include -fPIC -Wall -g -O2 -c vega.c -o vega.o
vega.c:369:20: warning: using integer absolute value function 'abs' when argument is of floating point type [-Wabsolute-value]
lambda_gradient = abs(lambda);
^
vega.c:369:20: note: use function 'fabs' instead
lambda_gradient = abs(lambda);
^˜˜
fabs
vega.c:348:68: warning: unused variable 'tmp_lambda2' [-Wunused-variable]
double lambda, lambda_gradient, stop_lambda_gradient, tmp_lambda, tmp_lambda2;
^
vega.c:355:13: warning: unused variable 'maxptr' [-Wunused-variable]
node max, *maxptr, tmp_node;
^
vega.c:347:6: warning: unused variable 'index' [-Wunused-variable]
int index;
^
vega.c:560:64: warning: unused variable 'next_mean' [-Wunused-variable]
double lambda, first_term, second_term, prev_mean, curr_mean, next_mean;
^
5 warnings generated.
clang -dynamiclib -Wl,-headerpad_max_install_names -undefined dynamic_lookup -single_module -multiply_defined suppress -L/Library/Frameworks/R.framework/Resources/lib -L/usr/local/lib -o Vega.so vega.o -F/Library/Frameworks/R.framework/.. -framework R -Wl,-framework -Wl,CoreFoundation
installing to /Library/Frameworks/R.framework/Versions/3.6/Resources/library/00LOCK-Vega/00new/Vega/libs
** R
** data
** byte-compile and prepare package for lazy loading
** help
*** installing help indices
** building package indices
** installing vignettes
** testing if installed package can be loaded from temporary location
** checking absolute paths in shared objects and dynamic libraries
** testing if installed package can be loaded from final location
** testing if installed package keeps a record of temporary installation path
* DONE (Vega)