| Back to Multiple platform build/check report for BioC 3.9 |
|
This page was generated on 2019-04-09 12:21:05 -0400 (Tue, 09 Apr 2019).
| Package 1646/1703 | Hostname | OS / Arch | INSTALL | BUILD | CHECK | BUILD BIN | ||||||
| TSCAN 1.21.0 Zhicheng Ji
| malbec2 | Linux (Ubuntu 18.04.2 LTS) / x86_64 | OK | OK | OK | |||||||
| tokay2 | Windows Server 2012 R2 Standard / x64 | [ OK ] | OK | OK | OK | |||||||
| celaya2 | OS X 10.11.6 El Capitan / x86_64 | OK | OK | OK | OK | |||||||
| merida2 | OS X 10.11.6 El Capitan / x86_64 | OK | OK | OK | OK |
| Package: TSCAN |
| Version: 1.21.0 |
| Command: C:\cygwin\bin\curl.exe -O https://malbec2.bioconductor.org/BBS/3.9/bioc/src/contrib/TSCAN_1.21.0.tar.gz && rm -rf TSCAN.buildbin-libdir && mkdir TSCAN.buildbin-libdir && C:\Users\biocbuild\bbs-3.9-bioc\R\bin\R.exe CMD INSTALL --merge-multiarch --build --library=TSCAN.buildbin-libdir TSCAN_1.21.0.tar.gz && C:\Users\biocbuild\bbs-3.9-bioc\R\bin\R.exe CMD INSTALL TSCAN_1.21.0.zip && rm TSCAN_1.21.0.tar.gz TSCAN_1.21.0.zip |
| StartedAt: 2019-04-08 18:59:57 -0400 (Mon, 08 Apr 2019) |
| EndedAt: 2019-04-08 19:00:35 -0400 (Mon, 08 Apr 2019) |
| EllapsedTime: 38.0 seconds |
| RetCode: 0 |
| Status: OK |
##############################################################################
##############################################################################
###
### Running command:
###
### C:\cygwin\bin\curl.exe -O https://malbec2.bioconductor.org/BBS/3.9/bioc/src/contrib/TSCAN_1.21.0.tar.gz && rm -rf TSCAN.buildbin-libdir && mkdir TSCAN.buildbin-libdir && C:\Users\biocbuild\bbs-3.9-bioc\R\bin\R.exe CMD INSTALL --merge-multiarch --build --library=TSCAN.buildbin-libdir TSCAN_1.21.0.tar.gz && C:\Users\biocbuild\bbs-3.9-bioc\R\bin\R.exe CMD INSTALL TSCAN_1.21.0.zip && rm TSCAN_1.21.0.tar.gz TSCAN_1.21.0.zip
###
##############################################################################
##############################################################################
% Total % Received % Xferd Average Speed Time Time Time Current
Dload Upload Total Spent Left Speed
0 0 0 0 0 0 0 0 --:--:-- --:--:-- --:--:-- 0
100 2560k 100 2560k 0 0 17.9M 0 --:--:-- --:--:-- --:--:-- 18.9M
install for i386
* installing *source* package 'TSCAN' ...
** R
** data
** inst
** byte-compile and prepare package for lazy loading
** help
*** installing help indices
converting help for package 'TSCAN'
finding HTML links ... done
TSCAN html
TSCANorder html
TSCANui html
difftest html
exprmclust html
lpsdata html
orderscore html
plotmclust html
preprocess html
singlegeneplot html
** building package indices
** installing vignettes
** testing if installed package can be loaded from temporary location
** testing if installed package can be loaded from final location
** testing if installed package keeps a record of temporary installation path
install for x64
* installing *source* package 'TSCAN' ...
** testing if installed package can be loaded
* MD5 sums
packaged installation of 'TSCAN' as TSCAN_1.21.0.zip
* DONE (TSCAN)
* installing to library 'C:/Users/biocbuild/bbs-3.9-bioc/R/library'
package 'TSCAN' successfully unpacked and MD5 sums checked