| Back to Multiple platform build/check report for BioC 3.9 |
|
This page was generated on 2019-04-09 13:30:21 -0400 (Tue, 09 Apr 2019).
| Package 1646/1703 | Hostname | OS / Arch | INSTALL | BUILD | CHECK | BUILD BIN | ||||||
| TSCAN 1.21.0 Zhicheng Ji
| malbec2 | Linux (Ubuntu 18.04.2 LTS) / x86_64 | OK | OK | OK | |||||||
| tokay2 | Windows Server 2012 R2 Standard / x64 | OK | OK | OK | OK | |||||||
| celaya2 | OS X 10.11.6 El Capitan / x86_64 | OK | OK | OK | OK | |||||||
| merida2 | OS X 10.11.6 El Capitan / x86_64 | OK | OK | [ OK ] | OK |
| Package: TSCAN |
| Version: 1.21.0 |
| Command: /Library/Frameworks/R.framework/Versions/Current/Resources/bin/R CMD check --install=check:TSCAN.install-out.txt --library=/Library/Frameworks/R.framework/Versions/Current/Resources/library --no-vignettes --timings TSCAN_1.21.0.tar.gz |
| StartedAt: 2019-04-09 04:15:28 -0400 (Tue, 09 Apr 2019) |
| EndedAt: 2019-04-09 04:17:01 -0400 (Tue, 09 Apr 2019) |
| EllapsedTime: 92.1 seconds |
| RetCode: 0 |
| Status: OK |
| CheckDir: TSCAN.Rcheck |
| Warnings: 0 |
##############################################################################
##############################################################################
###
### Running command:
###
### /Library/Frameworks/R.framework/Versions/Current/Resources/bin/R CMD check --install=check:TSCAN.install-out.txt --library=/Library/Frameworks/R.framework/Versions/Current/Resources/library --no-vignettes --timings TSCAN_1.21.0.tar.gz
###
##############################################################################
##############################################################################
* using log directory ‘/Users/biocbuild/bbs-3.9-bioc/meat/TSCAN.Rcheck’
* using R Under development (unstable) (2018-11-27 r75683)
* using platform: x86_64-apple-darwin15.6.0 (64-bit)
* using session charset: UTF-8
* using option ‘--no-vignettes’
* checking for file ‘TSCAN/DESCRIPTION’ ... OK
* checking extension type ... Package
* this is package ‘TSCAN’ version ‘1.21.0’
* checking package namespace information ... OK
* checking package dependencies ... OK
* checking if this is a source package ... OK
* checking if there is a namespace ... OK
* checking for hidden files and directories ... OK
* checking for portable file names ... OK
* checking for sufficient/correct file permissions ... OK
* checking whether package ‘TSCAN’ can be installed ... OK
* checking installed package size ... OK
* checking package directory ... OK
* checking ‘build’ directory ... OK
* checking DESCRIPTION meta-information ... OK
* checking top-level files ... OK
* checking for left-over files ... OK
* checking index information ... OK
* checking package subdirectories ... OK
* checking R files for non-ASCII characters ... OK
* checking R files for syntax errors ... OK
* checking whether the package can be loaded ... OK
* checking whether the package can be loaded with stated dependencies ... OK
* checking whether the package can be unloaded cleanly ... OK
* checking whether the namespace can be loaded with stated dependencies ... OK
* checking whether the namespace can be unloaded cleanly ... OK
* checking dependencies in R code ... OK
* checking S3 generic/method consistency ... OK
* checking replacement functions ... OK
* checking foreign function calls ... OK
* checking R code for possible problems ... NOTE
difftest : <anonymous>: no visible global function definition for
‘pchisq’
difftest: no visible global function definition for ‘p.adjust’
exprmclust: no visible global function definition for ‘prcomp’
exprmclust : <anonymous>: no visible global function definition for
‘lm’
exprmclust: no visible global function definition for ‘dist’
plotmclust: no visible binding for global variable ‘pca_dim_1’
plotmclust: no visible binding for global variable ‘pca_dim_2’
plotmclust: no visible binding for global variable ‘sample_name’
preprocess: no visible binding for global variable ‘sd’
preprocess: no visible global function definition for ‘hclust’
preprocess: no visible global function definition for ‘dist’
preprocess: no visible global function definition for ‘cutree’
preprocess: no visible global function definition for ‘aggregate’
singlegeneplot: no visible global function definition for
‘fitted.values’
singlegeneplot: no visible binding for global variable ‘predict’
Undefined global functions or variables:
aggregate cutree dist fitted.values hclust lm p.adjust pca_dim_1
pca_dim_2 pchisq prcomp predict sample_name sd
Consider adding
importFrom("stats", "aggregate", "cutree", "dist", "fitted.values",
"hclust", "lm", "p.adjust", "pchisq", "prcomp", "predict",
"sd")
to your NAMESPACE file.
* checking Rd files ... OK
* checking Rd metadata ... OK
* checking Rd cross-references ... OK
* checking for missing documentation entries ... OK
* checking for code/documentation mismatches ... OK
* checking Rd \usage sections ... OK
* checking Rd contents ... OK
* checking for unstated dependencies in examples ... OK
* checking contents of ‘data’ directory ... OK
* checking data for non-ASCII characters ... OK
* checking data for ASCII and uncompressed saves ... OK
* checking sizes of PDF files under ‘inst/doc’ ... OK
* checking files in ‘vignettes’ ... OK
* checking examples ... OK
Examples with CPU or elapsed time > 5s
user system elapsed
difftest 9.357 0.14 10.898
* checking for unstated dependencies in vignettes ... OK
* checking package vignettes in ‘inst/doc’ ... OK
* checking running R code from vignettes ... SKIPPED
* checking re-building of vignette outputs ... SKIPPED
* checking PDF version of manual ... OK
* DONE
Status: 1 NOTE
See
‘/Users/biocbuild/bbs-3.9-bioc/meat/TSCAN.Rcheck/00check.log’
for details.
TSCAN.Rcheck/00install.out
############################################################################## ############################################################################## ### ### Running command: ### ### /Library/Frameworks/R.framework/Versions/Current/Resources/bin/R CMD INSTALL TSCAN ### ############################################################################## ############################################################################## * installing to library ‘/Library/Frameworks/R.framework/Versions/3.6/Resources/library’ * installing *source* package ‘TSCAN’ ... ** R ** data ** inst ** byte-compile and prepare package for lazy loading ** help *** installing help indices ** building package indices ** installing vignettes ** testing if installed package can be loaded * DONE (TSCAN)
TSCAN.Rcheck/TSCAN-Ex.timings
| name | user | system | elapsed | |
| TSCANorder | 2.583 | 0.098 | 2.702 | |
| TSCANui | 0 | 0 | 0 | |
| difftest | 9.357 | 0.140 | 10.898 | |
| exprmclust | 2.618 | 0.076 | 2.719 | |
| orderscore | 2.429 | 0.081 | 2.546 | |
| plotmclust | 2.921 | 0.111 | 3.057 | |
| preprocess | 2.366 | 0.075 | 2.464 | |
| singlegeneplot | 2.987 | 0.056 | 3.088 | |