| Back to Multiple platform build/check report for BioC 3.9 |
|
This page was generated on 2019-04-09 11:58:38 -0400 (Tue, 09 Apr 2019).
| Package 1277/1703 | Hostname | OS / Arch | INSTALL | BUILD | CHECK | BUILD BIN | ||||||
| R453Plus1Toolbox 1.33.0 Hans-Ulrich Klein
| malbec2 | Linux (Ubuntu 18.04.2 LTS) / x86_64 | OK | OK | OK | |||||||
| tokay2 | Windows Server 2012 R2 Standard / x64 | OK | OK | [ OK ] | OK | |||||||
| celaya2 | OS X 10.11.6 El Capitan / x86_64 | OK | OK | OK | OK | |||||||
| merida2 | OS X 10.11.6 El Capitan / x86_64 | OK | OK | OK | OK |
| Package: R453Plus1Toolbox |
| Version: 1.33.0 |
| Command: C:\Users\biocbuild\bbs-3.9-bioc\R\bin\R.exe CMD check --force-multiarch --install=check:R453Plus1Toolbox.install-out.txt --library=C:\Users\biocbuild\bbs-3.9-bioc\R\library --no-vignettes --timings R453Plus1Toolbox_1.33.0.tar.gz |
| StartedAt: 2019-04-09 05:12:17 -0400 (Tue, 09 Apr 2019) |
| EndedAt: 2019-04-09 05:20:09 -0400 (Tue, 09 Apr 2019) |
| EllapsedTime: 472.1 seconds |
| RetCode: 0 |
| Status: OK |
| CheckDir: R453Plus1Toolbox.Rcheck |
| Warnings: 0 |
##############################################################################
##############################################################################
###
### Running command:
###
### C:\Users\biocbuild\bbs-3.9-bioc\R\bin\R.exe CMD check --force-multiarch --install=check:R453Plus1Toolbox.install-out.txt --library=C:\Users\biocbuild\bbs-3.9-bioc\R\library --no-vignettes --timings R453Plus1Toolbox_1.33.0.tar.gz
###
##############################################################################
##############################################################################
* using log directory 'C:/Users/biocbuild/bbs-3.9-bioc/meat/R453Plus1Toolbox.Rcheck'
* using R Under development (unstable) (2019-03-09 r76216)
* using platform: x86_64-w64-mingw32 (64-bit)
* using session charset: ISO8859-1
* using option '--no-vignettes'
* checking for file 'R453Plus1Toolbox/DESCRIPTION' ... OK
* checking extension type ... Package
* this is package 'R453Plus1Toolbox' version '1.33.0'
* checking package namespace information ... OK
* checking package dependencies ... OK
* checking if this is a source package ... OK
* checking if there is a namespace ... OK
* checking for hidden files and directories ... OK
* checking for portable file names ... OK
* checking whether package 'R453Plus1Toolbox' can be installed ... OK
* checking installed package size ... NOTE
installed size is 5.3Mb
sub-directories of 1Mb or more:
R 2.0Mb
extdata 2.5Mb
* checking package directory ... OK
* checking 'build' directory ... OK
* checking DESCRIPTION meta-information ... OK
* checking top-level files ... OK
* checking for left-over files ... OK
* checking index information ... OK
* checking package subdirectories ... OK
* checking R files for non-ASCII characters ... OK
* checking R files for syntax errors ... OK
* loading checks for arch 'i386'
** checking whether the package can be loaded ... OK
** checking whether the package can be loaded with stated dependencies ... OK
** checking whether the package can be unloaded cleanly ... OK
** checking whether the namespace can be loaded with stated dependencies ... OK
** checking whether the namespace can be unloaded cleanly ... OK
* loading checks for arch 'x64'
** checking whether the package can be loaded ... OK
** checking whether the package can be loaded with stated dependencies ... OK
** checking whether the package can be unloaded cleanly ... OK
** checking whether the namespace can be loaded with stated dependencies ... OK
** checking whether the namespace can be unloaded cleanly ... OK
* checking dependencies in R code ... NOTE
'library' or 'require' call to 'BSgenome.Hsapiens.UCSC.hg19' in package code.
Please use :: or requireNamespace() instead.
See section 'Suggested packages' in the 'Writing R Extensions' manual.
* checking S3 generic/method consistency ... OK
* checking replacement functions ... OK
* checking foreign function calls ... OK
* checking R code for possible problems ... NOTE
.annotateVariants_MapperSet: no visible binding for global variable
'Hsapiens'
.ava2vcf: no visible binding for global variable 'Hsapiens'
.detectBreakpoints: no visible binding for global variable 'Hsapiens'
.getEnsemblInfo: no visible binding for global variable 'cds_length'
.getEnsemblInfo: no visible binding for global variable
'ensembl_transcript_id'
.getMutations: no visible binding for global variable 'PatternStart'
.getMutations: no visible binding for global variable 'PatternEnd'
.htmlReport: no visible binding for global variable 'VarFreqForward'
.htmlReport: no visible binding for global variable 'VarFreqReverse'
.plotVariants: no visible binding for global variable 'mutation'
qualityReportSFF: no visible binding for '<<-' assignment to 'tmp'
annotateVariants,MapperSet-BSgenome: no visible binding for global
variable 'Hsapiens'
annotateVariants,MapperSet-missing: no visible binding for global
variable 'Hsapiens'
ava2vcf,AVASet: no visible binding for global variable 'Hsapiens'
detectBreakpoints,list: no visible binding for global variable
'Hsapiens'
subset,AVASet: no visible binding for global variable 'referenceSeqID'
Undefined global functions or variables:
Hsapiens PatternEnd PatternStart VarFreqForward VarFreqReverse
cds_length ensembl_transcript_id mutation referenceSeqID
* checking Rd files ... OK
* checking Rd metadata ... OK
* checking Rd cross-references ... OK
* checking for missing documentation entries ... OK
* checking for code/documentation mismatches ... OK
* checking Rd \usage sections ... OK
* checking Rd contents ... OK
* checking for unstated dependencies in examples ... OK
* checking contents of 'data' directory ... OK
* checking data for non-ASCII characters ... OK
* checking data for ASCII and uncompressed saves ... OK
* checking line endings in C/C++/Fortran sources/headers ... OK
* checking compiled code ... NOTE
Note: information on .o files for i386 is not available
Note: information on .o files for x64 is not available
File 'C:/Users/biocbuild/bbs-3.9-bioc/R/library/R453Plus1Toolbox/libs/i386/R453Plus1Toolbox.dll':
Found 'abort', possibly from 'abort' (C), 'runtime' (Fortran)
File 'C:/Users/biocbuild/bbs-3.9-bioc/R/library/R453Plus1Toolbox/libs/x64/R453Plus1Toolbox.dll':
Found 'abort', possibly from 'abort' (C), 'runtime' (Fortran)
Compiled code should not call entry points which might terminate R nor
write to stdout/stderr instead of to the console, nor use Fortran I/O
nor system RNGs. The detected symbols are linked into the code but
might come from libraries and not actually be called.
See 'Writing portable packages' in the 'Writing R Extensions' manual.
* checking files in 'vignettes' ... OK
* checking examples ...
** running examples for arch 'i386' ... OK
Examples with CPU or elapsed time > 5s
user system elapsed
mergeBreakpoints 7.16 0.1 7.26
** running examples for arch 'x64' ... OK
Examples with CPU or elapsed time > 5s
user system elapsed
mergeBreakpoints 6.95 0.14 7.09
* checking for unstated dependencies in vignettes ... OK
* checking package vignettes in 'inst/doc' ... OK
* checking running R code from vignettes ... SKIPPED
* checking re-building of vignette outputs ... SKIPPED
* checking PDF version of manual ... OK
* DONE
Status: 4 NOTEs
See
'C:/Users/biocbuild/bbs-3.9-bioc/meat/R453Plus1Toolbox.Rcheck/00check.log'
for details.
R453Plus1Toolbox.Rcheck/00install.out
##############################################################################
##############################################################################
###
### Running command:
###
### C:\cygwin\bin\curl.exe -O https://malbec2.bioconductor.org/BBS/3.9/bioc/src/contrib/R453Plus1Toolbox_1.33.0.tar.gz && rm -rf R453Plus1Toolbox.buildbin-libdir && mkdir R453Plus1Toolbox.buildbin-libdir && C:\Users\biocbuild\bbs-3.9-bioc\R\bin\R.exe CMD INSTALL --merge-multiarch --build --library=R453Plus1Toolbox.buildbin-libdir R453Plus1Toolbox_1.33.0.tar.gz && C:\Users\biocbuild\bbs-3.9-bioc\R\bin\R.exe CMD INSTALL R453Plus1Toolbox_1.33.0.zip && rm R453Plus1Toolbox_1.33.0.tar.gz R453Plus1Toolbox_1.33.0.zip
###
##############################################################################
##############################################################################
% Total % Received % Xferd Average Speed Time Time Time Current
Dload Upload Total Spent Left Speed
0 0 0 0 0 0 0 0 --:--:-- --:--:-- --:--:-- 0
100 686k 100 686k 0 0 9774k 0 --:--:-- --:--:-- --:--:-- 10.4M
install for i386
* installing *source* package 'R453Plus1Toolbox' ...
** libs
C:/Rtools/mingw_32/bin/gcc -I"C:/Users/BIOCBU˜1/BBS-3˜1.9-B/R/include" -DNDEBUG -I"C:/extsoft/include" -O3 -Wall -std=gnu99 -mtune=generic -c readSFF.c -o readSFF.o
C:/Rtools/mingw_32/bin/gcc -I"C:/Users/BIOCBU˜1/BBS-3˜1.9-B/R/include" -DNDEBUG -I"C:/extsoft/include" -O3 -Wall -std=gnu99 -mtune=generic -c writeSFF.c -o writeSFF.o
C:/Rtools/mingw_32/bin/gcc -shared -s -static-libgcc -o R453Plus1Toolbox.dll tmp.def readSFF.o writeSFF.o -LC:/extsoft/lib/i386 -LC:/extsoft/lib -LC:/Users/BIOCBU˜1/BBS-3˜1.9-B/R/bin/i386 -lR
installing to C:/Users/biocbuild/bbs-3.9-bioc/meat/R453Plus1Toolbox.buildbin-libdir/00LOCK-R453Plus1Toolbox/00new/R453Plus1Toolbox/libs/i386
** R
** data
** inst
** byte-compile and prepare package for lazy loading
** help
*** installing help indices
converting help for package 'R453Plus1Toolbox'
finding HTML links ... done
AVASet-class html
finding level-2 HTML links ... done
AVASet html
AnnotatedVariants-class html
Breakpoints-class html
MapperSet-class html
MapperSet html
SFFContainer-class html
SFFRead-class html
alignShortReads html
annotateVariants html
assayDataAmp html
ava2vcf html
avaSetExample html
avaSetFiltered html
avaSetFiltered_annot html
baseFrequency html
baseQualityHist html
baseQualityStats html
breakpoints html
calculateTiTv html
captureArray html
complexity.dust html
complexity.entropy html
convertCigar html
coverageOnTarget html
demultiplexReads html
detectBreakpoints html
dinucleotideOddsRatio html
fDataAmp html
featureDataAmp html
filterChimericReads html
flowgramBarplot html
gcContent html
gcContentHist html
gcPerPosition html
genomeSequencerMIDs html
getAlignedReads html
getAminoAbbr html
getVariantPercentages html
homopolymerHist html
htmlReport html
mapperSetExample html
mergeBreakpoints html
mutationInfo html
nucleotideCharts html
plotAmpliconCoverage html
plotChimericReads html
plotVariants html
plotVariationFrequency html
positionQualityBoxplot html
qualityReportSFF html
readLengthHist html
readLengthStats html
readSFF html
readsOnTarget html
referenceSequences html
regions html
removeLinker html
sequenceCaptureLinkers html
sequenceQualityHist html
setVariantFilter html
sff2fastq html
variants html
writeSFF html
** building package indices
** installing vignettes
** testing if installed package can be loaded from temporary location
** testing if installed package can be loaded from final location
** testing if installed package keeps a record of temporary installation path
install for x64
* installing *source* package 'R453Plus1Toolbox' ...
** libs
C:/Rtools/mingw_64/bin/gcc -I"C:/Users/BIOCBU˜1/BBS-3˜1.9-B/R/include" -DNDEBUG -I"C:/extsoft/include" -O2 -Wall -std=gnu99 -mtune=generic -c readSFF.c -o readSFF.o
C:/Rtools/mingw_64/bin/gcc -I"C:/Users/BIOCBU˜1/BBS-3˜1.9-B/R/include" -DNDEBUG -I"C:/extsoft/include" -O2 -Wall -std=gnu99 -mtune=generic -c writeSFF.c -o writeSFF.o
C:/Rtools/mingw_64/bin/gcc -shared -s -static-libgcc -o R453Plus1Toolbox.dll tmp.def readSFF.o writeSFF.o -LC:/extsoft/lib/x64 -LC:/extsoft/lib -LC:/Users/BIOCBU˜1/BBS-3˜1.9-B/R/bin/x64 -lR
installing to C:/Users/biocbuild/bbs-3.9-bioc/meat/R453Plus1Toolbox.buildbin-libdir/R453Plus1Toolbox/libs/x64
** testing if installed package can be loaded
* MD5 sums
packaged installation of 'R453Plus1Toolbox' as R453Plus1Toolbox_1.33.0.zip
* DONE (R453Plus1Toolbox)
* installing to library 'C:/Users/biocbuild/bbs-3.9-bioc/R/library'
package 'R453Plus1Toolbox' successfully unpacked and MD5 sums checked
|
R453Plus1Toolbox.Rcheck/examples_i386/R453Plus1Toolbox-Ex.timings
|
R453Plus1Toolbox.Rcheck/examples_x64/R453Plus1Toolbox-Ex.timings
|