| Back to Multiple platform build/check report for BioC 3.9 |
|
This page was generated on 2019-04-09 12:59:41 -0400 (Tue, 09 Apr 2019).
| Package 1277/1703 | Hostname | OS / Arch | INSTALL | BUILD | CHECK | BUILD BIN | ||||||
| R453Plus1Toolbox 1.33.0 Hans-Ulrich Klein
| malbec2 | Linux (Ubuntu 18.04.2 LTS) / x86_64 | OK | OK | OK | |||||||
| tokay2 | Windows Server 2012 R2 Standard / x64 | OK | OK | OK | OK | |||||||
| celaya2 | OS X 10.11.6 El Capitan / x86_64 | OK | OK | [ OK ] | OK | |||||||
| merida2 | OS X 10.11.6 El Capitan / x86_64 | OK | OK | OK | OK |
| Package: R453Plus1Toolbox |
| Version: 1.33.0 |
| Command: /Library/Frameworks/R.framework/Versions/Current/Resources/bin/R CMD check --install=check:R453Plus1Toolbox.install-out.txt --library=/Library/Frameworks/R.framework/Versions/Current/Resources/library --no-vignettes --timings R453Plus1Toolbox_1.33.0.tar.gz |
| StartedAt: 2019-04-09 04:43:22 -0400 (Tue, 09 Apr 2019) |
| EndedAt: 2019-04-09 04:51:38 -0400 (Tue, 09 Apr 2019) |
| EllapsedTime: 495.1 seconds |
| RetCode: 0 |
| Status: OK |
| CheckDir: R453Plus1Toolbox.Rcheck |
| Warnings: 0 |
##############################################################################
##############################################################################
###
### Running command:
###
### /Library/Frameworks/R.framework/Versions/Current/Resources/bin/R CMD check --install=check:R453Plus1Toolbox.install-out.txt --library=/Library/Frameworks/R.framework/Versions/Current/Resources/library --no-vignettes --timings R453Plus1Toolbox_1.33.0.tar.gz
###
##############################################################################
##############################################################################
* using log directory ‘/Users/biocbuild/bbs-3.9-bioc/meat/R453Plus1Toolbox.Rcheck’
* using R Under development (unstable) (2019-03-18 r76245)
* using platform: x86_64-apple-darwin15.6.0 (64-bit)
* using session charset: UTF-8
* using option ‘--no-vignettes’
* checking for file ‘R453Plus1Toolbox/DESCRIPTION’ ... OK
* checking extension type ... Package
* this is package ‘R453Plus1Toolbox’ version ‘1.33.0’
* checking package namespace information ... OK
* checking package dependencies ... OK
* checking if this is a source package ... OK
* checking if there is a namespace ... OK
* checking for hidden files and directories ... OK
* checking for portable file names ... OK
* checking for sufficient/correct file permissions ... OK
* checking whether package ‘R453Plus1Toolbox’ can be installed ... OK
* checking installed package size ... OK
* checking package directory ... OK
* checking ‘build’ directory ... OK
* checking DESCRIPTION meta-information ... OK
* checking top-level files ... OK
* checking for left-over files ... OK
* checking index information ... OK
* checking package subdirectories ... OK
* checking R files for non-ASCII characters ... OK
* checking R files for syntax errors ... OK
* checking whether the package can be loaded ... OK
* checking whether the package can be loaded with stated dependencies ... OK
* checking whether the package can be unloaded cleanly ... OK
* checking whether the namespace can be loaded with stated dependencies ... OK
* checking whether the namespace can be unloaded cleanly ... OK
* checking dependencies in R code ... NOTE
'library' or 'require' call to ‘BSgenome.Hsapiens.UCSC.hg19’ in package code.
Please use :: or requireNamespace() instead.
See section 'Suggested packages' in the 'Writing R Extensions' manual.
* checking S3 generic/method consistency ... OK
* checking replacement functions ... OK
* checking foreign function calls ... OK
* checking R code for possible problems ... NOTE
.annotateVariants_MapperSet: no visible binding for global variable
‘Hsapiens’
.ava2vcf: no visible binding for global variable ‘Hsapiens’
.detectBreakpoints: no visible binding for global variable ‘Hsapiens’
.getEnsemblInfo: no visible binding for global variable ‘cds_length’
.getEnsemblInfo: no visible binding for global variable
‘ensembl_transcript_id’
.getMutations: no visible binding for global variable ‘PatternStart’
.getMutations: no visible binding for global variable ‘PatternEnd’
.htmlReport: no visible binding for global variable ‘VarFreqForward’
.htmlReport: no visible binding for global variable ‘VarFreqReverse’
.plotVariants: no visible binding for global variable ‘mutation’
qualityReportSFF: no visible binding for '<<-' assignment to ‘tmp’
annotateVariants,MapperSet-BSgenome: no visible binding for global
variable ‘Hsapiens’
annotateVariants,MapperSet-missing: no visible binding for global
variable ‘Hsapiens’
ava2vcf,AVASet: no visible binding for global variable ‘Hsapiens’
detectBreakpoints,list: no visible binding for global variable
‘Hsapiens’
subset,AVASet: no visible binding for global variable ‘referenceSeqID’
Undefined global functions or variables:
Hsapiens PatternEnd PatternStart VarFreqForward VarFreqReverse
cds_length ensembl_transcript_id mutation referenceSeqID
* checking Rd files ... OK
* checking Rd metadata ... OK
* checking Rd cross-references ... OK
* checking for missing documentation entries ... OK
* checking for code/documentation mismatches ... OK
* checking Rd \usage sections ... OK
* checking Rd contents ... OK
* checking for unstated dependencies in examples ... OK
* checking contents of ‘data’ directory ... OK
* checking data for non-ASCII characters ... OK
* checking data for ASCII and uncompressed saves ... OK
* checking line endings in C/C++/Fortran sources/headers ... OK
* checking compiled code ... NOTE
Note: information on .o files is not available
* checking sizes of PDF files under ‘inst/doc’ ... OK
* checking files in ‘vignettes’ ... OK
* checking examples ... OK
Examples with CPU or elapsed time > 5s
user system elapsed
mergeBreakpoints 9.404 0.363 9.769
htmlReport 5.175 0.732 6.242
filterChimericReads 5.365 0.104 5.469
* checking for unstated dependencies in vignettes ... OK
* checking package vignettes in ‘inst/doc’ ... OK
* checking running R code from vignettes ... SKIPPED
* checking re-building of vignette outputs ... SKIPPED
* checking PDF version of manual ... OK
* DONE
Status: 3 NOTEs
See
‘/Users/biocbuild/bbs-3.9-bioc/meat/R453Plus1Toolbox.Rcheck/00check.log’
for details.
R453Plus1Toolbox.Rcheck/00install.out
############################################################################## ############################################################################## ### ### Running command: ### ### /Library/Frameworks/R.framework/Versions/Current/Resources/bin/R CMD INSTALL R453Plus1Toolbox ### ############################################################################## ############################################################################## * installing to library ‘/Library/Frameworks/R.framework/Versions/3.6/Resources/library’ * installing *source* package ‘R453Plus1Toolbox’ ... ** using staged installation ** libs clang -I"/Library/Frameworks/R.framework/Resources/include" -DNDEBUG -I/usr/local/include -fPIC -Wall -g -O2 -c readSFF.c -o readSFF.o clang -I"/Library/Frameworks/R.framework/Resources/include" -DNDEBUG -I/usr/local/include -fPIC -Wall -g -O2 -c writeSFF.c -o writeSFF.o clang -dynamiclib -Wl,-headerpad_max_install_names -undefined dynamic_lookup -single_module -multiply_defined suppress -L/Library/Frameworks/R.framework/Resources/lib -L/usr/local/lib -o R453Plus1Toolbox.so readSFF.o writeSFF.o -F/Library/Frameworks/R.framework/.. -framework R -Wl,-framework -Wl,CoreFoundation installing to /Library/Frameworks/R.framework/Versions/3.6/Resources/library/00LOCK-R453Plus1Toolbox/00new/R453Plus1Toolbox/libs ** R ** data ** inst ** byte-compile and prepare package for lazy loading ** help *** installing help indices ** building package indices ** installing vignettes ** testing if installed package can be loaded from temporary location ** checking absolute paths in shared objects and dynamic libraries ** testing if installed package can be loaded from final location ** testing if installed package keeps a record of temporary installation path * DONE (R453Plus1Toolbox)
R453Plus1Toolbox.Rcheck/R453Plus1Toolbox-Ex.timings
| name | user | system | elapsed | |
| AVASet-class | 0.364 | 0.019 | 0.388 | |
| AVASet | 0.309 | 0.011 | 0.328 | |
| AnnotatedVariants-class | 0.003 | 0.001 | 0.005 | |
| MapperSet-class | 0.053 | 0.026 | 0.080 | |
| MapperSet | 0.011 | 0.006 | 0.018 | |
| SFFContainer-class | 0.002 | 0.001 | 0.003 | |
| SFFRead-class | 0.001 | 0.001 | 0.001 | |
| alignShortReads | 2.370 | 0.028 | 2.409 | |
| annotateVariants | 0.002 | 0.000 | 0.002 | |
| assayDataAmp | 0.007 | 0.006 | 0.013 | |
| ava2vcf | 0.319 | 0.021 | 0.341 | |
| avaSetExample | 0.017 | 0.006 | 0.023 | |
| avaSetFiltered | 0.033 | 0.006 | 0.039 | |
| avaSetFiltered_annot | 0.003 | 0.004 | 0.007 | |
| breakpoints | 0.008 | 0.004 | 0.012 | |
| calculateTiTv | 0.013 | 0.003 | 0.016 | |
| captureArray | 0.003 | 0.004 | 0.007 | |
| coverageOnTarget | 0.337 | 0.010 | 0.349 | |
| demultiplexReads | 0.133 | 0.003 | 0.136 | |
| detectBreakpoints | 1.228 | 0.179 | 1.415 | |
| fDataAmp | 0.021 | 0.004 | 0.025 | |
| featureDataAmp | 0.017 | 0.003 | 0.020 | |
| filterChimericReads | 5.365 | 0.104 | 5.469 | |
| genomeSequencerMIDs | 0.021 | 0.001 | 0.022 | |
| getAlignedReads | 0.110 | 0.006 | 0.118 | |
| getVariantPercentages | 0.039 | 0.007 | 0.045 | |
| htmlReport | 5.175 | 0.732 | 6.242 | |
| mapperSetExample | 0.010 | 0.004 | 0.015 | |
| mergeBreakpoints | 9.404 | 0.363 | 9.769 | |
| mutationInfo | 0.006 | 0.005 | 0.011 | |
| plotAmpliconCoverage | 0.000 | 0.001 | 0.000 | |
| plotChimericReads | 2.941 | 0.034 | 2.975 | |
| plotVariants | 0.007 | 0.001 | 0.008 | |
| plotVariationFrequency | 0.001 | 0.000 | 0.001 | |
| qualityReportSFF | 0.001 | 0.000 | 0.001 | |
| readSFF | 0.196 | 0.005 | 0.204 | |
| readsOnTarget | 0.073 | 0.006 | 0.079 | |
| referenceSequences | 0.008 | 0.003 | 0.011 | |
| regions | 0.006 | 0.004 | 0.009 | |
| removeLinker | 0.023 | 0.002 | 0.025 | |
| sequenceCaptureLinkers | 0.005 | 0.001 | 0.005 | |
| setVariantFilter | 0.053 | 0.006 | 0.059 | |
| variants | 0.003 | 0.003 | 0.007 | |
| writeSFF | 0.035 | 0.001 | 0.036 | |