| Back to Multiple platform build/check report for BioC 3.9 |
|
This page was generated on 2019-04-09 12:22:07 -0400 (Tue, 09 Apr 2019).
| Package 1269/1703 | Hostname | OS / Arch | INSTALL | BUILD | CHECK | BUILD BIN | ||||||
| QuartPAC 1.15.0 Gregory Ryslik
| malbec2 | Linux (Ubuntu 18.04.2 LTS) / x86_64 | OK | OK | OK | |||||||
| tokay2 | Windows Server 2012 R2 Standard / x64 | OK | OK | [ OK ] | OK | |||||||
| celaya2 | OS X 10.11.6 El Capitan / x86_64 | OK | OK | OK | OK | |||||||
| merida2 | OS X 10.11.6 El Capitan / x86_64 | OK | OK | OK | OK |
| Package: QuartPAC |
| Version: 1.15.0 |
| Command: C:\Users\biocbuild\bbs-3.9-bioc\R\bin\R.exe CMD check --force-multiarch --install=check:QuartPAC.install-out.txt --library=C:\Users\biocbuild\bbs-3.9-bioc\R\library --no-vignettes --timings QuartPAC_1.15.0.tar.gz |
| StartedAt: 2019-04-09 05:11:06 -0400 (Tue, 09 Apr 2019) |
| EndedAt: 2019-04-09 05:17:57 -0400 (Tue, 09 Apr 2019) |
| EllapsedTime: 411.1 seconds |
| RetCode: 0 |
| Status: OK |
| CheckDir: QuartPAC.Rcheck |
| Warnings: 0 |
##############################################################################
##############################################################################
###
### Running command:
###
### C:\Users\biocbuild\bbs-3.9-bioc\R\bin\R.exe CMD check --force-multiarch --install=check:QuartPAC.install-out.txt --library=C:\Users\biocbuild\bbs-3.9-bioc\R\library --no-vignettes --timings QuartPAC_1.15.0.tar.gz
###
##############################################################################
##############################################################################
* using log directory 'C:/Users/biocbuild/bbs-3.9-bioc/meat/QuartPAC.Rcheck'
* using R Under development (unstable) (2019-03-09 r76216)
* using platform: x86_64-w64-mingw32 (64-bit)
* using session charset: ISO8859-1
* using option '--no-vignettes'
* checking for file 'QuartPAC/DESCRIPTION' ... OK
* checking extension type ... Package
* this is package 'QuartPAC' version '1.15.0'
* checking package namespace information ... OK
* checking package dependencies ... OK
* checking if this is a source package ... OK
* checking if there is a namespace ... OK
* checking for hidden files and directories ... OK
* checking for portable file names ... OK
* checking whether package 'QuartPAC' can be installed ... OK
* checking installed package size ... OK
* checking package directory ... OK
* checking 'build' directory ... OK
* checking DESCRIPTION meta-information ... NOTE
Malformed Title field: should not end in a period.
* checking top-level files ... OK
* checking for left-over files ... OK
* checking index information ... OK
* checking package subdirectories ... OK
* checking R files for non-ASCII characters ... OK
* checking R files for syntax errors ... OK
* loading checks for arch 'i386'
** checking whether the package can be loaded ... OK
** checking whether the package can be loaded with stated dependencies ... OK
** checking whether the package can be unloaded cleanly ... OK
** checking whether the namespace can be loaded with stated dependencies ... OK
** checking whether the namespace can be unloaded cleanly ... OK
* loading checks for arch 'x64'
** checking whether the package can be loaded ... OK
** checking whether the package can be loaded with stated dependencies ... OK
** checking whether the package can be unloaded cleanly ... OK
** checking whether the namespace can be loaded with stated dependencies ... OK
** checking whether the namespace can be unloaded cleanly ... OK
* checking dependencies in R code ... OK
* checking S3 generic/method consistency ... OK
* checking replacement functions ... OK
* checking foreign function calls ... OK
* checking R code for possible problems ... NOTE
alignPositions: no visible global function definition for
'PhredQuality'
alignPositions: no visible global function definition for
'pairwiseAlignment'
constructCanonicalNumbering: no visible global function definition for
'pattern'
constructCanonicalNumbering: no visible global function definition for
'subject'
constructCanonicalNumbering: no visible global function definition for
'start'
getMutations : <anonymous>: no visible global function definition for
'read.table'
getRangeLocInfo: no visible global function definition for 'aggregate'
quartCluster: no visible global function definition for
'capture.output'
Undefined global functions or variables:
PhredQuality aggregate capture.output pairwiseAlignment pattern
read.table start subject
Consider adding
importFrom("stats", "aggregate", "start")
importFrom("utils", "capture.output", "read.table")
to your NAMESPACE file.
* checking Rd files ... OK
* checking Rd metadata ... OK
* checking Rd cross-references ... OK
* checking for missing documentation entries ... OK
* checking for code/documentation mismatches ... OK
* checking Rd \usage sections ... OK
* checking Rd contents ... OK
* checking for unstated dependencies in examples ... OK
* checking files in 'vignettes' ... OK
* checking examples ...
** running examples for arch 'i386' ... OK
Examples with CPU or elapsed time > 5s
user system elapsed
QuartPAC-package 54.49 4.39 56.47
makeAlignedSuperStructure 27.10 6.19 26.22
** running examples for arch 'x64' ... OK
Examples with CPU or elapsed time > 5s
user system elapsed
QuartPAC-package 47.25 5.13 47.44
makeAlignedSuperStructure 26.20 5.11 26.03
* checking for unstated dependencies in 'tests' ... OK
* checking tests ...
** running tests for arch 'i386' ...
Running 'runTests.R'
OK
** running tests for arch 'x64' ...
Running 'runTests.R'
OK
* checking for unstated dependencies in vignettes ... OK
* checking package vignettes in 'inst/doc' ... OK
* checking running R code from vignettes ... SKIPPED
* checking re-building of vignette outputs ... SKIPPED
* checking PDF version of manual ... OK
* DONE
Status: 2 NOTEs
See
'C:/Users/biocbuild/bbs-3.9-bioc/meat/QuartPAC.Rcheck/00check.log'
for details.
QuartPAC.Rcheck/00install.out
##############################################################################
##############################################################################
###
### Running command:
###
### C:\cygwin\bin\curl.exe -O https://malbec2.bioconductor.org/BBS/3.9/bioc/src/contrib/QuartPAC_1.15.0.tar.gz && rm -rf QuartPAC.buildbin-libdir && mkdir QuartPAC.buildbin-libdir && C:\Users\biocbuild\bbs-3.9-bioc\R\bin\R.exe CMD INSTALL --merge-multiarch --build --library=QuartPAC.buildbin-libdir QuartPAC_1.15.0.tar.gz && C:\Users\biocbuild\bbs-3.9-bioc\R\bin\R.exe CMD INSTALL QuartPAC_1.15.0.zip && rm QuartPAC_1.15.0.tar.gz QuartPAC_1.15.0.zip
###
##############################################################################
##############################################################################
% Total % Received % Xferd Average Speed Time Time Time Current
Dload Upload Total Spent Left Speed
0 0 0 0 0 0 0 0 --:--:-- --:--:-- --:--:-- 0
100 331k 100 331k 0 0 5143k 0 --:--:-- --:--:-- --:--:-- 5722k
install for i386
* installing *source* package 'QuartPAC' ...
** R
** inst
** byte-compile and prepare package for lazy loading
** help
*** installing help indices
converting help for package 'QuartPAC'
finding HTML links ... done
QuartPAC-package html
getMutations html
makeAlignedSuperStructure html
quartCluster html
** building package indices
** installing vignettes
** testing if installed package can be loaded from temporary location
** testing if installed package can be loaded from final location
** testing if installed package keeps a record of temporary installation path
install for x64
* installing *source* package 'QuartPAC' ...
** testing if installed package can be loaded
* MD5 sums
packaged installation of 'QuartPAC' as QuartPAC_1.15.0.zip
* DONE (QuartPAC)
* installing to library 'C:/Users/biocbuild/bbs-3.9-bioc/R/library'
package 'QuartPAC' successfully unpacked and MD5 sums checked
|
QuartPAC.Rcheck/tests_i386/runTests.Rout
R Under development (unstable) (2019-03-09 r76216) -- "Unsuffered Consequences"
Copyright (C) 2019 The R Foundation for Statistical Computing
Platform: i386-w64-mingw32/i386 (32-bit)
R is free software and comes with ABSOLUTELY NO WARRANTY.
You are welcome to redistribute it under certain conditions.
Type 'license()' or 'licence()' for distribution details.
R is a collaborative project with many contributors.
Type 'contributors()' for more information and
'citation()' on how to cite R or R packages in publications.
Type 'demo()' for some demos, 'help()' for on-line help, or
'help.start()' for an HTML browser interface to help.
Type 'q()' to quit R.
> BiocGenerics:::testPackage("QuartPAC")
gdata: read.xls support for 'XLS' (Excel 97-2004) files ENABLED.
gdata: read.xls support for 'XLSX' (Excel 2007+) files ENABLED.
Attaching package: 'gdata'
The following object is masked from 'package:stats':
nobs
The following object is masked from 'package:utils':
object.size
The following object is masked from 'package:base':
startsWith
Attaching package: 'BiocGenerics'
The following objects are masked from 'package:parallel':
clusterApply, clusterApplyLB, clusterCall, clusterEvalQ,
clusterExport, clusterMap, parApply, parCapply, parLapply,
parLapplyLB, parRapply, parSapply, parSapplyLB
The following object is masked from 'package:gdata':
combine
The following objects are masked from 'package:stats':
IQR, mad, sd, var, xtabs
The following objects are masked from 'package:base':
Filter, Find, Map, Position, Reduce, anyDuplicated, append,
as.data.frame, basename, cbind, colMeans, colSums, colnames,
dirname, do.call, duplicated, eval, evalq, get, grep, grepl,
intersect, is.unsorted, lapply, mapply, match, mget, order, paste,
pmax, pmax.int, pmin, pmin.int, rank, rbind, rowMeans, rowSums,
rownames, sapply, setdiff, sort, table, tapply, union, unique,
unsplit, which, which.max, which.min
Attaching package: 'S4Vectors'
The following objects are masked from 'package:gdata':
first, first<-
The following object is masked from 'package:base':
expand.grid
Attaching package: 'IRanges'
The following object is masked from 'package:gdata':
trim
The following object is masked from 'package:grDevices':
windows
Attaching package: 'Biostrings'
The following object is masked from 'package:base':
strsplit
Welcome to Bioconductor
Vignettes contain introductory material; view with
'browseVignettes()'. To cite Bioconductor, see
'citation("Biobase")', and for packages 'citation("pkgname")'.
Attaching package: 'igraph'
The following object is masked from 'package:Biostrings':
union
The following object is masked from 'package:IRanges':
union
The following object is masked from 'package:S4Vectors':
union
The following objects are masked from 'package:BiocGenerics':
normalize, path, union
The following objects are masked from 'package:stats':
decompose, spectrum
The following object is masked from 'package:base':
union
Attaching package: 'combinat'
The following object is masked from 'package:utils':
combn
Attaching package: 'data.table'
The following object is masked from 'package:IRanges':
shift
The following objects are masked from 'package:S4Vectors':
first, second
The following objects are masked from 'package:gdata':
first, last
Performing SpacePAC calculations
Processing radius # 1 : radius length = 1.00 : Percentage complete 0.00
Processing radius # 2 : radius length = 2.00 : Percentage complete 0.50
Performing iPAC Calculations
[1] "Running Remapped"
Performing GraphPAC Calculations
Calculating Remapped Clusters.
RUNIT TEST PROTOCOL -- Tue Apr 09 05:16:47 2019
***********************************************
Number of test functions: 1
Number of errors: 0
Number of failures: 0
1 Test Suite :
QuartPAC RUnit Tests - 1 test function, 0 errors, 0 failures
Number of test functions: 1
Number of errors: 0
Number of failures: 0
>
> proc.time()
user system elapsed
46.76 6.90 48.07
|
QuartPAC.Rcheck/tests_x64/runTests.Rout
R Under development (unstable) (2019-03-09 r76216) -- "Unsuffered Consequences"
Copyright (C) 2019 The R Foundation for Statistical Computing
Platform: x86_64-w64-mingw32/x64 (64-bit)
R is free software and comes with ABSOLUTELY NO WARRANTY.
You are welcome to redistribute it under certain conditions.
Type 'license()' or 'licence()' for distribution details.
R is a collaborative project with many contributors.
Type 'contributors()' for more information and
'citation()' on how to cite R or R packages in publications.
Type 'demo()' for some demos, 'help()' for on-line help, or
'help.start()' for an HTML browser interface to help.
Type 'q()' to quit R.
> BiocGenerics:::testPackage("QuartPAC")
gdata: read.xls support for 'XLS' (Excel 97-2004) files ENABLED.
gdata: read.xls support for 'XLSX' (Excel 2007+) files ENABLED.
Attaching package: 'gdata'
The following object is masked from 'package:stats':
nobs
The following object is masked from 'package:utils':
object.size
The following object is masked from 'package:base':
startsWith
Attaching package: 'BiocGenerics'
The following objects are masked from 'package:parallel':
clusterApply, clusterApplyLB, clusterCall, clusterEvalQ,
clusterExport, clusterMap, parApply, parCapply, parLapply,
parLapplyLB, parRapply, parSapply, parSapplyLB
The following object is masked from 'package:gdata':
combine
The following objects are masked from 'package:stats':
IQR, mad, sd, var, xtabs
The following objects are masked from 'package:base':
Filter, Find, Map, Position, Reduce, anyDuplicated, append,
as.data.frame, basename, cbind, colMeans, colSums, colnames,
dirname, do.call, duplicated, eval, evalq, get, grep, grepl,
intersect, is.unsorted, lapply, mapply, match, mget, order, paste,
pmax, pmax.int, pmin, pmin.int, rank, rbind, rowMeans, rowSums,
rownames, sapply, setdiff, sort, table, tapply, union, unique,
unsplit, which, which.max, which.min
Attaching package: 'S4Vectors'
The following objects are masked from 'package:gdata':
first, first<-
The following object is masked from 'package:base':
expand.grid
Attaching package: 'IRanges'
The following object is masked from 'package:gdata':
trim
The following object is masked from 'package:grDevices':
windows
Attaching package: 'Biostrings'
The following object is masked from 'package:base':
strsplit
Welcome to Bioconductor
Vignettes contain introductory material; view with
'browseVignettes()'. To cite Bioconductor, see
'citation("Biobase")', and for packages 'citation("pkgname")'.
Attaching package: 'igraph'
The following object is masked from 'package:Biostrings':
union
The following object is masked from 'package:IRanges':
union
The following object is masked from 'package:S4Vectors':
union
The following objects are masked from 'package:BiocGenerics':
normalize, path, union
The following objects are masked from 'package:stats':
decompose, spectrum
The following object is masked from 'package:base':
union
Attaching package: 'combinat'
The following object is masked from 'package:utils':
combn
Attaching package: 'data.table'
The following object is masked from 'package:IRanges':
shift
The following objects are masked from 'package:S4Vectors':
first, second
The following objects are masked from 'package:gdata':
first, last
Performing SpacePAC calculations
Processing radius # 1 : radius length = 1.00 : Percentage complete 0.00
Processing radius # 2 : radius length = 2.00 : Percentage complete 0.50
Performing iPAC Calculations
[1] "Running Remapped"
Performing GraphPAC Calculations
Calculating Remapped Clusters.
RUNIT TEST PROTOCOL -- Tue Apr 09 05:17:52 2019
***********************************************
Number of test functions: 1
Number of errors: 0
Number of failures: 0
1 Test Suite :
QuartPAC RUnit Tests - 1 test function, 0 errors, 0 failures
Number of test functions: 1
Number of errors: 0
Number of failures: 0
>
> proc.time()
user system elapsed
50.43 6.59 65.00
|
|
QuartPAC.Rcheck/examples_i386/QuartPAC-Ex.timings
|
QuartPAC.Rcheck/examples_x64/QuartPAC-Ex.timings
|