| Back to Multiple platform build/check report for BioC 3.9 |
|
This page was generated on 2019-04-09 12:22:08 -0400 (Tue, 09 Apr 2019).
| Package 1269/1703 | Hostname | OS / Arch | INSTALL | BUILD | CHECK | BUILD BIN | ||||||
| QuartPAC 1.15.0 Gregory Ryslik
| malbec2 | Linux (Ubuntu 18.04.2 LTS) / x86_64 | OK | OK | OK | |||||||
| tokay2 | Windows Server 2012 R2 Standard / x64 | OK | OK | OK | [ OK ] | |||||||
| celaya2 | OS X 10.11.6 El Capitan / x86_64 | OK | OK | OK | OK | |||||||
| merida2 | OS X 10.11.6 El Capitan / x86_64 | OK | OK | OK | OK |
| Package: QuartPAC |
| Version: 1.15.0 |
| Command: rm -rf QuartPAC.buildbin-libdir && mkdir QuartPAC.buildbin-libdir && C:\Users\biocbuild\bbs-3.9-bioc\R\bin\R.exe CMD INSTALL --merge-multiarch --build --library=QuartPAC.buildbin-libdir QuartPAC_1.15.0.tar.gz |
| StartedAt: 2019-04-09 08:45:24 -0400 (Tue, 09 Apr 2019) |
| EndedAt: 2019-04-09 08:46:06 -0400 (Tue, 09 Apr 2019) |
| EllapsedTime: 42.4 seconds |
| RetCode: 0 |
| Status: OK |
| PackageFile: QuartPAC_1.15.0.zip |
| PackageFileSize: 518.3 KiB |
##############################################################################
##############################################################################
###
### Running command:
###
### rm -rf QuartPAC.buildbin-libdir && mkdir QuartPAC.buildbin-libdir && C:\Users\biocbuild\bbs-3.9-bioc\R\bin\R.exe CMD INSTALL --merge-multiarch --build --library=QuartPAC.buildbin-libdir QuartPAC_1.15.0.tar.gz
###
##############################################################################
##############################################################################
install for i386
* installing *source* package 'QuartPAC' ...
** R
** inst
** byte-compile and prepare package for lazy loading
** help
*** installing help indices
converting help for package 'QuartPAC'
finding HTML links ... done
QuartPAC-package html
getMutations html
makeAlignedSuperStructure html
quartCluster html
** building package indices
** installing vignettes
** testing if installed package can be loaded from temporary location
** testing if installed package can be loaded from final location
** testing if installed package keeps a record of temporary installation path
install for x64
* installing *source* package 'QuartPAC' ...
** testing if installed package can be loaded
* MD5 sums
packaged installation of 'QuartPAC' as QuartPAC_1.15.0.zip
* DONE (QuartPAC)