| Back to Multiple platform build/check report for BioC 3.9 |
|
This page was generated on 2019-04-09 12:24:41 -0400 (Tue, 09 Apr 2019).
| Package 1131/1703 | Hostname | OS / Arch | INSTALL | BUILD | CHECK | BUILD BIN | ||||||
| Oscope 1.13.1 Ning Leng
| malbec2 | Linux (Ubuntu 18.04.2 LTS) / x86_64 | OK | OK | OK | |||||||
| tokay2 | Windows Server 2012 R2 Standard / x64 | OK | OK | [ OK ] | OK | |||||||
| celaya2 | OS X 10.11.6 El Capitan / x86_64 | OK | OK | OK | OK | |||||||
| merida2 | OS X 10.11.6 El Capitan / x86_64 | OK | OK | OK | OK |
| Package: Oscope |
| Version: 1.13.1 |
| Command: C:\Users\biocbuild\bbs-3.9-bioc\R\bin\R.exe CMD check --force-multiarch --install=check:Oscope.install-out.txt --library=C:\Users\biocbuild\bbs-3.9-bioc\R\library --no-vignettes --timings Oscope_1.13.1.tar.gz |
| StartedAt: 2019-04-09 04:42:52 -0400 (Tue, 09 Apr 2019) |
| EndedAt: 2019-04-09 04:44:28 -0400 (Tue, 09 Apr 2019) |
| EllapsedTime: 96.1 seconds |
| RetCode: 0 |
| Status: OK |
| CheckDir: Oscope.Rcheck |
| Warnings: 0 |
##############################################################################
##############################################################################
###
### Running command:
###
### C:\Users\biocbuild\bbs-3.9-bioc\R\bin\R.exe CMD check --force-multiarch --install=check:Oscope.install-out.txt --library=C:\Users\biocbuild\bbs-3.9-bioc\R\library --no-vignettes --timings Oscope_1.13.1.tar.gz
###
##############################################################################
##############################################################################
* using log directory 'C:/Users/biocbuild/bbs-3.9-bioc/meat/Oscope.Rcheck'
* using R Under development (unstable) (2019-03-09 r76216)
* using platform: x86_64-w64-mingw32 (64-bit)
* using session charset: ISO8859-1
* using option '--no-vignettes'
* checking for file 'Oscope/DESCRIPTION' ... OK
* checking extension type ... Package
* this is package 'Oscope' version '1.13.1'
* checking package namespace information ... OK
* checking package dependencies ... OK
* checking if this is a source package ... OK
* checking if there is a namespace ... OK
* checking for hidden files and directories ... OK
* checking for portable file names ... OK
* checking whether package 'Oscope' can be installed ... OK
* checking installed package size ... OK
* checking package directory ... OK
* checking 'build' directory ... OK
* checking DESCRIPTION meta-information ... OK
* checking top-level files ... OK
* checking for left-over files ... OK
* checking index information ... OK
* checking package subdirectories ... OK
* checking R files for non-ASCII characters ... OK
* checking R files for syntax errors ... OK
* loading checks for arch 'i386'
** checking whether the package can be loaded ... OK
** checking whether the package can be loaded with stated dependencies ... OK
** checking whether the package can be unloaded cleanly ... OK
** checking whether the namespace can be loaded with stated dependencies ... OK
** checking whether the namespace can be unloaded cleanly ... OK
* loading checks for arch 'x64'
** checking whether the package can be loaded ... OK
** checking whether the package can be loaded with stated dependencies ... OK
** checking whether the package can be unloaded cleanly ... OK
** checking whether the namespace can be loaded with stated dependencies ... OK
** checking whether the namespace can be unloaded cleanly ... OK
* checking dependencies in R code ... OK
* checking S3 generic/method consistency ... OK
* checking replacement functions ... OK
* checking foreign function calls ... OK
* checking R code for possible problems ... NOTE
AbsCor: no visible global function definition for 'cor'
CalcMV: no visible binding for global variable 'median'
CalcMV: no visible global function definition for 'lm'
CalcMV: no visible global function definition for 'coef'
CalcMV: no visible global function definition for 'plot'
CalcMV: no visible global function definition for 'lines'
CalcMV: no visible global function definition for 'points'
CalcMV: no visible global function definition for 'abline'
FlagCluster: no visible global function definition for 'quantile'
ImpShift: no visible global function definition for 'txtProgressBar'
ImpShift: no visible global function definition for 'setTxtProgressBar'
NISFun: no visible global function definition for 'str'
NormForSine : <anonymous>: no visible global function definition for
'quantile'
PipeR : <anonymous>: no visible global function definition for
'residuals'
PipeR : <anonymous>: no visible global function definition for 'lm'
PipeShiftCDF : <anonymous>: no visible global function definition for
'quantile'
PipeShiftCDF : <anonymous>: no visible global function definition for
'ecdf'
SineOptim: no visible global function definition for 'optim'
scanK: no visible global function definition for 'quantile'
scanK: no visible global function definition for 'dist'
scanK : <anonymous>: no visible global function definition for 'median'
Undefined global functions or variables:
abline coef cor dist ecdf lines lm median optim plot points quantile
residuals setTxtProgressBar str txtProgressBar
Consider adding
importFrom("graphics", "abline", "lines", "plot", "points")
importFrom("stats", "coef", "cor", "dist", "ecdf", "lm", "median",
"optim", "quantile", "residuals")
importFrom("utils", "setTxtProgressBar", "str", "txtProgressBar")
to your NAMESPACE file.
* checking Rd files ... OK
* checking Rd metadata ... OK
* checking Rd cross-references ... OK
* checking for missing documentation entries ... OK
* checking for code/documentation mismatches ... OK
* checking Rd \usage sections ... OK
* checking Rd contents ... OK
* checking for unstated dependencies in examples ... OK
* checking contents of 'data' directory ... OK
* checking data for non-ASCII characters ... OK
* checking data for ASCII and uncompressed saves ... OK
* checking files in 'vignettes' ... OK
* checking examples ...
** running examples for arch 'i386' ... OK
Examples with CPU or elapsed time > 5s
user system elapsed
PermuCut 7.28 0 7.28
** running examples for arch 'x64' ... OK
* checking for unstated dependencies in vignettes ... OK
* checking package vignettes in 'inst/doc' ... OK
* checking running R code from vignettes ... SKIPPED
* checking re-building of vignette outputs ... SKIPPED
* checking PDF version of manual ... OK
* DONE
Status: 1 NOTE
See
'C:/Users/biocbuild/bbs-3.9-bioc/meat/Oscope.Rcheck/00check.log'
for details.
Oscope.Rcheck/00install.out
##############################################################################
##############################################################################
###
### Running command:
###
### C:\cygwin\bin\curl.exe -O https://malbec2.bioconductor.org/BBS/3.9/bioc/src/contrib/Oscope_1.13.1.tar.gz && rm -rf Oscope.buildbin-libdir && mkdir Oscope.buildbin-libdir && C:\Users\biocbuild\bbs-3.9-bioc\R\bin\R.exe CMD INSTALL --merge-multiarch --build --library=Oscope.buildbin-libdir Oscope_1.13.1.tar.gz && C:\Users\biocbuild\bbs-3.9-bioc\R\bin\R.exe CMD INSTALL Oscope_1.13.1.zip && rm Oscope_1.13.1.tar.gz Oscope_1.13.1.zip
###
##############################################################################
##############################################################################
% Total % Received % Xferd Average Speed Time Time Time Current
Dload Upload Total Spent Left Speed
0 0 0 0 0 0 0 0 --:--:-- --:--:-- --:--:-- 0
100 533k 100 533k 0 0 3261k 0 --:--:-- --:--:-- --:--:-- 3399k
install for i386
* installing *source* package 'Oscope' ...
** R
** data
** demo
** byte-compile and prepare package for lazy loading
** help
*** installing help indices
converting help for package 'Oscope'
finding HTML links ... done
AbsCor html
CalcMV html
FlagCluster html
FormatSineOut html
ImpShift html
NISFun html
NormForSine html
Opt2Shift html
Oscope-package html
OscopeENI html
OscopeExampleData html
OscopeKM html
OscopeSine html
PermuCut html
PipeR html
PipeShiftCDF html
SineFun html
SineOptim html
scanK html
** building package indices
** installing vignettes
** testing if installed package can be loaded from temporary location
** testing if installed package can be loaded from final location
** testing if installed package keeps a record of temporary installation path
install for x64
* installing *source* package 'Oscope' ...
** testing if installed package can be loaded
* MD5 sums
packaged installation of 'Oscope' as Oscope_1.13.1.zip
* DONE (Oscope)
* installing to library 'C:/Users/biocbuild/bbs-3.9-bioc/R/library'
package 'Oscope' successfully unpacked and MD5 sums checked
|
Oscope.Rcheck/examples_i386/Oscope-Ex.timings
|
Oscope.Rcheck/examples_x64/Oscope-Ex.timings
|