| Back to Multiple platform build/check report for BioC 3.9 |
|
This page was generated on 2019-04-09 12:24:42 -0400 (Tue, 09 Apr 2019).
| Package 1131/1703 | Hostname | OS / Arch | INSTALL | BUILD | CHECK | BUILD BIN | ||||||
| Oscope 1.13.1 Ning Leng
| malbec2 | Linux (Ubuntu 18.04.2 LTS) / x86_64 | OK | OK | OK | |||||||
| tokay2 | Windows Server 2012 R2 Standard / x64 | OK | OK | OK | [ OK ] | |||||||
| celaya2 | OS X 10.11.6 El Capitan / x86_64 | OK | OK | OK | OK | |||||||
| merida2 | OS X 10.11.6 El Capitan / x86_64 | OK | OK | OK | OK |
| Package: Oscope |
| Version: 1.13.1 |
| Command: rm -rf Oscope.buildbin-libdir && mkdir Oscope.buildbin-libdir && C:\Users\biocbuild\bbs-3.9-bioc\R\bin\R.exe CMD INSTALL --merge-multiarch --build --library=Oscope.buildbin-libdir Oscope_1.13.1.tar.gz |
| StartedAt: 2019-04-09 08:37:12 -0400 (Tue, 09 Apr 2019) |
| EndedAt: 2019-04-09 08:37:47 -0400 (Tue, 09 Apr 2019) |
| EllapsedTime: 34.9 seconds |
| RetCode: 0 |
| Status: OK |
| PackageFile: Oscope_1.13.1.zip |
| PackageFileSize: 834.8 KiB |
##############################################################################
##############################################################################
###
### Running command:
###
### rm -rf Oscope.buildbin-libdir && mkdir Oscope.buildbin-libdir && C:\Users\biocbuild\bbs-3.9-bioc\R\bin\R.exe CMD INSTALL --merge-multiarch --build --library=Oscope.buildbin-libdir Oscope_1.13.1.tar.gz
###
##############################################################################
##############################################################################
install for i386
* installing *source* package 'Oscope' ...
** R
** data
** demo
** inst
** byte-compile and prepare package for lazy loading
** help
*** installing help indices
converting help for package 'Oscope'
finding HTML links ... done
AbsCor html
CalcMV html
FlagCluster html
FormatSineOut html
ImpShift html
NISFun html
NormForSine html
Opt2Shift html
Oscope-package html
OscopeENI html
OscopeExampleData html
OscopeKM html
OscopeSine html
PermuCut html
PipeR html
PipeShiftCDF html
SineFun html
SineOptim html
scanK html
** building package indices
** installing vignettes
** testing if installed package can be loaded from temporary location
** testing if installed package can be loaded from final location
** testing if installed package keeps a record of temporary installation path
install for x64
* installing *source* package 'Oscope' ...
** testing if installed package can be loaded
* MD5 sums
packaged installation of 'Oscope' as Oscope_1.13.1.zip
* DONE (Oscope)