| Back to Multiple platform build/check report for BioC 3.9 |
|
This page was generated on 2019-04-09 12:24:37 -0400 (Tue, 09 Apr 2019).
| Package 1100/1703 | Hostname | OS / Arch | INSTALL | BUILD | CHECK | BUILD BIN | ||||||
| OGSA 1.13.0 Michael F. Ochs
| malbec2 | Linux (Ubuntu 18.04.2 LTS) / x86_64 | OK | OK | OK | |||||||
| tokay2 | Windows Server 2012 R2 Standard / x64 | OK | OK | OK | [ OK ] | |||||||
| celaya2 | OS X 10.11.6 El Capitan / x86_64 | OK | OK | OK | OK | |||||||
| merida2 | OS X 10.11.6 El Capitan / x86_64 | OK | OK | OK | OK |
| Package: OGSA |
| Version: 1.13.0 |
| Command: rm -rf OGSA.buildbin-libdir && mkdir OGSA.buildbin-libdir && C:\Users\biocbuild\bbs-3.9-bioc\R\bin\R.exe CMD INSTALL --merge-multiarch --build --library=OGSA.buildbin-libdir OGSA_1.13.0.tar.gz |
| StartedAt: 2019-04-09 08:35:19 -0400 (Tue, 09 Apr 2019) |
| EndedAt: 2019-04-09 08:36:00 -0400 (Tue, 09 Apr 2019) |
| EllapsedTime: 40.4 seconds |
| RetCode: 0 |
| Status: OK |
| PackageFile: OGSA_1.13.0.zip |
| PackageFileSize: 3.331 MiB |
##############################################################################
##############################################################################
###
### Running command:
###
### rm -rf OGSA.buildbin-libdir && mkdir OGSA.buildbin-libdir && C:\Users\biocbuild\bbs-3.9-bioc\R\bin\R.exe CMD INSTALL --merge-multiarch --build --library=OGSA.buildbin-libdir OGSA_1.13.0.tar.gz
###
##############################################################################
##############################################################################
install for i386
* installing *source* package 'OGSA' ...
** R
** data
*** moving datasets to lazyload DB
** inst
** byte-compile and prepare package for lazy loading
** help
*** installing help indices
converting help for package 'OGSA'
finding HTML links ... done
OGSA-package html
cnv html
copaInt html
copaIntE html
copaStat html
expr html
expressionSetDataSet html
expressionSetPheno html
meth html
outCallRank html
outCallRankE html
outCallTib html
outCallTibE html
outCount html
outMap html
outRank html
pathGS html
pheno html
testGScogps html
** building package indices
** installing vignettes
** testing if installed package can be loaded from temporary location
** testing if installed package can be loaded from final location
** testing if installed package keeps a record of temporary installation path
install for x64
* installing *source* package 'OGSA' ...
** testing if installed package can be loaded
* MD5 sums
packaged installation of 'OGSA' as OGSA_1.13.0.zip
* DONE (OGSA)