| Back to Multiple platform build/check report for BioC 3.9 |
|
This page was generated on 2019-04-09 13:14:30 -0400 (Tue, 09 Apr 2019).
| Package 1100/1703 | Hostname | OS / Arch | INSTALL | BUILD | CHECK | BUILD BIN | ||||||
| OGSA 1.13.0 Michael F. Ochs
| malbec2 | Linux (Ubuntu 18.04.2 LTS) / x86_64 | OK | OK | OK | |||||||
| tokay2 | Windows Server 2012 R2 Standard / x64 | OK | OK | OK | OK | |||||||
| celaya2 | OS X 10.11.6 El Capitan / x86_64 | OK | OK | [ OK ] | OK | |||||||
| merida2 | OS X 10.11.6 El Capitan / x86_64 | OK | OK | OK | OK |
| Package: OGSA |
| Version: 1.13.0 |
| Command: /Library/Frameworks/R.framework/Versions/Current/Resources/bin/R CMD check --install=check:OGSA.install-out.txt --library=/Library/Frameworks/R.framework/Versions/Current/Resources/library --no-vignettes --timings OGSA_1.13.0.tar.gz |
| StartedAt: 2019-04-09 04:02:06 -0400 (Tue, 09 Apr 2019) |
| EndedAt: 2019-04-09 04:06:19 -0400 (Tue, 09 Apr 2019) |
| EllapsedTime: 252.2 seconds |
| RetCode: 0 |
| Status: OK |
| CheckDir: OGSA.Rcheck |
| Warnings: 0 |
##############################################################################
##############################################################################
###
### Running command:
###
### /Library/Frameworks/R.framework/Versions/Current/Resources/bin/R CMD check --install=check:OGSA.install-out.txt --library=/Library/Frameworks/R.framework/Versions/Current/Resources/library --no-vignettes --timings OGSA_1.13.0.tar.gz
###
##############################################################################
##############################################################################
* using log directory ‘/Users/biocbuild/bbs-3.9-bioc/meat/OGSA.Rcheck’
* using R Under development (unstable) (2019-03-18 r76245)
* using platform: x86_64-apple-darwin15.6.0 (64-bit)
* using session charset: UTF-8
* using option ‘--no-vignettes’
* checking for file ‘OGSA/DESCRIPTION’ ... OK
* this is package ‘OGSA’ version ‘1.13.0’
* checking package namespace information ... OK
* checking package dependencies ... OK
* checking if this is a source package ... OK
* checking if there is a namespace ... OK
* checking for hidden files and directories ... OK
* checking for portable file names ... OK
* checking for sufficient/correct file permissions ... OK
* checking whether package ‘OGSA’ can be installed ... OK
* checking installed package size ... OK
* checking package directory ... OK
* checking ‘build’ directory ... OK
* checking DESCRIPTION meta-information ... OK
* checking top-level files ... OK
* checking for left-over files ... OK
* checking index information ... OK
* checking package subdirectories ... OK
* checking R files for non-ASCII characters ... OK
* checking R files for syntax errors ... OK
* checking whether the package can be loaded ... OK
* checking whether the package can be loaded with stated dependencies ... OK
* checking whether the package can be unloaded cleanly ... OK
* checking whether the namespace can be loaded with stated dependencies ... OK
* checking whether the namespace can be unloaded cleanly ... OK
* checking dependencies in R code ... OK
* checking S3 generic/method consistency ... OK
* checking replacement functions ... OK
* checking foreign function calls ... OK
* checking R code for possible problems ... NOTE
copaStat: no visible binding for global variable ‘median’
copaStat: no visible binding for global variable ‘mad’
copaStat: no visible binding for global variable ‘IQR’
copaStat: no visible binding for global variable ‘quantile’
expressionSetPheno: no visible global function definition for ‘relevel’
outCallTib: no visible binding for global variable ‘median’
outCallTib: no visible binding for global variable ‘mad’
outCallTib: no visible binding for global variable ‘IQR’
outCallTib: no visible binding for global variable ‘quantile’
outCallTibE: no visible binding for global variable ‘median’
outCallTibE: no visible binding for global variable ‘mad’
outCallTibE: no visible binding for global variable ‘IQR’
outCallTibE: no visible binding for global variable ‘quantile’
outCount: no visible binding for global variable ‘median’
outCount: no visible binding for global variable ‘mad’
outCount: no visible binding for global variable ‘IQR’
outCount: no visible binding for global variable ‘quantile’
outMap: no visible global function definition for ‘pdf’
outMap: no visible global function definition for ‘dev.off’
Undefined global functions or variables:
IQR dev.off mad median pdf quantile relevel
Consider adding
importFrom("grDevices", "dev.off", "pdf")
importFrom("stats", "IQR", "mad", "median", "quantile", "relevel")
to your NAMESPACE file.
* checking Rd files ... OK
* checking Rd metadata ... OK
* checking Rd cross-references ... OK
* checking for missing documentation entries ... OK
* checking for code/documentation mismatches ... OK
* checking Rd \usage sections ... OK
* checking Rd contents ... OK
* checking for unstated dependencies in examples ... OK
* checking contents of ‘data’ directory ... OK
* checking data for non-ASCII characters ... OK
* checking data for ASCII and uncompressed saves ... OK
* checking sizes of PDF files under ‘inst/doc’ ... OK
* checking files in ‘vignettes’ ... OK
* checking examples ... OK
Examples with CPU or elapsed time > 5s
user system elapsed
copaStat 154.603 3.861 158.472
outMap 5.005 0.109 5.114
copaIntE 4.946 0.099 5.046
* checking for unstated dependencies in vignettes ... OK
* checking package vignettes in ‘inst/doc’ ... OK
* checking running R code from vignettes ... SKIPPED
* checking re-building of vignette outputs ... SKIPPED
* checking PDF version of manual ... OK
* DONE
Status: 1 NOTE
See
‘/Users/biocbuild/bbs-3.9-bioc/meat/OGSA.Rcheck/00check.log’
for details.
OGSA.Rcheck/00install.out
############################################################################## ############################################################################## ### ### Running command: ### ### /Library/Frameworks/R.framework/Versions/Current/Resources/bin/R CMD INSTALL OGSA ### ############################################################################## ############################################################################## * installing to library ‘/Library/Frameworks/R.framework/Versions/3.6/Resources/library’ * installing *source* package ‘OGSA’ ... ** using staged installation ** R ** data *** moving datasets to lazyload DB ** inst ** byte-compile and prepare package for lazy loading ** help *** installing help indices ** building package indices ** installing vignettes ** testing if installed package can be loaded from temporary location ** testing if installed package can be loaded from final location ** testing if installed package keeps a record of temporary installation path * DONE (OGSA)
OGSA.Rcheck/OGSA-Ex.timings
| name | user | system | elapsed | |
| copaInt | 4.583 | 0.173 | 4.756 | |
| copaIntE | 4.946 | 0.099 | 5.046 | |
| copaStat | 154.603 | 3.861 | 158.472 | |
| expressionSetDataSet | 0.213 | 0.025 | 0.238 | |
| expressionSetPheno | 0.133 | 0.024 | 0.158 | |
| outCallRank | 2.580 | 0.107 | 2.687 | |
| outCallRankE | 2.225 | 0.076 | 2.302 | |
| outCallTib | 4.336 | 0.088 | 4.424 | |
| outCallTibE | 4.631 | 0.095 | 4.726 | |
| outCount | 4.655 | 0.094 | 4.749 | |
| outMap | 5.005 | 0.109 | 5.114 | |
| outRank | 2.310 | 0.099 | 2.408 | |
| testGScogps | 0.000 | 0.000 | 0.001 | |