| Back to Multiple platform build/check report for BioC 3.9 |
|
This page was generated on 2019-04-09 11:55:00 -0400 (Tue, 09 Apr 2019).
| Package 1098/1703 | Hostname | OS / Arch | INSTALL | BUILD | CHECK | BUILD BIN | ||||||
| OCplus 1.57.0 Alexander Ploner
| malbec2 | Linux (Ubuntu 18.04.2 LTS) / x86_64 | OK | OK | OK | |||||||
| tokay2 | Windows Server 2012 R2 Standard / x64 | [ OK ] | OK | OK | OK | |||||||
| celaya2 | OS X 10.11.6 El Capitan / x86_64 | OK | OK | OK | OK | |||||||
| merida2 | OS X 10.11.6 El Capitan / x86_64 | OK | OK | OK | OK |
| Package: OCplus |
| Version: 1.57.0 |
| Command: C:\cygwin\bin\curl.exe -O https://malbec2.bioconductor.org/BBS/3.9/bioc/src/contrib/OCplus_1.57.0.tar.gz && rm -rf OCplus.buildbin-libdir && mkdir OCplus.buildbin-libdir && C:\Users\biocbuild\bbs-3.9-bioc\R\bin\R.exe CMD INSTALL --merge-multiarch --build --library=OCplus.buildbin-libdir OCplus_1.57.0.tar.gz && C:\Users\biocbuild\bbs-3.9-bioc\R\bin\R.exe CMD INSTALL OCplus_1.57.0.zip && rm OCplus_1.57.0.tar.gz OCplus_1.57.0.zip |
| StartedAt: 2019-04-08 19:35:13 -0400 (Mon, 08 Apr 2019) |
| EndedAt: 2019-04-08 19:35:50 -0400 (Mon, 08 Apr 2019) |
| EllapsedTime: 37.5 seconds |
| RetCode: 0 |
| Status: OK |
##############################################################################
##############################################################################
###
### Running command:
###
### C:\cygwin\bin\curl.exe -O https://malbec2.bioconductor.org/BBS/3.9/bioc/src/contrib/OCplus_1.57.0.tar.gz && rm -rf OCplus.buildbin-libdir && mkdir OCplus.buildbin-libdir && C:\Users\biocbuild\bbs-3.9-bioc\R\bin\R.exe CMD INSTALL --merge-multiarch --build --library=OCplus.buildbin-libdir OCplus_1.57.0.tar.gz && C:\Users\biocbuild\bbs-3.9-bioc\R\bin\R.exe CMD INSTALL OCplus_1.57.0.zip && rm OCplus_1.57.0.tar.gz OCplus_1.57.0.zip
###
##############################################################################
##############################################################################
% Total % Received % Xferd Average Speed Time Time Time Current
Dload Upload Total Spent Left Speed
0 0 0 0 0 0 0 0 --:--:-- --:--:-- --:--:-- 0
100 46314 100 46314 0 0 532k 0 --:--:-- --:--:-- --:--:-- 587k
install for i386
* installing *source* package 'OCplus' ...
** R
** byte-compile and prepare package for lazy loading
** help
*** installing help indices
converting help for package 'OCplus'
finding HTML links ... done
DrawContourlines html
EOC html
FDR html
MAsim.smyth html
OCshow html
TOC html
Undocumented html
average.fdr html
fdr1d html
fdr2d html
plot.FDR.result html
plot.fdr1d.result html
plot.fdr2d.result html
samplesize html
smooth1d html
summary.fdr.result html
tMixture html
tstatistics html
** building package indices
** installing vignettes
** testing if installed package can be loaded from temporary location
** testing if installed package can be loaded from final location
** testing if installed package keeps a record of temporary installation path
install for x64
* installing *source* package 'OCplus' ...
** testing if installed package can be loaded
* MD5 sums
packaged installation of 'OCplus' as OCplus_1.57.0.zip
* DONE (OCplus)
* installing to library 'C:/Users/biocbuild/bbs-3.9-bioc/R/library'
package 'OCplus' successfully unpacked and MD5 sums checked