| Back to Multiple platform build/check report for BioC 3.9 |
|
This page was generated on 2019-04-09 13:23:22 -0400 (Tue, 09 Apr 2019).
| Package 1098/1703 | Hostname | OS / Arch | INSTALL | BUILD | CHECK | BUILD BIN | ||||||
| OCplus 1.57.0 Alexander Ploner
| malbec2 | Linux (Ubuntu 18.04.2 LTS) / x86_64 | OK | OK | OK | |||||||
| tokay2 | Windows Server 2012 R2 Standard / x64 | OK | OK | OK | OK | |||||||
| celaya2 | OS X 10.11.6 El Capitan / x86_64 | OK | OK | OK | OK | |||||||
| merida2 | OS X 10.11.6 El Capitan / x86_64 | OK | OK | [ OK ] | OK |
| Package: OCplus |
| Version: 1.57.0 |
| Command: /Library/Frameworks/R.framework/Versions/Current/Resources/bin/R CMD check --install=check:OCplus.install-out.txt --library=/Library/Frameworks/R.framework/Versions/Current/Resources/library --no-vignettes --timings OCplus_1.57.0.tar.gz |
| StartedAt: 2019-04-09 02:34:48 -0400 (Tue, 09 Apr 2019) |
| EndedAt: 2019-04-09 02:36:17 -0400 (Tue, 09 Apr 2019) |
| EllapsedTime: 88.1 seconds |
| RetCode: 0 |
| Status: OK |
| CheckDir: OCplus.Rcheck |
| Warnings: 0 |
##############################################################################
##############################################################################
###
### Running command:
###
### /Library/Frameworks/R.framework/Versions/Current/Resources/bin/R CMD check --install=check:OCplus.install-out.txt --library=/Library/Frameworks/R.framework/Versions/Current/Resources/library --no-vignettes --timings OCplus_1.57.0.tar.gz
###
##############################################################################
##############################################################################
* using log directory ‘/Users/biocbuild/bbs-3.9-bioc/meat/OCplus.Rcheck’
* using R Under development (unstable) (2018-11-27 r75683)
* using platform: x86_64-apple-darwin15.6.0 (64-bit)
* using session charset: UTF-8
* using option ‘--no-vignettes’
* checking for file ‘OCplus/DESCRIPTION’ ... OK
* this is package ‘OCplus’ version ‘1.57.0’
* checking package namespace information ... OK
* checking package dependencies ... OK
* checking if this is a source package ... OK
* checking if there is a namespace ... OK
* checking for hidden files and directories ... OK
* checking for portable file names ... OK
* checking for sufficient/correct file permissions ... OK
* checking whether package ‘OCplus’ can be installed ... OK
* checking installed package size ... OK
* checking package directory ... OK
* checking ‘build’ directory ... OK
* checking DESCRIPTION meta-information ... OK
* checking top-level files ... OK
* checking for left-over files ... OK
* checking index information ... OK
* checking package subdirectories ... OK
* checking R files for non-ASCII characters ... OK
* checking R files for syntax errors ... OK
* checking whether the package can be loaded ... OK
* checking whether the package can be loaded with stated dependencies ... OK
* checking whether the package can be unloaded cleanly ... OK
* checking whether the namespace can be loaded with stated dependencies ... OK
* checking whether the namespace can be unloaded cleanly ... OK
* checking dependencies in R code ... OK
* checking S3 generic/method consistency ... NOTE
Found the following apparent S3 methods exported but not registered:
plot.FDR.result plot.fdr1d.result plot.fdr2d.result
summary.fdr.result
See section ‘Registering S3 methods’ in the ‘Writing R Extensions’
manual.
* checking replacement functions ... OK
* checking foreign function calls ... OK
* checking R code for possible problems ... OK
* checking Rd files ... OK
* checking Rd metadata ... OK
* checking Rd cross-references ... OK
* checking for missing documentation entries ... OK
* checking for code/documentation mismatches ... OK
* checking Rd \usage sections ... OK
* checking Rd contents ... OK
* checking for unstated dependencies in examples ... OK
* checking sizes of PDF files under ‘inst/doc’ ... OK
* checking files in ‘vignettes’ ... OK
* checking examples ... OK
Examples with CPU or elapsed time > 5s
user system elapsed
samplesize 7.862 0.471 8.477
* checking for unstated dependencies in vignettes ... OK
* checking package vignettes in ‘inst/doc’ ... OK
* checking running R code from vignettes ... SKIPPED
* checking re-building of vignette outputs ... SKIPPED
* checking PDF version of manual ... OK
* DONE
Status: 1 NOTE
See
‘/Users/biocbuild/bbs-3.9-bioc/meat/OCplus.Rcheck/00check.log’
for details.
OCplus.Rcheck/00install.out
############################################################################## ############################################################################## ### ### Running command: ### ### /Library/Frameworks/R.framework/Versions/Current/Resources/bin/R CMD INSTALL OCplus ### ############################################################################## ############################################################################## * installing to library ‘/Library/Frameworks/R.framework/Versions/3.6/Resources/library’ * installing *source* package ‘OCplus’ ... ** R ** byte-compile and prepare package for lazy loading ** help *** installing help indices ** building package indices ** installing vignettes ** testing if installed package can be loaded * DONE (OCplus)
OCplus.Rcheck/OCplus-Ex.timings
| name | user | system | elapsed | |
| EOC | 0.713 | 0.145 | 0.864 | |
| FDR | 0.004 | 0.000 | 0.004 | |
| MAsim.smyth | 0.197 | 0.054 | 0.253 | |
| OCshow | 1.432 | 0.268 | 1.706 | |
| TOC | 0.359 | 0.029 | 0.399 | |
| average.fdr | 1.070 | 0.222 | 1.303 | |
| fdr1d | 0.476 | 0.105 | 0.591 | |
| fdr2d | 0.396 | 0.113 | 0.512 | |
| plot.FDR.result | 0.109 | 0.037 | 0.148 | |
| plot.fdr1d.result | 0.684 | 0.113 | 0.809 | |
| plot.fdr2d.result | 0.765 | 0.116 | 0.887 | |
| samplesize | 7.862 | 0.471 | 8.477 | |
| smooth1d | 0.047 | 0.007 | 0.054 | |
| summary.fdr.result | 0.357 | 0.106 | 0.465 | |
| tMixture | 4.513 | 0.382 | 4.953 | |