| Back to Multiple platform build/check report for BioC 3.9 |
|
This page was generated on 2019-04-09 11:58:18 -0400 (Tue, 09 Apr 2019).
| Package 1092/1703 | Hostname | OS / Arch | INSTALL | BUILD | CHECK | BUILD BIN | ||||||
| NTW 1.33.0 Yuanhua Liu
| malbec2 | Linux (Ubuntu 18.04.2 LTS) / x86_64 | OK | OK | WARNINGS | |||||||
| tokay2 | Windows Server 2012 R2 Standard / x64 | OK | OK | WARNINGS | [ OK ] | |||||||
| celaya2 | OS X 10.11.6 El Capitan / x86_64 | OK | OK | WARNINGS | OK | |||||||
| merida2 | OS X 10.11.6 El Capitan / x86_64 | OK | OK | WARNINGS | OK |
| Package: NTW |
| Version: 1.33.0 |
| Command: rm -rf NTW.buildbin-libdir && mkdir NTW.buildbin-libdir && C:\Users\biocbuild\bbs-3.9-bioc\R\bin\R.exe CMD INSTALL --merge-multiarch --build --library=NTW.buildbin-libdir NTW_1.33.0.tar.gz |
| StartedAt: 2019-04-09 08:34:50 -0400 (Tue, 09 Apr 2019) |
| EndedAt: 2019-04-09 08:35:27 -0400 (Tue, 09 Apr 2019) |
| EllapsedTime: 37.4 seconds |
| RetCode: 0 |
| Status: OK |
| PackageFile: NTW_1.33.0.zip |
| PackageFileSize: 528.7 KiB |
##############################################################################
##############################################################################
###
### Running command:
###
### rm -rf NTW.buildbin-libdir && mkdir NTW.buildbin-libdir && C:\Users\biocbuild\bbs-3.9-bioc\R\bin\R.exe CMD INSTALL --merge-multiarch --build --library=NTW.buildbin-libdir NTW_1.33.0.tar.gz
###
##############################################################################
##############################################################################
install for i386
* installing *source* package 'NTW' ...
** R
** data
** inst
** byte-compile and prepare package for lazy loading
Note: break used in wrong context: no loop is visible
** help
*** installing help indices
converting help for package 'NTW'
finding HTML links ... done
A.estimation.Srow html
AP.estimation.Srow html
NTW-package html
NTW html
P.preestimation html
comb.matrix html
methods.regression html
patterns.priorA html
sos.data html
** building package indices
** installing vignettes
** testing if installed package can be loaded from temporary location
** testing if installed package can be loaded from final location
** testing if installed package keeps a record of temporary installation path
install for x64
* installing *source* package 'NTW' ...
** testing if installed package can be loaded
* MD5 sums
packaged installation of 'NTW' as NTW_1.33.0.zip
* DONE (NTW)