| Back to Multiple platform build/check report for BioC 3.9 |
|
This page was generated on 2019-04-09 13:25:19 -0400 (Tue, 09 Apr 2019).
| Package 1092/1703 | Hostname | OS / Arch | INSTALL | BUILD | CHECK | BUILD BIN | ||||||
| NTW 1.33.0 Yuanhua Liu
| malbec2 | Linux (Ubuntu 18.04.2 LTS) / x86_64 | OK | OK | WARNINGS | |||||||
| tokay2 | Windows Server 2012 R2 Standard / x64 | OK | OK | WARNINGS | OK | |||||||
| celaya2 | OS X 10.11.6 El Capitan / x86_64 | OK | OK | WARNINGS | OK | |||||||
| merida2 | OS X 10.11.6 El Capitan / x86_64 | OK | OK | WARNINGS | [ OK ] |
| Package: NTW |
| Version: 1.33.0 |
| Command: rm -rf NTW.buildbin-libdir && mkdir NTW.buildbin-libdir && /Users/biocbuild/BBS/utils/build-universal.sh NTW_1.33.0.tar.gz /Library/Frameworks/R.framework/Versions/Current/Resources/bin/R NTW.buildbin-libdir |
| StartedAt: 2019-04-09 06:00:46 -0400 (Tue, 09 Apr 2019) |
| EndedAt: 2019-04-09 06:01:55 -0400 (Tue, 09 Apr 2019) |
| EllapsedTime: 69.4 seconds |
| RetCode: 0 |
| Status: OK |
| PackageFile: NTW_1.33.0.tgz |
| PackageFileSize: 516.8 KiB |
############################################################################## ############################################################################## ### ### Running command: ### ### rm -rf NTW.buildbin-libdir && mkdir NTW.buildbin-libdir && /Users/biocbuild/BBS/utils/build-universal.sh NTW_1.33.0.tar.gz /Library/Frameworks/R.framework/Versions/Current/Resources/bin/R NTW.buildbin-libdir ### ############################################################################## ############################################################################## >>>>>>> >>>>>>> INSTALLATION WITH 'R CMD INSTALL --preclean --no-multiarch --library=NTW.buildbin-libdir NTW_1.33.0.tar.gz' >>>>>>> * installing *source* package ‘NTW’ ... ** R ** data ** inst ** byte-compile and prepare package for lazy loading Note: break used in wrong context: no loop is visible ** help *** installing help indices ** building package indices ** installing vignettes ** testing if installed package can be loaded * DONE (NTW)