| Back to Multiple platform build/check report for BioC 3.9 |
|
This page was generated on 2019-04-09 12:25:04 -0400 (Tue, 09 Apr 2019).
| Package 927/1703 | Hostname | OS / Arch | INSTALL | BUILD | CHECK | BUILD BIN | ||||||
| MEAL 1.13.0 Carlos Ruiz-Arenas
| malbec2 | Linux (Ubuntu 18.04.2 LTS) / x86_64 | OK | OK | WARNINGS | |||||||
| tokay2 | Windows Server 2012 R2 Standard / x64 | [ OK ] | OK | WARNINGS | OK | |||||||
| celaya2 | OS X 10.11.6 El Capitan / x86_64 | OK | TIMEOUT | skipped | skipped | |||||||
| merida2 | OS X 10.11.6 El Capitan / x86_64 | OK | TIMEOUT | skipped | skipped |
| Package: MEAL |
| Version: 1.13.0 |
| Command: C:\cygwin\bin\curl.exe -O https://malbec2.bioconductor.org/BBS/3.9/bioc/src/contrib/MEAL_1.13.0.tar.gz && rm -rf MEAL.buildbin-libdir && mkdir MEAL.buildbin-libdir && C:\Users\biocbuild\bbs-3.9-bioc\R\bin\R.exe CMD INSTALL --merge-multiarch --build --library=MEAL.buildbin-libdir MEAL_1.13.0.tar.gz && C:\Users\biocbuild\bbs-3.9-bioc\R\bin\R.exe CMD INSTALL MEAL_1.13.0.zip && rm MEAL_1.13.0.tar.gz MEAL_1.13.0.zip |
| StartedAt: 2019-04-08 20:48:20 -0400 (Mon, 08 Apr 2019) |
| EndedAt: 2019-04-08 20:49:44 -0400 (Mon, 08 Apr 2019) |
| EllapsedTime: 83.7 seconds |
| RetCode: 0 |
| Status: OK |
##############################################################################
##############################################################################
###
### Running command:
###
### C:\cygwin\bin\curl.exe -O https://malbec2.bioconductor.org/BBS/3.9/bioc/src/contrib/MEAL_1.13.0.tar.gz && rm -rf MEAL.buildbin-libdir && mkdir MEAL.buildbin-libdir && C:\Users\biocbuild\bbs-3.9-bioc\R\bin\R.exe CMD INSTALL --merge-multiarch --build --library=MEAL.buildbin-libdir MEAL_1.13.0.tar.gz && C:\Users\biocbuild\bbs-3.9-bioc\R\bin\R.exe CMD INSTALL MEAL_1.13.0.zip && rm MEAL_1.13.0.tar.gz MEAL_1.13.0.zip
###
##############################################################################
##############################################################################
% Total % Received % Xferd Average Speed Time Time Time Current
Dload Upload Total Spent Left Speed
0 0 0 0 0 0 0 0 --:--:-- --:--:-- --:--:-- 0
100 51823 100 51823 0 0 889k 0 --:--:-- --:--:-- --:--:-- 1012k
install for i386
* installing *source* package 'MEAL' ...
** R
** byte-compile and prepare package for lazy loading
** help
*** installing help indices
converting help for package 'MEAL'
finding HTML links ... done
MEAL-defunct html
MEAL html
calculateRelevantSNPs html
computeRDAR2 html
correlationMethExprs html
correlationMethSNPs html
explainedVariance html
exportResults html
filterResults html
getGeneVals html
getProbeResults html
getRDAresults html
normalSNP html
plotFeature html
plotLM html
plotRDA html
plotRegion html
runBlockFinder html
runBumphunter html
runDMRcate html
runDiffMeanAnalysis html
runDiffVarAnalysis html
runPipeline html
runRDA html
Rd warning: C:/Users/biocbuild/bbs-3.9-bioc/tmpdir/RtmpyOMiub/R.INSTALL26c03c645c91/MEAL/man/runRDA.Rd:45: file link 'rda' in package 'vegan' does not exist and so has been treated as a topic
runRegionAnalysis html
topRDAhits html
** building package indices
** installing vignettes
** testing if installed package can be loaded from temporary location
** testing if installed package can be loaded from final location
** testing if installed package keeps a record of temporary installation path
install for x64
* installing *source* package 'MEAL' ...
** testing if installed package can be loaded
* MD5 sums
packaged installation of 'MEAL' as MEAL_1.13.0.zip
* DONE (MEAL)
* installing to library 'C:/Users/biocbuild/bbs-3.9-bioc/R/library'
package 'MEAL' successfully unpacked and MD5 sums checked