| Back to Multiple platform build/check report for BioC 3.9 |
|
This page was generated on 2019-04-09 12:26:35 -0400 (Tue, 09 Apr 2019).
| Package 482/1703 | Hostname | OS / Arch | INSTALL | BUILD | CHECK | BUILD BIN | ||||||
| EGSEA 1.11.1 Monther Alhamdoosh
| malbec2 | Linux (Ubuntu 18.04.2 LTS) / x86_64 | OK | OK | OK | |||||||
| tokay2 | Windows Server 2012 R2 Standard / x64 | [ OK ] | OK | OK | OK | |||||||
| celaya2 | OS X 10.11.6 El Capitan / x86_64 | OK | OK | OK | OK | |||||||
| merida2 | OS X 10.11.6 El Capitan / x86_64 | OK | OK | OK | OK |
| Package: EGSEA |
| Version: 1.11.1 |
| Command: C:\cygwin\bin\curl.exe -O https://malbec2.bioconductor.org/BBS/3.9/bioc/src/contrib/EGSEA_1.11.1.tar.gz && rm -rf EGSEA.buildbin-libdir && mkdir EGSEA.buildbin-libdir && C:\Users\biocbuild\bbs-3.9-bioc\R\bin\R.exe CMD INSTALL --merge-multiarch --build --library=EGSEA.buildbin-libdir EGSEA_1.11.1.tar.gz && C:\Users\biocbuild\bbs-3.9-bioc\R\bin\R.exe CMD INSTALL EGSEA_1.11.1.zip && rm EGSEA_1.11.1.tar.gz EGSEA_1.11.1.zip |
| StartedAt: 2019-04-08 20:39:40 -0400 (Mon, 08 Apr 2019) |
| EndedAt: 2019-04-08 20:40:56 -0400 (Mon, 08 Apr 2019) |
| EllapsedTime: 75.2 seconds |
| RetCode: 0 |
| Status: OK |
##############################################################################
##############################################################################
###
### Running command:
###
### C:\cygwin\bin\curl.exe -O https://malbec2.bioconductor.org/BBS/3.9/bioc/src/contrib/EGSEA_1.11.1.tar.gz && rm -rf EGSEA.buildbin-libdir && mkdir EGSEA.buildbin-libdir && C:\Users\biocbuild\bbs-3.9-bioc\R\bin\R.exe CMD INSTALL --merge-multiarch --build --library=EGSEA.buildbin-libdir EGSEA_1.11.1.tar.gz && C:\Users\biocbuild\bbs-3.9-bioc\R\bin\R.exe CMD INSTALL EGSEA_1.11.1.zip && rm EGSEA_1.11.1.tar.gz EGSEA_1.11.1.zip
###
##############################################################################
##############################################################################
% Total % Received % Xferd Average Speed Time Time Time Current
Dload Upload Total Spent Left Speed
0 0 0 0 0 0 0 0 --:--:-- --:--:-- --:--:-- 0
100 642k 100 642k 0 0 9798k 0 --:--:-- --:--:-- --:--:-- 10.8M
install for i386
* installing *source* package 'EGSEA' ...
** R
** inst
** byte-compile and prepare package for lazy loading
groupGOTerms: GOBPTerm, GOMFTerm, GOCCTerm environments built.
** help
*** installing help indices
converting help for package 'EGSEA'
finding HTML links ... done
EGSEA-package html
EGSEAResults-methods html
GSCollectionIndex-methods html
egsea-aux html
egsea-index html
egsea-main html
** building package indices
** installing vignettes
** testing if installed package can be loaded from temporary location
groupGOTerms: GOBPTerm, GOMFTerm, GOCCTerm environments built.
** testing if installed package can be loaded from final location
groupGOTerms: GOBPTerm, GOMFTerm, GOCCTerm environments built.
** testing if installed package keeps a record of temporary installation path
install for x64
* installing *source* package 'EGSEA' ...
** testing if installed package can be loaded
groupGOTerms: GOBPTerm, GOMFTerm, GOCCTerm environments built.
* MD5 sums
packaged installation of 'EGSEA' as EGSEA_1.11.1.zip
* DONE (EGSEA)
* installing to library 'C:/Users/biocbuild/bbs-3.9-bioc/R/library'
package 'EGSEA' successfully unpacked and MD5 sums checked