| Back to Multiple platform build/check report for BioC 3.9 |
|
This page was generated on 2019-04-09 12:26:36 -0400 (Tue, 09 Apr 2019).
| Package 482/1703 | Hostname | OS / Arch | INSTALL | BUILD | CHECK | BUILD BIN | ||||||
| EGSEA 1.11.1 Monther Alhamdoosh
| malbec2 | Linux (Ubuntu 18.04.2 LTS) / x86_64 | OK | OK | OK | |||||||
| tokay2 | Windows Server 2012 R2 Standard / x64 | OK | OK | [ OK ] | OK | |||||||
| celaya2 | OS X 10.11.6 El Capitan / x86_64 | OK | OK | OK | OK | |||||||
| merida2 | OS X 10.11.6 El Capitan / x86_64 | OK | OK | OK | OK |
| Package: EGSEA |
| Version: 1.11.1 |
| Command: C:\Users\biocbuild\bbs-3.9-bioc\R\bin\R.exe CMD check --force-multiarch --install=check:EGSEA.install-out.txt --library=C:\Users\biocbuild\bbs-3.9-bioc\R\library --no-vignettes --timings EGSEA_1.11.1.tar.gz |
| StartedAt: 2019-04-09 02:30:18 -0400 (Tue, 09 Apr 2019) |
| EndedAt: 2019-04-09 02:42:10 -0400 (Tue, 09 Apr 2019) |
| EllapsedTime: 711.8 seconds |
| RetCode: 0 |
| Status: OK |
| CheckDir: EGSEA.Rcheck |
| Warnings: 0 |
##############################################################################
##############################################################################
###
### Running command:
###
### C:\Users\biocbuild\bbs-3.9-bioc\R\bin\R.exe CMD check --force-multiarch --install=check:EGSEA.install-out.txt --library=C:\Users\biocbuild\bbs-3.9-bioc\R\library --no-vignettes --timings EGSEA_1.11.1.tar.gz
###
##############################################################################
##############################################################################
* using log directory 'C:/Users/biocbuild/bbs-3.9-bioc/meat/EGSEA.Rcheck'
* using R Under development (unstable) (2019-03-09 r76216)
* using platform: x86_64-w64-mingw32 (64-bit)
* using session charset: ISO8859-1
* using option '--no-vignettes'
* checking for file 'EGSEA/DESCRIPTION' ... OK
* this is package 'EGSEA' version '1.11.1'
* checking package namespace information ... OK
* checking package dependencies ... OK
* checking if this is a source package ... OK
* checking if there is a namespace ... OK
* checking for hidden files and directories ... OK
* checking for portable file names ... OK
* checking whether package 'EGSEA' can be installed ... OK
* checking installed package size ... OK
* checking package directory ... OK
* checking 'build' directory ... OK
* checking DESCRIPTION meta-information ... OK
* checking top-level files ... OK
* checking for left-over files ... OK
* checking index information ... OK
* checking package subdirectories ... OK
* checking R files for non-ASCII characters ... OK
* checking R files for syntax errors ... OK
* loading checks for arch 'i386'
** checking whether the package can be loaded ... OK
** checking whether the package can be loaded with stated dependencies ... OK
** checking whether the package can be unloaded cleanly ... OK
** checking whether the namespace can be loaded with stated dependencies ... OK
** checking whether the namespace can be unloaded cleanly ... OK
* loading checks for arch 'x64'
** checking whether the package can be loaded ... OK
** checking whether the package can be loaded with stated dependencies ... OK
** checking whether the package can be unloaded cleanly ... OK
** checking whether the namespace can be loaded with stated dependencies ... OK
** checking whether the namespace can be unloaded cleanly ... OK
* checking dependencies in R code ... OK
* checking S3 generic/method consistency ... OK
* checking replacement functions ... OK
* checking foreign function calls ... OK
* checking R code for possible problems ... NOTE
buildGeneSetDBIdx: no visible binding for global variable 'GOTERM'
buildMSigDBIdx: no visible binding for global variable 'msigdb'
generateSummaryPlots: no visible binding for global variable 'x.data'
generateSummaryPlots: no visible binding for global variable 'y.data'
generateSummaryPlots: no visible binding for global variable 'gsSize'
generateSummaryPlots: no visible binding for global variable 'id'
generateSummaryPlots: no visible binding for global variable 'sig'
loadKeggData: no visible binding for global variable 'kegg.pathways'
Undefined global functions or variables:
GOTERM gsSize id kegg.pathways msigdb sig x.data y.data
* checking Rd files ... OK
* checking Rd metadata ... OK
* checking Rd cross-references ... OK
* checking for missing documentation entries ... OK
* checking for code/documentation mismatches ... OK
* checking Rd \usage sections ... OK
* checking Rd contents ... OK
* checking for unstated dependencies in examples ... OK
* checking files in 'vignettes' ... OK
* checking examples ...
** running examples for arch 'i386' ... OK
Examples with CPU or elapsed time > 5s
user system elapsed
EGSEAResults-methods 79.06 2.17 83.14
egsea-index 43.55 0.47 44.05
egsea-main 42.95 0.23 43.51
** running examples for arch 'x64' ... OK
Examples with CPU or elapsed time > 5s
user system elapsed
EGSEAResults-methods 78.86 1.59 82.11
egsea-main 45.96 0.10 46.05
egsea-index 40.87 0.43 41.31
* checking for unstated dependencies in 'tests' ... OK
* checking tests ...
** running tests for arch 'i386' ...
Running 'testthat.R'
OK
** running tests for arch 'x64' ...
Running 'testthat.R'
OK
* checking for unstated dependencies in vignettes ... OK
* checking package vignettes in 'inst/doc' ... OK
* checking running R code from vignettes ... SKIPPED
* checking re-building of vignette outputs ... SKIPPED
* checking PDF version of manual ... OK
* DONE
Status: 1 NOTE
See
'C:/Users/biocbuild/bbs-3.9-bioc/meat/EGSEA.Rcheck/00check.log'
for details.
EGSEA.Rcheck/00install.out
##############################################################################
##############################################################################
###
### Running command:
###
### C:\cygwin\bin\curl.exe -O https://malbec2.bioconductor.org/BBS/3.9/bioc/src/contrib/EGSEA_1.11.1.tar.gz && rm -rf EGSEA.buildbin-libdir && mkdir EGSEA.buildbin-libdir && C:\Users\biocbuild\bbs-3.9-bioc\R\bin\R.exe CMD INSTALL --merge-multiarch --build --library=EGSEA.buildbin-libdir EGSEA_1.11.1.tar.gz && C:\Users\biocbuild\bbs-3.9-bioc\R\bin\R.exe CMD INSTALL EGSEA_1.11.1.zip && rm EGSEA_1.11.1.tar.gz EGSEA_1.11.1.zip
###
##############################################################################
##############################################################################
% Total % Received % Xferd Average Speed Time Time Time Current
Dload Upload Total Spent Left Speed
0 0 0 0 0 0 0 0 --:--:-- --:--:-- --:--:-- 0
100 642k 100 642k 0 0 9798k 0 --:--:-- --:--:-- --:--:-- 10.8M
install for i386
* installing *source* package 'EGSEA' ...
** R
** inst
** byte-compile and prepare package for lazy loading
groupGOTerms: GOBPTerm, GOMFTerm, GOCCTerm environments built.
** help
*** installing help indices
converting help for package 'EGSEA'
finding HTML links ... done
EGSEA-package html
EGSEAResults-methods html
GSCollectionIndex-methods html
egsea-aux html
egsea-index html
egsea-main html
** building package indices
** installing vignettes
** testing if installed package can be loaded from temporary location
groupGOTerms: GOBPTerm, GOMFTerm, GOCCTerm environments built.
** testing if installed package can be loaded from final location
groupGOTerms: GOBPTerm, GOMFTerm, GOCCTerm environments built.
** testing if installed package keeps a record of temporary installation path
install for x64
* installing *source* package 'EGSEA' ...
** testing if installed package can be loaded
groupGOTerms: GOBPTerm, GOMFTerm, GOCCTerm environments built.
* MD5 sums
packaged installation of 'EGSEA' as EGSEA_1.11.1.zip
* DONE (EGSEA)
* installing to library 'C:/Users/biocbuild/bbs-3.9-bioc/R/library'
package 'EGSEA' successfully unpacked and MD5 sums checked
|
EGSEA.Rcheck/tests_i386/testthat.Rout
R Under development (unstable) (2019-03-09 r76216) -- "Unsuffered Consequences"
Copyright (C) 2019 The R Foundation for Statistical Computing
Platform: i386-w64-mingw32/i386 (32-bit)
R is free software and comes with ABSOLUTELY NO WARRANTY.
You are welcome to redistribute it under certain conditions.
Type 'license()' or 'licence()' for distribution details.
R is a collaborative project with many contributors.
Type 'contributors()' for more information and
'citation()' on how to cite R or R packages in publications.
Type 'demo()' for some demos, 'help()' for on-line help, or
'help.start()' for an HTML browser interface to help.
Type 'q()' to quit R.
> library(testthat)
> library(EGSEA)
Loading required package: Biobase
Loading required package: BiocGenerics
Loading required package: parallel
Attaching package: 'BiocGenerics'
The following objects are masked from 'package:parallel':
clusterApply, clusterApplyLB, clusterCall, clusterEvalQ,
clusterExport, clusterMap, parApply, parCapply, parLapply,
parLapplyLB, parRapply, parSapply, parSapplyLB
The following objects are masked from 'package:stats':
IQR, mad, sd, var, xtabs
The following objects are masked from 'package:base':
Filter, Find, Map, Position, Reduce, anyDuplicated, append,
as.data.frame, basename, cbind, colMeans, colSums, colnames,
dirname, do.call, duplicated, eval, evalq, get, grep, grepl,
intersect, is.unsorted, lapply, mapply, match, mget, order, paste,
pmax, pmax.int, pmin, pmin.int, rank, rbind, rowMeans, rowSums,
rownames, sapply, setdiff, sort, table, tapply, union, unique,
unsplit, which, which.max, which.min
Welcome to Bioconductor
Vignettes contain introductory material; view with
'browseVignettes()'. To cite Bioconductor, see
'citation("Biobase")', and for packages 'citation("pkgname")'.
Loading required package: gage
Loading required package: AnnotationDbi
Loading required package: stats4
Loading required package: IRanges
Loading required package: S4Vectors
Attaching package: 'S4Vectors'
The following object is masked from 'package:base':
expand.grid
Attaching package: 'IRanges'
The following object is masked from 'package:grDevices':
windows
Loading required package: topGO
Loading required package: graph
Loading required package: GO.db
Loading required package: SparseM
Attaching package: 'SparseM'
The following object is masked from 'package:base':
backsolve
groupGOTerms: GOBPTerm, GOMFTerm, GOCCTerm environments built.
Attaching package: 'topGO'
The following object is masked from 'package:IRanges':
members
The following object is masked from 'package:gage':
geneData
Loading required package: pathview
Loading required package: org.Hs.eg.db
##############################################################################
Pathview is an open source software package distributed under GNU General
Public License version 3 (GPLv3). Details of GPLv3 is available at
http://www.gnu.org/licenses/gpl-3.0.html. Particullary, users are required to
formally cite the original Pathview paper (not just mention it) in publications
or products. For details, do citation("pathview") within R.
The pathview downloads and uses KEGG data. Non-academic uses may require a KEGG
license agreement (details at http://www.kegg.jp/kegg/legal.html).
##############################################################################
KEGG.db contains mappings based on older data because the original
resource was removed from the the public domain before the most
recent update was produced. This package should now be considered
deprecated and future versions of Bioconductor may not have it
available. Users who want more current data are encouraged to look
at the KEGGREST or reactome.db packages
>
> test_check("EGSEA")
[1] "Created the User-Defined Gene Sets collection ... "
== testthat results ===========================================================
OK: 8 SKIPPED: 0 FAILED: 0
>
> proc.time()
user system elapsed
9.32 1.40 10.71
|
EGSEA.Rcheck/tests_x64/testthat.Rout
R Under development (unstable) (2019-03-09 r76216) -- "Unsuffered Consequences"
Copyright (C) 2019 The R Foundation for Statistical Computing
Platform: x86_64-w64-mingw32/x64 (64-bit)
R is free software and comes with ABSOLUTELY NO WARRANTY.
You are welcome to redistribute it under certain conditions.
Type 'license()' or 'licence()' for distribution details.
R is a collaborative project with many contributors.
Type 'contributors()' for more information and
'citation()' on how to cite R or R packages in publications.
Type 'demo()' for some demos, 'help()' for on-line help, or
'help.start()' for an HTML browser interface to help.
Type 'q()' to quit R.
> library(testthat)
> library(EGSEA)
Loading required package: Biobase
Loading required package: BiocGenerics
Loading required package: parallel
Attaching package: 'BiocGenerics'
The following objects are masked from 'package:parallel':
clusterApply, clusterApplyLB, clusterCall, clusterEvalQ,
clusterExport, clusterMap, parApply, parCapply, parLapply,
parLapplyLB, parRapply, parSapply, parSapplyLB
The following objects are masked from 'package:stats':
IQR, mad, sd, var, xtabs
The following objects are masked from 'package:base':
Filter, Find, Map, Position, Reduce, anyDuplicated, append,
as.data.frame, basename, cbind, colMeans, colSums, colnames,
dirname, do.call, duplicated, eval, evalq, get, grep, grepl,
intersect, is.unsorted, lapply, mapply, match, mget, order, paste,
pmax, pmax.int, pmin, pmin.int, rank, rbind, rowMeans, rowSums,
rownames, sapply, setdiff, sort, table, tapply, union, unique,
unsplit, which, which.max, which.min
Welcome to Bioconductor
Vignettes contain introductory material; view with
'browseVignettes()'. To cite Bioconductor, see
'citation("Biobase")', and for packages 'citation("pkgname")'.
Loading required package: gage
Loading required package: AnnotationDbi
Loading required package: stats4
Loading required package: IRanges
Loading required package: S4Vectors
Attaching package: 'S4Vectors'
The following object is masked from 'package:base':
expand.grid
Attaching package: 'IRanges'
The following object is masked from 'package:grDevices':
windows
Loading required package: topGO
Loading required package: graph
Loading required package: GO.db
Loading required package: SparseM
Attaching package: 'SparseM'
The following object is masked from 'package:base':
backsolve
groupGOTerms: GOBPTerm, GOMFTerm, GOCCTerm environments built.
Attaching package: 'topGO'
The following object is masked from 'package:IRanges':
members
The following object is masked from 'package:gage':
geneData
Loading required package: pathview
Loading required package: org.Hs.eg.db
##############################################################################
Pathview is an open source software package distributed under GNU General
Public License version 3 (GPLv3). Details of GPLv3 is available at
http://www.gnu.org/licenses/gpl-3.0.html. Particullary, users are required to
formally cite the original Pathview paper (not just mention it) in publications
or products. For details, do citation("pathview") within R.
The pathview downloads and uses KEGG data. Non-academic uses may require a KEGG
license agreement (details at http://www.kegg.jp/kegg/legal.html).
##############################################################################
KEGG.db contains mappings based on older data because the original
resource was removed from the the public domain before the most
recent update was produced. This package should now be considered
deprecated and future versions of Bioconductor may not have it
available. Users who want more current data are encouraged to look
at the KEGGREST or reactome.db packages
>
> test_check("EGSEA")
[1] "Created the User-Defined Gene Sets collection ... "
== testthat results ===========================================================
OK: 8 SKIPPED: 0 FAILED: 0
>
> proc.time()
user system elapsed
10.67 1.25 11.90
|
|
EGSEA.Rcheck/examples_i386/EGSEA-Ex.timings
|
EGSEA.Rcheck/examples_x64/EGSEA-Ex.timings
|