| Back to Multiple platform build/check report for BioC 3.9 |
|
This page was generated on 2019-04-08 11:45:01 -0400 (Mon, 08 Apr 2019).
| Package 366/1703 | Hostname | OS / Arch | INSTALL | BUILD | CHECK | BUILD BIN | ||||||
| CTDquerier 1.3.0 Carles Hernandez-Ferrer
| malbec2 | Linux (Ubuntu 18.04.2 LTS) / x86_64 | OK | TIMEOUT | skipped | |||||||
| tokay2 | Windows Server 2012 R2 Standard / x64 | OK | OK | OK | [ OK ] | |||||||
| celaya2 | OS X 10.11.6 El Capitan / x86_64 | OK | TIMEOUT | skipped | skipped | |||||||
| merida2 | OS X 10.11.6 El Capitan / x86_64 | OK | ERROR | skipped | skipped |
| Package: CTDquerier |
| Version: 1.3.0 |
| Command: rm -rf CTDquerier.buildbin-libdir && mkdir CTDquerier.buildbin-libdir && C:\Users\biocbuild\bbs-3.9-bioc\R\bin\R.exe CMD INSTALL --merge-multiarch --build --library=CTDquerier.buildbin-libdir CTDquerier_1.3.0.tar.gz |
| StartedAt: 2019-04-08 08:01:21 -0400 (Mon, 08 Apr 2019) |
| EndedAt: 2019-04-08 08:02:10 -0400 (Mon, 08 Apr 2019) |
| EllapsedTime: 49.5 seconds |
| RetCode: 0 |
| Status: OK |
| PackageFile: CTDquerier_1.3.0.zip |
| PackageFileSize: 7.267 MiB |
##############################################################################
##############################################################################
###
### Running command:
###
### rm -rf CTDquerier.buildbin-libdir && mkdir CTDquerier.buildbin-libdir && C:\Users\biocbuild\bbs-3.9-bioc\R\bin\R.exe CMD INSTALL --merge-multiarch --build --library=CTDquerier.buildbin-libdir CTDquerier_1.3.0.tar.gz
###
##############################################################################
##############################################################################
install for i386
* installing *source* package 'CTDquerier' ...
** R
** data
*** moving datasets to lazyload DB
** inst
** byte-compile and prepare package for lazy loading
** help
*** installing help indices
converting help for package 'CTDquerier'
finding HTML links ... done
CTDdata-class html
CTDquerier html
download_ctd_chem html
download_ctd_dise html
download_ctd_genes html
enrich-methods html
gala html
get_table-methods html
get_terms-methods html
leaf_plot html
load_ctd_chem html
load_ctd_dise html
load_ctd_gene html
query_ctd_chem html
query_ctd_dise html
query_ctd_gene html
** building package indices
** installing vignettes
** testing if installed package can be loaded from temporary location
** testing if installed package can be loaded from final location
** testing if installed package keeps a record of temporary installation path
install for x64
* installing *source* package 'CTDquerier' ...
** testing if installed package can be loaded
* MD5 sums
packaged installation of 'CTDquerier' as CTDquerier_1.3.0.zip
* DONE (CTDquerier)