| Back to Multiple platform build/check report for BioC 3.9 |
|
This page was generated on 2019-04-09 12:42:58 -0400 (Tue, 09 Apr 2019).
| Package 86/1703 | Hostname | OS / Arch | INSTALL | BUILD | CHECK | BUILD BIN | ||||||
| AssessORF 1.1.6 Deepank Korandla
| malbec2 | Linux (Ubuntu 18.04.2 LTS) / x86_64 | OK | OK | OK | |||||||
| tokay2 | Windows Server 2012 R2 Standard / x64 | OK | OK | [ OK ] | OK | |||||||
| celaya2 | OS X 10.11.6 El Capitan / x86_64 | OK | OK | OK | OK | |||||||
| merida2 | OS X 10.11.6 El Capitan / x86_64 | OK | OK | OK | OK |
| Package: AssessORF |
| Version: 1.1.6 |
| Command: C:\Users\biocbuild\bbs-3.9-bioc\R\bin\R.exe CMD check --force-multiarch --install=check:AssessORF.install-out.txt --library=C:\Users\biocbuild\bbs-3.9-bioc\R\library --no-vignettes --timings AssessORF_1.1.6.tar.gz |
| StartedAt: 2019-04-09 01:09:09 -0400 (Tue, 09 Apr 2019) |
| EndedAt: 2019-04-09 01:12:34 -0400 (Tue, 09 Apr 2019) |
| EllapsedTime: 204.8 seconds |
| RetCode: 0 |
| Status: OK |
| CheckDir: AssessORF.Rcheck |
| Warnings: 0 |
##############################################################################
##############################################################################
###
### Running command:
###
### C:\Users\biocbuild\bbs-3.9-bioc\R\bin\R.exe CMD check --force-multiarch --install=check:AssessORF.install-out.txt --library=C:\Users\biocbuild\bbs-3.9-bioc\R\library --no-vignettes --timings AssessORF_1.1.6.tar.gz
###
##############################################################################
##############################################################################
* using log directory 'C:/Users/biocbuild/bbs-3.9-bioc/meat/AssessORF.Rcheck'
* using R Under development (unstable) (2019-03-09 r76216)
* using platform: x86_64-w64-mingw32 (64-bit)
* using session charset: ISO8859-1
* using option '--no-vignettes'
* checking for file 'AssessORF/DESCRIPTION' ... OK
* checking extension type ... Package
* this is package 'AssessORF' version '1.1.6'
* package encoding: UTF-8
* checking package namespace information ... OK
* checking package dependencies ... OK
* checking if this is a source package ... OK
* checking if there is a namespace ... OK
* checking for hidden files and directories ... OK
* checking for portable file names ... OK
* checking whether package 'AssessORF' can be installed ... OK
* checking installed package size ... OK
* checking package directory ... OK
* checking 'build' directory ... OK
* checking DESCRIPTION meta-information ... OK
* checking top-level files ... OK
* checking for left-over files ... OK
* checking index information ... OK
* checking package subdirectories ... OK
* checking R files for non-ASCII characters ... OK
* checking R files for syntax errors ... OK
* loading checks for arch 'i386'
** checking whether the package can be loaded ... OK
** checking whether the package can be loaded with stated dependencies ... OK
** checking whether the package can be unloaded cleanly ... OK
** checking whether the namespace can be loaded with stated dependencies ... OK
** checking whether the namespace can be unloaded cleanly ... OK
* loading checks for arch 'x64'
** checking whether the package can be loaded ... OK
** checking whether the package can be loaded with stated dependencies ... OK
** checking whether the package can be unloaded cleanly ... OK
** checking whether the namespace can be loaded with stated dependencies ... OK
** checking whether the namespace can be unloaded cleanly ... OK
* checking dependencies in R code ... OK
* checking S3 generic/method consistency ... OK
* checking replacement functions ... OK
* checking foreign function calls ... OK
* checking R code for possible problems ... OK
* checking Rd files ... OK
* checking Rd metadata ... OK
* checking Rd cross-references ... OK
* checking for missing documentation entries ... OK
* checking for code/documentation mismatches ... OK
* checking Rd \usage sections ... OK
* checking Rd contents ... OK
* checking for unstated dependencies in examples ... OK
* checking files in 'vignettes' ... OK
* checking examples ...
** running examples for arch 'i386' ... OK
Examples with CPU or elapsed time > 5s
user system elapsed
MapAssessmentData 11.51 3.29 14.97
plot.Assessment 10.75 2.30 13.05
AssessGenes 11.56 0.25 11.91
** running examples for arch 'x64' ... OK
Examples with CPU or elapsed time > 5s
user system elapsed
plot.Assessment 10.71 2.69 13.41
MapAssessmentData 10.09 2.83 12.92
AssessGenes 11.72 0.12 11.84
* checking for unstated dependencies in vignettes ... OK
* checking package vignettes in 'inst/doc' ... OK
* checking running R code from vignettes ... SKIPPED
* checking re-building of vignette outputs ... SKIPPED
* checking PDF version of manual ... OK
* DONE
Status: OK
AssessORF.Rcheck/00install.out
##############################################################################
##############################################################################
###
### Running command:
###
### C:\cygwin\bin\curl.exe -O https://malbec2.bioconductor.org/BBS/3.9/bioc/src/contrib/AssessORF_1.1.6.tar.gz && rm -rf AssessORF.buildbin-libdir && mkdir AssessORF.buildbin-libdir && C:\Users\biocbuild\bbs-3.9-bioc\R\bin\R.exe CMD INSTALL --merge-multiarch --build --library=AssessORF.buildbin-libdir AssessORF_1.1.6.tar.gz && C:\Users\biocbuild\bbs-3.9-bioc\R\bin\R.exe CMD INSTALL AssessORF_1.1.6.zip && rm AssessORF_1.1.6.tar.gz AssessORF_1.1.6.zip
###
##############################################################################
##############################################################################
% Total % Received % Xferd Average Speed Time Time Time Current
Dload Upload Total Spent Left Speed
0 0 0 0 0 0 0 0 --:--:-- --:--:-- --:--:-- 0
100 2555k 100 2555k 0 0 27.6M 0 --:--:-- --:--:-- --:--:-- 29.7M
install for i386
* installing *source* package 'AssessORF' ...
** R
** inst
** byte-compile and prepare package for lazy loading
** help
*** installing help indices
converting help for package 'AssessORF'
finding HTML links ... done
AssessGenes html
Assessment-class html
MapAssessmentData html
ScoreAssessmentResults html
as.matrix.Assessment html
mosaicplot.Assessment html
plot.Assessment html
print.Assessment html
** building package indices
** installing vignettes
** testing if installed package can be loaded from temporary location
** testing if installed package can be loaded from final location
** testing if installed package keeps a record of temporary installation path
install for x64
* installing *source* package 'AssessORF' ...
** testing if installed package can be loaded
* MD5 sums
packaged installation of 'AssessORF' as AssessORF_1.1.6.zip
* DONE (AssessORF)
* installing to library 'C:/Users/biocbuild/bbs-3.9-bioc/R/library'
package 'AssessORF' successfully unpacked and MD5 sums checked
|
AssessORF.Rcheck/examples_i386/AssessORF-Ex.timings
|
AssessORF.Rcheck/examples_x64/AssessORF-Ex.timings
|