| Back to Multiple platform build/check report for BioC 3.9 |
|
This page was generated on 2019-04-09 11:52:12 -0400 (Tue, 09 Apr 2019).
| Package 86/1703 | Hostname | OS / Arch | INSTALL | BUILD | CHECK | BUILD BIN | ||||||
| AssessORF 1.1.6 Deepank Korandla
| malbec2 | Linux (Ubuntu 18.04.2 LTS) / x86_64 | OK | OK | [ OK ] | |||||||
| tokay2 | Windows Server 2012 R2 Standard / x64 | OK | OK | OK | OK | |||||||
| celaya2 | OS X 10.11.6 El Capitan / x86_64 | OK | OK | OK | OK | |||||||
| merida2 | OS X 10.11.6 El Capitan / x86_64 | OK | OK | OK | OK |
| Package: AssessORF |
| Version: 1.1.6 |
| Command: /home/biocbuild/bbs-3.9-bioc/R/bin/R CMD check --install=check:AssessORF.install-out.txt --library=/home/biocbuild/bbs-3.9-bioc/R/library --no-vignettes --timings AssessORF_1.1.6.tar.gz |
| StartedAt: 2019-04-08 22:48:51 -0400 (Mon, 08 Apr 2019) |
| EndedAt: 2019-04-08 22:50:49 -0400 (Mon, 08 Apr 2019) |
| EllapsedTime: 118.0 seconds |
| RetCode: 0 |
| Status: OK |
| CheckDir: AssessORF.Rcheck |
| Warnings: 0 |
##############################################################################
##############################################################################
###
### Running command:
###
### /home/biocbuild/bbs-3.9-bioc/R/bin/R CMD check --install=check:AssessORF.install-out.txt --library=/home/biocbuild/bbs-3.9-bioc/R/library --no-vignettes --timings AssessORF_1.1.6.tar.gz
###
##############################################################################
##############################################################################
* using log directory ‘/home/biocbuild/bbs-3.9-bioc/meat/AssessORF.Rcheck’
* using R Under development (unstable) (2019-03-18 r76245)
* using platform: x86_64-pc-linux-gnu (64-bit)
* using session charset: UTF-8
* using option ‘--no-vignettes’
* checking for file ‘AssessORF/DESCRIPTION’ ... OK
* checking extension type ... Package
* this is package ‘AssessORF’ version ‘1.1.6’
* package encoding: UTF-8
* checking package namespace information ... OK
* checking package dependencies ... OK
* checking if this is a source package ... OK
* checking if there is a namespace ... OK
* checking for hidden files and directories ... OK
* checking for portable file names ... OK
* checking for sufficient/correct file permissions ... OK
* checking whether package ‘AssessORF’ can be installed ... OK
* checking installed package size ... OK
* checking package directory ... OK
* checking ‘build’ directory ... OK
* checking DESCRIPTION meta-information ... OK
* checking top-level files ... OK
* checking for left-over files ... OK
* checking index information ... OK
* checking package subdirectories ... OK
* checking R files for non-ASCII characters ... OK
* checking R files for syntax errors ... OK
* checking whether the package can be loaded ... OK
* checking whether the package can be loaded with stated dependencies ... OK
* checking whether the package can be unloaded cleanly ... OK
* checking whether the namespace can be loaded with stated dependencies ... OK
* checking whether the namespace can be unloaded cleanly ... OK
* checking dependencies in R code ... OK
* checking S3 generic/method consistency ... OK
* checking replacement functions ... OK
* checking foreign function calls ... OK
* checking R code for possible problems ... OK
* checking Rd files ... OK
* checking Rd metadata ... OK
* checking Rd cross-references ... OK
* checking for missing documentation entries ... OK
* checking for code/documentation mismatches ... OK
* checking Rd \usage sections ... OK
* checking Rd contents ... OK
* checking for unstated dependencies in examples ... OK
* checking files in ‘vignettes’ ... OK
* checking examples ... OK
Examples with CPU or elapsed time > 5s
user system elapsed
MapAssessmentData 9.593 0.176 9.785
plot.Assessment 9.327 0.392 9.726
AssessGenes 9.605 0.081 9.885
* checking for unstated dependencies in vignettes ... OK
* checking package vignettes in ‘inst/doc’ ... OK
* checking running R code from vignettes ... SKIPPED
* checking re-building of vignette outputs ... SKIPPED
* checking PDF version of manual ... OK
* DONE
Status: OK
AssessORF.Rcheck/00install.out
############################################################################## ############################################################################## ### ### Running command: ### ### /home/biocbuild/bbs-3.9-bioc/R/bin/R CMD INSTALL AssessORF ### ############################################################################## ############################################################################## * installing to library ‘/home/biocbuild/bbs-3.9-bioc/R/library’ * installing *source* package ‘AssessORF’ ... ** using staged installation ** R ** inst ** byte-compile and prepare package for lazy loading ** help *** installing help indices ** building package indices ** installing vignettes ** testing if installed package can be loaded from temporary location ** testing if installed package can be loaded from final location ** testing if installed package keeps a record of temporary installation path * DONE (AssessORF)
AssessORF.Rcheck/AssessORF-Ex.timings
| name | user | system | elapsed | |
| AssessGenes | 9.605 | 0.081 | 9.885 | |
| MapAssessmentData | 9.593 | 0.176 | 9.785 | |
| ScoreAssessmentResults | 0.005 | 0.000 | 0.019 | |
| as.matrix.Assessment | 0.004 | 0.000 | 0.005 | |
| mosaicplot.Assessment | 0.019 | 0.004 | 0.023 | |
| plot.Assessment | 9.327 | 0.392 | 9.726 | |
| print.Assessment | 0.561 | 0.008 | 0.569 | |