| Back to Multiple platform build/check report for BioC 3.7 |
|
This page was generated on 2018-10-17 08:50:30 -0400 (Wed, 17 Oct 2018).
| Package 1435/1561 | Hostname | OS / Arch | INSTALL | BUILD | CHECK | BUILD BIN | ||||||
| staRank 1.22.0 Juliane Siebourg
| malbec2 | Linux (Ubuntu 16.04.1 LTS) / x86_64 | OK | OK | OK | |||||||
| tokay2 | Windows Server 2012 R2 Standard / x64 | OK | OK | OK | OK | |||||||
| merida2 | OS X 10.11.6 El Capitan / x86_64 | OK | OK | [ OK ] | OK |
| Package: staRank |
| Version: 1.22.0 |
| Command: /Library/Frameworks/R.framework/Versions/Current/Resources/bin/R CMD check --install=check:staRank.install-out.txt --library=/Library/Frameworks/R.framework/Versions/Current/Resources/library --no-vignettes --timings staRank_1.22.0.tar.gz |
| StartedAt: 2018-10-17 00:17:59 -0400 (Wed, 17 Oct 2018) |
| EndedAt: 2018-10-17 00:20:55 -0400 (Wed, 17 Oct 2018) |
| EllapsedTime: 176.5 seconds |
| RetCode: 0 |
| Status: OK |
| CheckDir: staRank.Rcheck |
| Warnings: 0 |
##############################################################################
##############################################################################
###
### Running command:
###
### /Library/Frameworks/R.framework/Versions/Current/Resources/bin/R CMD check --install=check:staRank.install-out.txt --library=/Library/Frameworks/R.framework/Versions/Current/Resources/library --no-vignettes --timings staRank_1.22.0.tar.gz
###
##############################################################################
##############################################################################
* using log directory ‘/Users/biocbuild/bbs-3.7-bioc/meat/staRank.Rcheck’
* using R version 3.5.1 Patched (2018-07-12 r74967)
* using platform: x86_64-apple-darwin15.6.0 (64-bit)
* using session charset: UTF-8
* using option ‘--no-vignettes’
* checking for file ‘staRank/DESCRIPTION’ ... OK
* checking extension type ... Package
* this is package ‘staRank’ version ‘1.22.0’
* checking package namespace information ... OK
* checking package dependencies ... OK
* checking if this is a source package ... OK
* checking if there is a namespace ... OK
* checking for hidden files and directories ... OK
* checking for portable file names ... OK
* checking for sufficient/correct file permissions ... OK
* checking whether package ‘staRank’ can be installed ... OK
* checking installed package size ... OK
* checking package directory ... OK
* checking ‘build’ directory ... OK
* checking DESCRIPTION meta-information ... OK
* checking top-level files ... OK
* checking for left-over files ... OK
* checking index information ... OK
* checking package subdirectories ... OK
* checking R files for non-ASCII characters ... OK
* checking R files for syntax errors ... OK
* checking whether the package can be loaded ... OK
* checking whether the package can be loaded with stated dependencies ... OK
* checking whether the package can be unloaded cleanly ... OK
* checking whether the namespace can be loaded with stated dependencies ... OK
* checking whether the namespace can be unloaded cleanly ... OK
* checking dependencies in R code ... OK
* checking S3 generic/method consistency ... OK
* checking replacement functions ... OK
* checking foreign function calls ... OK
* checking R code for possible problems ... NOTE
OPIScore : <anonymous>: no visible global function definition for
‘phyper’
aggregRank : <anonymous>: no visible global function definition for
‘median’
mwTest2samp: no visible global function definition for ‘pwilcox’
mwTest2samp: no visible global function definition for ‘pnorm’
show,RankSummary: no visible global function definition for ‘head’
stabilityRanking,cellHTS: no visible global function definition for
‘channelNames’
stabilityRanking,cellHTS: no visible global function definition for
‘sampleNames’
stabilityRanking,cellHTS: no visible global function definition for
‘featureNames’
stabilityRanking,numeric: no visible global function definition for
‘avrgRank<-’
stabilityRanking,numeric: no visible global function definition for
‘cor’
summaryStats,list : <anonymous>: no visible global function definition
for ‘median’
summaryStats,list : <anonymous>: no visible global function definition
for ‘t.test’
summaryStats,matrix : <anonymous>: no visible global function
definition for ‘median’
summaryStats,matrix : <anonymous>: no visible global function
definition for ‘t.test’
Undefined global functions or variables:
avrgRank<- channelNames cor featureNames head median phyper pnorm
pwilcox sampleNames t.test
Consider adding
importFrom("stats", "cor", "median", "phyper", "pnorm", "pwilcox",
"t.test")
importFrom("utils", "head")
to your NAMESPACE file.
* checking Rd files ... OK
* checking Rd metadata ... OK
* checking Rd cross-references ... OK
* checking for missing documentation entries ... OK
* checking for code/documentation mismatches ... OK
* checking Rd \usage sections ... OK
* checking Rd contents ... OK
* checking for unstated dependencies in examples ... OK
* checking contents of ‘data’ directory ... OK
* checking data for non-ASCII characters ... OK
* checking data for ASCII and uncompressed saves ... OK
* checking sizes of PDF files under ‘inst/doc’ ... OK
* checking files in ‘vignettes’ ... OK
* checking examples ... OK
* checking for unstated dependencies in vignettes ... OK
* checking package vignettes in ‘inst/doc’ ... OK
* checking running R code from vignettes ... SKIPPED
* checking re-building of vignette outputs ... SKIPPED
* checking PDF version of manual ... OK
* DONE
Status: 1 NOTE
See
‘/Users/biocbuild/bbs-3.7-bioc/meat/staRank.Rcheck/00check.log’
for details.
staRank.Rcheck/00install.out
############################################################################## ############################################################################## ### ### Running command: ### ### /Library/Frameworks/R.framework/Versions/Current/Resources/bin/R CMD INSTALL staRank ### ############################################################################## ############################################################################## * installing to library ‘/Library/Frameworks/R.framework/Versions/3.5/Resources/library’ * installing *source* package ‘staRank’ ... ** R ** data ** inst ** byte-compile and prepare package for lazy loading ** help *** installing help indices ** building package indices ** installing vignettes ** testing if installed package can be loaded * DONE (staRank)
staRank.Rcheck/staRank-Ex.timings
| name | user | system | elapsed | |
| RankSummary-class | 0.070 | 0.001 | 0.072 | |
| aggregRank | 0.132 | 0.006 | 0.138 | |
| dataFormatRSA | 0.108 | 0.004 | 0.112 | |
| getRankmatrix | 0.111 | 0.006 | 0.117 | |
| getSampleScores-methods | 0.127 | 0.003 | 0.131 | |
| getStability | 0.112 | 0.003 | 0.115 | |
| mwTest2samp | 0.001 | 0.000 | 0.001 | |
| runRSA | 0.111 | 0.002 | 0.113 | |
| staRank-package | 0.120 | 0.007 | 0.130 | |
| stabilityRanking-methods | 0.110 | 0.002 | 0.113 | |
| summary-methods | 0.110 | 0.001 | 0.112 | |
| summaryStats-methods | 0.099 | 0.002 | 0.101 | |
| uniqueRSARanking | 0.089 | 0.001 | 0.090 | |