| Back to Multiple platform build/check report for BioC 3.7 |
|
This page was generated on 2018-10-17 08:24:20 -0400 (Wed, 17 Oct 2018).
| Package 1435/1561 | Hostname | OS / Arch | INSTALL | BUILD | CHECK | BUILD BIN | ||||||
| staRank 1.22.0 Juliane Siebourg
| malbec2 | Linux (Ubuntu 16.04.1 LTS) / x86_64 | OK | OK | [ OK ] | |||||||
| tokay2 | Windows Server 2012 R2 Standard / x64 | OK | OK | OK | OK | |||||||
| merida2 | OS X 10.11.6 El Capitan / x86_64 | OK | OK | OK | OK |
| Package: staRank |
| Version: 1.22.0 |
| Command: /home/biocbuild/bbs-3.7-bioc/R/bin/R CMD check --install=check:staRank.install-out.txt --library=/home/biocbuild/bbs-3.7-bioc/R/library --no-vignettes --timings staRank_1.22.0.tar.gz |
| StartedAt: 2018-10-16 04:01:07 -0400 (Tue, 16 Oct 2018) |
| EndedAt: 2018-10-16 04:03:16 -0400 (Tue, 16 Oct 2018) |
| EllapsedTime: 129.2 seconds |
| RetCode: 0 |
| Status: OK |
| CheckDir: staRank.Rcheck |
| Warnings: 0 |
##############################################################################
##############################################################################
###
### Running command:
###
### /home/biocbuild/bbs-3.7-bioc/R/bin/R CMD check --install=check:staRank.install-out.txt --library=/home/biocbuild/bbs-3.7-bioc/R/library --no-vignettes --timings staRank_1.22.0.tar.gz
###
##############################################################################
##############################################################################
* using log directory ‘/home/biocbuild/bbs-3.7-bioc/meat/staRank.Rcheck’
* using R version 3.5.1 Patched (2018-07-12 r74967)
* using platform: x86_64-pc-linux-gnu (64-bit)
* using session charset: UTF-8
* using option ‘--no-vignettes’
* checking for file ‘staRank/DESCRIPTION’ ... OK
* checking extension type ... Package
* this is package ‘staRank’ version ‘1.22.0’
* checking package namespace information ... OK
* checking package dependencies ... OK
* checking if this is a source package ... OK
* checking if there is a namespace ... OK
* checking for hidden files and directories ... OK
* checking for portable file names ... OK
* checking for sufficient/correct file permissions ... OK
* checking whether package ‘staRank’ can be installed ... OK
* checking installed package size ... OK
* checking package directory ... OK
* checking ‘build’ directory ... OK
* checking DESCRIPTION meta-information ... OK
* checking top-level files ... OK
* checking for left-over files ... OK
* checking index information ... OK
* checking package subdirectories ... OK
* checking R files for non-ASCII characters ... OK
* checking R files for syntax errors ... OK
* checking whether the package can be loaded ... OK
* checking whether the package can be loaded with stated dependencies ... OK
* checking whether the package can be unloaded cleanly ... OK
* checking whether the namespace can be loaded with stated dependencies ... OK
* checking whether the namespace can be unloaded cleanly ... OK
* checking dependencies in R code ... OK
* checking S3 generic/method consistency ... OK
* checking replacement functions ... OK
* checking foreign function calls ... OK
* checking R code for possible problems ... NOTE
OPIScore : <anonymous>: no visible global function definition for
‘phyper’
aggregRank : <anonymous>: no visible global function definition for
‘median’
mwTest2samp: no visible global function definition for ‘pwilcox’
mwTest2samp: no visible global function definition for ‘pnorm’
show,RankSummary: no visible global function definition for ‘head’
stabilityRanking,cellHTS: no visible global function definition for
‘channelNames’
stabilityRanking,cellHTS: no visible global function definition for
‘sampleNames’
stabilityRanking,cellHTS: no visible global function definition for
‘featureNames’
stabilityRanking,numeric: no visible global function definition for
‘avrgRank<-’
stabilityRanking,numeric: no visible global function definition for
‘cor’
summaryStats,list : <anonymous>: no visible global function definition
for ‘median’
summaryStats,list : <anonymous>: no visible global function definition
for ‘t.test’
summaryStats,matrix : <anonymous>: no visible global function
definition for ‘median’
summaryStats,matrix : <anonymous>: no visible global function
definition for ‘t.test’
Undefined global functions or variables:
avrgRank<- channelNames cor featureNames head median phyper pnorm
pwilcox sampleNames t.test
Consider adding
importFrom("stats", "cor", "median", "phyper", "pnorm", "pwilcox",
"t.test")
importFrom("utils", "head")
to your NAMESPACE file.
* checking Rd files ... OK
* checking Rd metadata ... OK
* checking Rd cross-references ... OK
* checking for missing documentation entries ... OK
* checking for code/documentation mismatches ... OK
* checking Rd \usage sections ... OK
* checking Rd contents ... OK
* checking for unstated dependencies in examples ... OK
* checking contents of ‘data’ directory ... OK
* checking data for non-ASCII characters ... OK
* checking data for ASCII and uncompressed saves ... OK
* checking files in ‘vignettes’ ... OK
* checking examples ... OK
* checking for unstated dependencies in vignettes ... OK
* checking package vignettes in ‘inst/doc’ ... OK
* checking running R code from vignettes ... SKIPPED
* checking re-building of vignette outputs ... SKIPPED
* checking PDF version of manual ... OK
* DONE
Status: 1 NOTE
See
‘/home/biocbuild/bbs-3.7-bioc/meat/staRank.Rcheck/00check.log’
for details.
staRank.Rcheck/00install.out
############################################################################## ############################################################################## ### ### Running command: ### ### /home/biocbuild/bbs-3.7-bioc/R/bin/R CMD INSTALL staRank ### ############################################################################## ############################################################################## * installing to library ‘/home/biocbuild/bbs-3.7-bioc/R/library’ * installing *source* package ‘staRank’ ... ** R ** data ** inst ** byte-compile and prepare package for lazy loading ** help *** installing help indices ** building package indices ** installing vignettes ** testing if installed package can be loaded * DONE (staRank)
staRank.Rcheck/staRank-Ex.timings
| name | user | system | elapsed | |
| RankSummary-class | 0.048 | 0.000 | 0.048 | |
| aggregRank | 0.088 | 0.000 | 0.087 | |
| dataFormatRSA | 0.060 | 0.000 | 0.062 | |
| getRankmatrix | 0.076 | 0.000 | 0.075 | |
| getSampleScores-methods | 0.060 | 0.000 | 0.059 | |
| getStability | 0.056 | 0.000 | 0.056 | |
| mwTest2samp | 0.000 | 0.000 | 0.001 | |
| runRSA | 0.052 | 0.004 | 0.055 | |
| staRank-package | 0.068 | 0.000 | 0.068 | |
| stabilityRanking-methods | 0.060 | 0.000 | 0.058 | |
| summary-methods | 0.06 | 0.00 | 0.06 | |
| summaryStats-methods | 0.06 | 0.00 | 0.06 | |
| uniqueRSARanking | 0.068 | 0.000 | 0.070 | |