| Back to Multiple platform build/check report for BioC 3.7 |
|
This page was generated on 2018-10-17 08:37:16 -0400 (Wed, 17 Oct 2018).
| Package 1139/1561 | Hostname | OS / Arch | INSTALL | BUILD | CHECK | BUILD BIN | ||||||
| prot2D 1.18.0 Sebastien Artigaud
| malbec2 | Linux (Ubuntu 16.04.1 LTS) / x86_64 | ERROR | ERROR | skipped | |||||||
| tokay2 | Windows Server 2012 R2 Standard / x64 | [ OK ] | OK | WARNINGS | OK | |||||||
| merida2 | OS X 10.11.6 El Capitan / x86_64 | OK | OK | OK | OK |
| Package: prot2D |
| Version: 1.18.0 |
| Command: C:\cygwin\bin\curl.exe -O https://malbec2.bioconductor.org/BBS/3.7/bioc/src/contrib/prot2D_1.18.0.tar.gz && rm -rf prot2D.buildbin-libdir && mkdir prot2D.buildbin-libdir && C:\Users\biocbuild\bbs-3.7-bioc\R\bin\R.exe CMD INSTALL --merge-multiarch --build --library=prot2D.buildbin-libdir prot2D_1.18.0.tar.gz && C:\Users\biocbuild\bbs-3.7-bioc\R\bin\R.exe CMD INSTALL prot2D_1.18.0.zip && rm prot2D_1.18.0.tar.gz prot2D_1.18.0.zip |
| StartedAt: 2018-10-16 19:06:42 -0400 (Tue, 16 Oct 2018) |
| EndedAt: 2018-10-16 19:07:00 -0400 (Tue, 16 Oct 2018) |
| EllapsedTime: 17.4 seconds |
| RetCode: 0 |
| Status: OK |
##############################################################################
##############################################################################
###
### Running command:
###
### C:\cygwin\bin\curl.exe -O https://malbec2.bioconductor.org/BBS/3.7/bioc/src/contrib/prot2D_1.18.0.tar.gz && rm -rf prot2D.buildbin-libdir && mkdir prot2D.buildbin-libdir && C:\Users\biocbuild\bbs-3.7-bioc\R\bin\R.exe CMD INSTALL --merge-multiarch --build --library=prot2D.buildbin-libdir prot2D_1.18.0.tar.gz && C:\Users\biocbuild\bbs-3.7-bioc\R\bin\R.exe CMD INSTALL prot2D_1.18.0.zip && rm prot2D_1.18.0.tar.gz prot2D_1.18.0.zip
###
##############################################################################
##############################################################################
% Total % Received % Xferd Average Speed Time Time Time Current
Dload Upload Total Spent Left Speed
0 0 0 0 0 0 0 0 --:--:-- --:--:-- --:--:-- 0
100 123k 100 123k 0 0 1920k 0 --:--:-- --:--:-- --:--:-- 2164k
install for i386
* installing *source* package 'prot2D' ...
** R
** data
** inst
** byte-compile and prepare package for lazy loading
** help
*** installing help indices
converting help for package 'prot2D'
finding HTML links ... done
ES.prot html
finding level-2 HTML links ... done
Norm.qt html
Norm.vsn html
RIplot html
Sim.Prot.2D html
pecten html
pecten.fac html
prot2D-package html
Rd warning: C:/Users/biocbuild/bbs-3.7-bioc/tmpdir/RtmpMJzc4E/R.INSTALLc7457a031e9/prot2D/man/prot2D-package.Rd:14: file link 'ExpressionSet' in package 'Biobase' does not exist and so has been treated as a topic
Rd warning: C:/Users/biocbuild/bbs-3.7-bioc/tmpdir/RtmpMJzc4E/R.INSTALLc7457a031e9/prot2D/man/prot2D-package.Rd:15: file link 'modT.Prot' in package 'prot2D' does not exist and so has been treated as a topic
robust.fdr html
variousT html
** building package indices
** installing vignettes
** testing if installed package can be loaded
In R CMD INSTALL
install for x64
* installing *source* package 'prot2D' ...
** testing if installed package can be loaded
* MD5 sums
packaged installation of 'prot2D' as prot2D_1.18.0.zip
* DONE (prot2D)
In R CMD INSTALL
In R CMD INSTALL
* installing to library 'C:/Users/biocbuild/bbs-3.7-bioc/R/library'
package 'prot2D' successfully unpacked and MD5 sums checked
In R CMD INSTALL