| Back to Multiple platform build/check report for BioC 3.7 |
|
This page was generated on 2018-10-17 08:25:11 -0400 (Wed, 17 Oct 2018).
| Package 1139/1561 | Hostname | OS / Arch | INSTALL | BUILD | CHECK | BUILD BIN | ||||||
| prot2D 1.18.0 Sebastien Artigaud
| malbec2 | Linux (Ubuntu 16.04.1 LTS) / x86_64 | ERROR | [ ERROR ] | skipped | |||||||
| tokay2 | Windows Server 2012 R2 Standard / x64 | OK | OK | WARNINGS | OK | |||||||
| merida2 | OS X 10.11.6 El Capitan / x86_64 | OK | OK | OK | OK |
| Package: prot2D |
| Version: 1.18.0 |
| Command: /home/biocbuild/bbs-3.7-bioc/R/bin/R CMD build --keep-empty-dirs --no-resave-data prot2D |
| StartedAt: 2018-10-15 19:46:09 -0400 (Mon, 15 Oct 2018) |
| EndedAt: 2018-10-15 19:46:10 -0400 (Mon, 15 Oct 2018) |
| EllapsedTime: 1.4 seconds |
| RetCode: 1 |
| Status: ERROR |
| PackageFile: None |
| PackageFileSize: NA |
##############################################################################
##############################################################################
###
### Running command:
###
### /home/biocbuild/bbs-3.7-bioc/R/bin/R CMD build --keep-empty-dirs --no-resave-data prot2D
###
##############################################################################
##############################################################################
* checking for file ‘prot2D/DESCRIPTION’ ... OK
* preparing ‘prot2D’:
* checking DESCRIPTION meta-information ... OK
* installing the package to build vignettes
-----------------------------------
ERROR: dependency ‘samr’ is not available for package ‘prot2D’
* removing ‘/tmp/RtmprVCSKj/Rinst4ba650593a/prot2D’
-----------------------------------
ERROR: package installation failed