| Back to Multiple platform build/check report for BioC 3.7 |
|
This page was generated on 2018-10-17 08:37:02 -0400 (Wed, 17 Oct 2018).
| Package 1064/1561 | Hostname | OS / Arch | INSTALL | BUILD | CHECK | BUILD BIN | ||||||
| pathview 1.20.0 Weijun Luo
| malbec2 | Linux (Ubuntu 16.04.1 LTS) / x86_64 | OK | OK | OK | |||||||
| tokay2 | Windows Server 2012 R2 Standard / x64 | OK | OK | OK | [ OK ] | |||||||
| merida2 | OS X 10.11.6 El Capitan / x86_64 | OK | OK | OK | OK |
| Package: pathview |
| Version: 1.20.0 |
| Command: rm -rf pathview.buildbin-libdir && mkdir pathview.buildbin-libdir && C:\Users\biocbuild\bbs-3.7-bioc\R\bin\R.exe CMD INSTALL --merge-multiarch --build --library=pathview.buildbin-libdir pathview_1.20.0.tar.gz |
| StartedAt: 2018-10-17 06:46:39 -0400 (Wed, 17 Oct 2018) |
| EndedAt: 2018-10-17 06:47:08 -0400 (Wed, 17 Oct 2018) |
| EllapsedTime: 28.5 seconds |
| RetCode: 0 |
| Status: OK |
| PackageFile: pathview_1.20.0.zip |
| PackageFileSize: 2.172 MiB |
##############################################################################
##############################################################################
###
### Running command:
###
### rm -rf pathview.buildbin-libdir && mkdir pathview.buildbin-libdir && C:\Users\biocbuild\bbs-3.7-bioc\R\bin\R.exe CMD INSTALL --merge-multiarch --build --library=pathview.buildbin-libdir pathview_1.20.0.tar.gz
###
##############################################################################
##############################################################################
install for i386
* installing *source* package 'pathview' ...
** R
** data
** inst
** byte-compile and prepare package for lazy loading
** help
*** installing help indices
converting help for package 'pathview'
finding HTML links ... done
combineKEGGnodes html
cpd.accs html
cpdidmap html
demo.data html
download.kegg html
eg2id html
kegg.species.code html
korg html
mol.sum html
node.color html
node.info html
node.map html
pathview-internal html
pathview-package html
pathview html
sim.mol.data html
wordwrap html
** building package indices
** installing vignettes
** testing if installed package can be loaded
In R CMD INSTALL
install for x64
* installing *source* package 'pathview' ...
** testing if installed package can be loaded
* MD5 sums
packaged installation of 'pathview' as pathview_1.20.0.zip
* DONE (pathview)
In R CMD INSTALL
In R CMD INSTALL