| Back to Multiple platform build/check report for BioC 3.7 |
|
This page was generated on 2018-10-17 08:25:00 -0400 (Wed, 17 Oct 2018).
| Package 1064/1561 | Hostname | OS / Arch | INSTALL | BUILD | CHECK | BUILD BIN | ||||||
| pathview 1.20.0 Weijun Luo
| malbec2 | Linux (Ubuntu 16.04.1 LTS) / x86_64 | OK | [ OK ] | OK | |||||||
| tokay2 | Windows Server 2012 R2 Standard / x64 | OK | OK | OK | OK | |||||||
| merida2 | OS X 10.11.6 El Capitan / x86_64 | OK | OK | OK | OK |
| Package: pathview |
| Version: 1.20.0 |
| Command: /home/biocbuild/bbs-3.7-bioc/R/bin/R CMD build --keep-empty-dirs --no-resave-data pathview |
| StartedAt: 2018-10-15 19:43:57 -0400 (Mon, 15 Oct 2018) |
| EndedAt: 2018-10-15 19:45:10 -0400 (Mon, 15 Oct 2018) |
| EllapsedTime: 72.9 seconds |
| RetCode: 0 |
| Status: OK |
| PackageFile: pathview_1.20.0.tar.gz |
| PackageFileSize: 2.091 MiB |
############################################################################## ############################################################################## ### ### Running command: ### ### /home/biocbuild/bbs-3.7-bioc/R/bin/R CMD build --keep-empty-dirs --no-resave-data pathview ### ############################################################################## ############################################################################## * checking for file ‘pathview/DESCRIPTION’ ... OK * preparing ‘pathview’: * checking DESCRIPTION meta-information ... OK * installing the package to build vignettes * creating vignettes ... OK * checking for LF line-endings in source and make files and shell scripts * checking for empty or unneeded directories * looking to see if a ‘data/datalist’ file should be added * building ‘pathview_1.20.0.tar.gz’