| Back to Multiple platform build/check report for BioC 3.7 |
|
This page was generated on 2018-10-17 08:23:44 -0400 (Wed, 17 Oct 2018).
| Package 1005/1561 | Hostname | OS / Arch | INSTALL | BUILD | CHECK | BUILD BIN | ||||||
| nucleR 2.12.1 Ricard Illa
| malbec2 | Linux (Ubuntu 16.04.1 LTS) / x86_64 | OK | OK | [ OK ] | |||||||
| tokay2 | Windows Server 2012 R2 Standard / x64 | OK | OK | WARNINGS | OK | |||||||
| merida2 | OS X 10.11.6 El Capitan / x86_64 | OK | OK | OK | OK |
| Package: nucleR |
| Version: 2.12.1 |
| Command: /home/biocbuild/bbs-3.7-bioc/R/bin/R CMD check --install=check:nucleR.install-out.txt --library=/home/biocbuild/bbs-3.7-bioc/R/library --no-vignettes --timings nucleR_2.12.1.tar.gz |
| StartedAt: 2018-10-16 02:24:12 -0400 (Tue, 16 Oct 2018) |
| EndedAt: 2018-10-16 02:27:07 -0400 (Tue, 16 Oct 2018) |
| EllapsedTime: 175.2 seconds |
| RetCode: 0 |
| Status: OK |
| CheckDir: nucleR.Rcheck |
| Warnings: 0 |
##############################################################################
##############################################################################
###
### Running command:
###
### /home/biocbuild/bbs-3.7-bioc/R/bin/R CMD check --install=check:nucleR.install-out.txt --library=/home/biocbuild/bbs-3.7-bioc/R/library --no-vignettes --timings nucleR_2.12.1.tar.gz
###
##############################################################################
##############################################################################
* using log directory ‘/home/biocbuild/bbs-3.7-bioc/meat/nucleR.Rcheck’
* using R version 3.5.1 Patched (2018-07-12 r74967)
* using platform: x86_64-pc-linux-gnu (64-bit)
* using session charset: UTF-8
* using option ‘--no-vignettes’
* checking for file ‘nucleR/DESCRIPTION’ ... OK
* checking extension type ... Package
* this is package ‘nucleR’ version ‘2.12.1’
* checking package namespace information ... OK
* checking package dependencies ... OK
* checking if this is a source package ... OK
* checking if there is a namespace ... OK
* checking for hidden files and directories ... OK
* checking for portable file names ... OK
* checking for sufficient/correct file permissions ... OK
* checking whether package ‘nucleR’ can be installed ... OK
* checking installed package size ... OK
* checking package directory ... OK
* checking ‘build’ directory ... OK
* checking DESCRIPTION meta-information ... OK
* checking top-level files ... OK
* checking for left-over files ... OK
* checking index information ... OK
* checking package subdirectories ... OK
* checking R files for non-ASCII characters ... OK
* checking R files for syntax errors ... OK
* checking whether the package can be loaded ... OK
* checking whether the package can be loaded with stated dependencies ... OK
* checking whether the package can be unloaded cleanly ... OK
* checking whether the namespace can be loaded with stated dependencies ... OK
* checking whether the namespace can be unloaded cleanly ... OK
* checking dependencies in R code ... OK
* checking S3 generic/method consistency ... OK
* checking replacement functions ... OK
* checking foreign function calls ... OK
* checking R code for possible problems ... OK
* checking Rd files ... OK
* checking Rd metadata ... OK
* checking Rd cross-references ... OK
* checking for missing documentation entries ... OK
* checking for code/documentation mismatches ... OK
* checking Rd \usage sections ... OK
* checking Rd contents ... OK
* checking for unstated dependencies in examples ... OK
* checking contents of ‘data’ directory ... OK
* checking data for non-ASCII characters ... OK
* checking data for ASCII and uncompressed saves ... OK
* checking files in ‘vignettes’ ... OK
* checking examples ... OK
Examples with CPU or elapsed time > 5s
user system elapsed
syntheticNucMap 22.916 0.056 22.997
* checking for unstated dependencies in ‘tests’ ... OK
* checking tests ...
Running ‘testthat.R’
OK
* checking for unstated dependencies in vignettes ... OK
* checking package vignettes in ‘inst/doc’ ... OK
* checking running R code from vignettes ... SKIPPED
* checking re-building of vignette outputs ... SKIPPED
* checking PDF version of manual ... OK
* DONE
Status: OK
nucleR.Rcheck/00install.out
############################################################################## ############################################################################## ### ### Running command: ### ### /home/biocbuild/bbs-3.7-bioc/R/bin/R CMD INSTALL nucleR ### ############################################################################## ############################################################################## * installing to library ‘/home/biocbuild/bbs-3.7-bioc/R/library’ * installing *source* package ‘nucleR’ ... ** R ** data ** inst ** byte-compile and prepare package for lazy loading ** help *** installing help indices ** building package indices ** installing vignettes ** testing if installed package can be loaded * DONE (nucleR)
nucleR.Rcheck/tests/testthat.Rout
R version 3.5.1 Patched (2018-07-12 r74967) -- "Feather Spray"
Copyright (C) 2018 The R Foundation for Statistical Computing
Platform: x86_64-pc-linux-gnu (64-bit)
R is free software and comes with ABSOLUTELY NO WARRANTY.
You are welcome to redistribute it under certain conditions.
Type 'license()' or 'licence()' for distribution details.
R is a collaborative project with many contributors.
Type 'contributors()' for more information and
'citation()' on how to cite R or R packages in publications.
Type 'demo()' for some demos, 'help()' for on-line help, or
'help.start()' for an HTML browser interface to help.
Type 'q()' to quit R.
> library(testthat)
> library(nucleR)
>
> test_check("nucleR")
══ testthat results ═══════════════════════════════════════════════════════════
OK: 2 SKIPPED: 0 FAILED: 0
>
> proc.time()
user system elapsed
6.684 0.288 6.971
nucleR.Rcheck/nucleR-Ex.timings
| name | user | system | elapsed | |
| controlCorrection | 0.072 | 0.000 | 0.072 | |
| coverage.rpm | 0.880 | 0.000 | 0.878 | |
| export.bed | 0.124 | 0.000 | 0.122 | |
| export.wig | 0.048 | 0.008 | 0.056 | |
| filterFFT | 0.608 | 0.008 | 0.617 | |
| fragmentLenDetect | 0.640 | 0.000 | 0.638 | |
| mergeCalls | 0.444 | 0.004 | 0.449 | |
| nucleR-package | 1.512 | 0.008 | 1.523 | |
| pcKeepCompDetect | 0.364 | 0.000 | 0.365 | |
| peakDetection | 1.528 | 0.024 | 1.551 | |
| peakScoring | 0.42 | 0.00 | 0.42 | |
| plotPeaks | 1.220 | 0.036 | 1.258 | |
| processReads | 0.380 | 0.004 | 0.387 | |
| processTilingArray | 0.004 | 0.000 | 0.002 | |
| readBAM | 0.104 | 0.000 | 0.120 | |
| syntheticNucMap | 22.916 | 0.056 | 22.997 | |