| Back to Multiple platform build/check report for BioC 3.7 |
|
This page was generated on 2018-10-17 08:41:22 -0400 (Wed, 17 Oct 2018).
| Package 962/1561 | Hostname | OS / Arch | INSTALL | BUILD | CHECK | BUILD BIN | ||||||
| multiClust 1.10.0 Nathan Lawlor
| malbec2 | Linux (Ubuntu 16.04.1 LTS) / x86_64 | OK | OK | OK | |||||||
| tokay2 | Windows Server 2012 R2 Standard / x64 | [ OK ] | OK | WARNINGS | OK | |||||||
| merida2 | OS X 10.11.6 El Capitan / x86_64 | OK | OK | OK | OK |
| Package: multiClust |
| Version: 1.10.0 |
| Command: C:\cygwin\bin\curl.exe -O https://malbec2.bioconductor.org/BBS/3.7/bioc/src/contrib/multiClust_1.10.0.tar.gz && rm -rf multiClust.buildbin-libdir && mkdir multiClust.buildbin-libdir && C:\Users\biocbuild\bbs-3.7-bioc\R\bin\R.exe CMD INSTALL --merge-multiarch --build --library=multiClust.buildbin-libdir multiClust_1.10.0.tar.gz && C:\Users\biocbuild\bbs-3.7-bioc\R\bin\R.exe CMD INSTALL multiClust_1.10.0.zip && rm multiClust_1.10.0.tar.gz multiClust_1.10.0.zip |
| StartedAt: 2018-10-16 20:20:37 -0400 (Tue, 16 Oct 2018) |
| EndedAt: 2018-10-16 20:21:36 -0400 (Tue, 16 Oct 2018) |
| EllapsedTime: 58.6 seconds |
| RetCode: 0 |
| Status: OK |
##############################################################################
##############################################################################
###
### Running command:
###
### C:\cygwin\bin\curl.exe -O https://malbec2.bioconductor.org/BBS/3.7/bioc/src/contrib/multiClust_1.10.0.tar.gz && rm -rf multiClust.buildbin-libdir && mkdir multiClust.buildbin-libdir && C:\Users\biocbuild\bbs-3.7-bioc\R\bin\R.exe CMD INSTALL --merge-multiarch --build --library=multiClust.buildbin-libdir multiClust_1.10.0.tar.gz && C:\Users\biocbuild\bbs-3.7-bioc\R\bin\R.exe CMD INSTALL multiClust_1.10.0.zip && rm multiClust_1.10.0.tar.gz multiClust_1.10.0.zip
###
##############################################################################
##############################################################################
% Total % Received % Xferd Average Speed Time Time Time Current
Dload Upload Total Spent Left Speed
0 0 0 0 0 0 0 0 --:--:-- --:--:-- --:--:-- 0
100 1980k 100 1980k 0 0 30.1M 0 --:--:-- --:--:-- --:--:-- 33.3M
install for i386
* installing *source* package 'multiClust' ...
** R
** inst
** byte-compile and prepare package for lazy loading
** help
*** installing help indices
converting help for package 'multiClust'
finding HTML links ... done
WriteMatrixToFile html
avg_probe_exp html
cluster_analysis html
Rd warning: C:/Users/biocbuild/bbs-3.7-bioc/tmpdir/Rtmpcl15ZN/R.INSTALL1ac87cea3cff/multiClust/man/cluster_analysis.Rd:114: file link 'Dist' in package 'amap' does not exist and so has been treated as a topic
input_file html
nor.min.max html
number_clusters html
number_probes html
probe_ranking html
surv_analysis html
** building package indices
** installing vignettes
** testing if installed package can be loaded
In R CMD INSTALL
install for x64
* installing *source* package 'multiClust' ...
** testing if installed package can be loaded
* MD5 sums
packaged installation of 'multiClust' as multiClust_1.10.0.zip
* DONE (multiClust)
In R CMD INSTALL
In R CMD INSTALL
* installing to library 'C:/Users/biocbuild/bbs-3.7-bioc/R/library'
package 'multiClust' successfully unpacked and MD5 sums checked
In R CMD INSTALL