| Back to Multiple platform build/check report for BioC 3.7 |
|
This page was generated on 2018-10-17 08:34:35 -0400 (Wed, 17 Oct 2018).
| Package 885/1561 | Hostname | OS / Arch | INSTALL | BUILD | CHECK | BUILD BIN | ||||||
| methVisual 1.32.0 Arie Zackay
| malbec2 | Linux (Ubuntu 16.04.1 LTS) / x86_64 | OK | OK | WARNINGS | |||||||
| tokay2 | Windows Server 2012 R2 Standard / x64 | [ OK ] | OK | WARNINGS | OK | |||||||
| merida2 | OS X 10.11.6 El Capitan / x86_64 | OK | OK | WARNINGS | OK |
| Package: methVisual |
| Version: 1.32.0 |
| Command: C:\cygwin\bin\curl.exe -O https://malbec2.bioconductor.org/BBS/3.7/bioc/src/contrib/methVisual_1.32.0.tar.gz && rm -rf methVisual.buildbin-libdir && mkdir methVisual.buildbin-libdir && C:\Users\biocbuild\bbs-3.7-bioc\R\bin\R.exe CMD INSTALL --merge-multiarch --build --library=methVisual.buildbin-libdir methVisual_1.32.0.tar.gz && C:\Users\biocbuild\bbs-3.7-bioc\R\bin\R.exe CMD INSTALL methVisual_1.32.0.zip && rm methVisual_1.32.0.tar.gz methVisual_1.32.0.zip |
| StartedAt: 2018-10-16 19:43:53 -0400 (Tue, 16 Oct 2018) |
| EndedAt: 2018-10-16 19:44:43 -0400 (Tue, 16 Oct 2018) |
| EllapsedTime: 50.5 seconds |
| RetCode: 0 |
| Status: OK |
##############################################################################
##############################################################################
###
### Running command:
###
### C:\cygwin\bin\curl.exe -O https://malbec2.bioconductor.org/BBS/3.7/bioc/src/contrib/methVisual_1.32.0.tar.gz && rm -rf methVisual.buildbin-libdir && mkdir methVisual.buildbin-libdir && C:\Users\biocbuild\bbs-3.7-bioc\R\bin\R.exe CMD INSTALL --merge-multiarch --build --library=methVisual.buildbin-libdir methVisual_1.32.0.tar.gz && C:\Users\biocbuild\bbs-3.7-bioc\R\bin\R.exe CMD INSTALL methVisual_1.32.0.zip && rm methVisual_1.32.0.tar.gz methVisual_1.32.0.zip
###
##############################################################################
##############################################################################
% Total % Received % Xferd Average Speed Time Time Time Current
Dload Upload Total Spent Left Speed
0 0 0 0 0 0 0 0 --:--:-- --:--:-- --:--:-- 0
0 0 0 0 0 0 0 0 --:--:-- --:--:-- --:--:-- 0
100 24254 100 24254 0 0 344k 0 --:--:-- --:--:-- --:--:-- 375k
install for i386
* installing *source* package 'methVisual' ...
** R
** data
** inst
** byte-compile and prepare package for lazy loading
Note: possible error in 'windows(n, lengthData, ': unused argument (rescale = "fixed")
** help
*** installing help indices
converting help for package 'methVisual'
finding HTML links ... done
Cooccurrence html
MethAlignNW html
MethDataInput html
MethLollipops html
MethylQC html
cgInAlign html
cgMethFinder html
coversionGenom html
findNonAligned html
heatMapMeth html
makeDataMethGFF html
makeLocalExpDir html
makeTabFilePath html
matrixSNP html
methCA html
methData html
methFisherTest html
methWhitneyUTest html
plotAbsMethyl html
plotMatrixSNP html
readBisulfFASTA html
selectRefSeq html
** building package indices
** installing vignettes
** testing if installed package can be loaded
In R CMD INSTALL
install for x64
* installing *source* package 'methVisual' ...
** testing if installed package can be loaded
* MD5 sums
packaged installation of 'methVisual' as methVisual_1.32.0.zip
* DONE (methVisual)
In R CMD INSTALL
In R CMD INSTALL
* installing to library 'C:/Users/biocbuild/bbs-3.7-bioc/R/library'
package 'methVisual' successfully unpacked and MD5 sums checked
In R CMD INSTALL