| Back to Multiple platform build/check report for BioC 3.7 |
|
This page was generated on 2018-10-17 08:48:28 -0400 (Wed, 17 Oct 2018).
| Package 885/1561 | Hostname | OS / Arch | INSTALL | BUILD | CHECK | BUILD BIN | ||||||
| methVisual 1.32.0 Arie Zackay
| malbec2 | Linux (Ubuntu 16.04.1 LTS) / x86_64 | OK | OK | WARNINGS | |||||||
| tokay2 | Windows Server 2012 R2 Standard / x64 | OK | OK | WARNINGS | OK | |||||||
| merida2 | OS X 10.11.6 El Capitan / x86_64 | OK | OK | WARNINGS | [ OK ] |
| Package: methVisual |
| Version: 1.32.0 |
| Command: rm -rf methVisual.buildbin-libdir && mkdir methVisual.buildbin-libdir && /Users/biocbuild/BBS/utils/build-universal.sh methVisual_1.32.0.tar.gz /Library/Frameworks/R.framework/Versions/Current/Resources/bin/R methVisual.buildbin-libdir |
| StartedAt: 2018-10-17 01:40:48 -0400 (Wed, 17 Oct 2018) |
| EndedAt: 2018-10-17 01:41:34 -0400 (Wed, 17 Oct 2018) |
| EllapsedTime: 45.6 seconds |
| RetCode: 0 |
| Status: OK |
| PackageFile: methVisual_1.32.0.tgz |
| PackageFileSize: 309 KiB |
############################################################################## ############################################################################## ### ### Running command: ### ### rm -rf methVisual.buildbin-libdir && mkdir methVisual.buildbin-libdir && /Users/biocbuild/BBS/utils/build-universal.sh methVisual_1.32.0.tar.gz /Library/Frameworks/R.framework/Versions/Current/Resources/bin/R methVisual.buildbin-libdir ### ############################################################################## ############################################################################## >>>>>>> >>>>>>> INSTALLATION WITH 'R CMD INSTALL --preclean --no-multiarch --library=methVisual.buildbin-libdir methVisual_1.32.0.tar.gz' >>>>>>> * installing *source* package ‘methVisual’ ... ** R ** data ** inst ** byte-compile and prepare package for lazy loading Note: possible error in 'windows(n, lengthData, ': unused argument (rescale = "fixed") ** help *** installing help indices ** building package indices ** installing vignettes ** testing if installed package can be loaded * DONE (methVisual)