| Back to Multiple platform build/check report for BioC 3.7 |
|
This page was generated on 2018-10-17 08:49:17 -0400 (Wed, 17 Oct 2018).
| Package 525/1561 | Hostname | OS / Arch | INSTALL | BUILD | CHECK | BUILD BIN | ||||||
| flowWorkspace 3.28.2 Greg Finak
| malbec2 | Linux (Ubuntu 16.04.1 LTS) / x86_64 | OK | OK | OK | |||||||
| tokay2 | Windows Server 2012 R2 Standard / x64 | OK | OK | WARNINGS | OK | |||||||
| merida2 | OS X 10.11.6 El Capitan / x86_64 | OK | OK | WARNINGS | [ OK ] |
| Package: flowWorkspace |
| Version: 3.28.2 |
| Command: rm -rf flowWorkspace.buildbin-libdir && mkdir flowWorkspace.buildbin-libdir && /Users/biocbuild/BBS/utils/build-universal.sh flowWorkspace_3.28.2.tar.gz /Library/Frameworks/R.framework/Versions/Current/Resources/bin/R flowWorkspace.buildbin-libdir |
| StartedAt: 2018-10-17 01:20:50 -0400 (Wed, 17 Oct 2018) |
| EndedAt: 2018-10-17 01:23:26 -0400 (Wed, 17 Oct 2018) |
| EllapsedTime: 156.3 seconds |
| RetCode: 0 |
| Status: OK |
| PackageFile: flowWorkspace_3.28.2.tgz |
| PackageFileSize: 9.445 MiB |
##############################################################################
##############################################################################
###
### Running command:
###
### rm -rf flowWorkspace.buildbin-libdir && mkdir flowWorkspace.buildbin-libdir && /Users/biocbuild/BBS/utils/build-universal.sh flowWorkspace_3.28.2.tar.gz /Library/Frameworks/R.framework/Versions/Current/Resources/bin/R flowWorkspace.buildbin-libdir
###
##############################################################################
##############################################################################
>>>>>>>
>>>>>>> INSTALLATION WITH 'R CMD INSTALL --preclean --no-multiarch --library=flowWorkspace.buildbin-libdir flowWorkspace_3.28.2.tar.gz'
>>>>>>>
* installing *source* package ‘flowWorkspace’ ...
checking whether the C++ compiler works... yes
checking for C++ compiler default output file name... a.out
checking for suffix of executables...
checking whether we are cross compiling... no
checking for suffix of object files... o
checking whether we are using the GNU C++ compiler... yes
checking whether clang++ -std=gnu++11 accepts -g... yes
checking for gcc... clang
checking whether we are using the GNU C compiler... yes
checking whether clang accepts -g... yes
checking for clang option to accept ISO C89... none needed
configure: setting xml2 flags...
configure: No directory was specified for --with-xml2. Trying to find xml2 using other methods.
checking for xml2-config... /usr/bin/xml2-config
configure: Using the following compilation and linking flags for flowWorkspace
configure: PKG_CPPFLAGS=-I/usr/include/libxml2 -ftemplate-depth=900
configure: PKG_LIBS=-lxml2 -lz -lpthread -licucore -lm
configure: creating ./config.status
config.status: creating src/Makevars
** libs
clang++ -std=gnu++11 -I"/Library/Frameworks/R.framework/Resources/include" -DNDEBUG -DROUT -I../inst/include/ -I/usr/include/libxml2 -ftemplate-depth=900 -I"/Library/Frameworks/R.framework/Versions/3.5/Resources/library/Rcpp/include" -I"/Library/Frameworks/R.framework/Versions/3.5/Resources/library/BH/include" -I"/Library/Frameworks/R.framework/Versions/3.5/Resources/library/RProtoBufLib/include" -I"/Library/Frameworks/R.framework/Versions/3.5/Resources/library/cytolib/include" -I/usr/local/include -fPIC -Wall -g -O2 -c R_API.cpp -o R_API.o
clang++ -std=gnu++11 -I"/Library/Frameworks/R.framework/Resources/include" -DNDEBUG -DROUT -I../inst/include/ -I/usr/include/libxml2 -ftemplate-depth=900 -I"/Library/Frameworks/R.framework/Versions/3.5/Resources/library/Rcpp/include" -I"/Library/Frameworks/R.framework/Versions/3.5/Resources/library/BH/include" -I"/Library/Frameworks/R.framework/Versions/3.5/Resources/library/RProtoBufLib/include" -I"/Library/Frameworks/R.framework/Versions/3.5/Resources/library/cytolib/include" -I/usr/local/include -fPIC -Wall -g -O2 -c R_GatingHierarchy.cpp -o R_GatingHierarchy.o
R_GatingHierarchy.cpp:332:6: warning: comparison of unsigned expression < 0 is always false [-Wtautological-compare]
if(u<0)
˜^˜
R_GatingHierarchy.cpp:451:6: warning: comparison of unsigned expression < 0 is always false [-Wtautological-compare]
if(u<0)throw(domain_error("not valid vertexID!"));
˜^˜
R_GatingHierarchy.cpp:481:6: warning: comparison of unsigned expression < 0 is always false [-Wtautological-compare]
if(u<0)throw(domain_error("not valid vertexID!"));
˜^˜
R_GatingHierarchy.cpp:492:6: warning: comparison of unsigned expression < 0 is always false [-Wtautological-compare]
if(u<0)throw(domain_error("not valid vertexID!"));
˜^˜
R_GatingHierarchy.cpp:501:6: warning: comparison of unsigned expression < 0 is always false [-Wtautological-compare]
if(u<0)throw(domain_error("not valid vertexID!"));
˜^˜
5 warnings generated.
clang++ -std=gnu++11 -I"/Library/Frameworks/R.framework/Resources/include" -DNDEBUG -DROUT -I../inst/include/ -I/usr/include/libxml2 -ftemplate-depth=900 -I"/Library/Frameworks/R.framework/Versions/3.5/Resources/library/Rcpp/include" -I"/Library/Frameworks/R.framework/Versions/3.5/Resources/library/BH/include" -I"/Library/Frameworks/R.framework/Versions/3.5/Resources/library/RProtoBufLib/include" -I"/Library/Frameworks/R.framework/Versions/3.5/Resources/library/cytolib/include" -I/usr/local/include -fPIC -Wall -g -O2 -c R_GatingSet.cpp -o R_GatingSet.o
In file included from R_GatingSet.cpp:10:
In file included from ../inst/include/flowWorkspace/openWorkspace.hpp:12:
../inst/include/flowWorkspace/winFlowJoWorkspace.hpp:433:30: warning: '/*' within block comment [-Wcomment]
* "*[local-name()='edge']/*[local-name()='vertex']" is for ellipsoidGate
^
../inst/include/flowWorkspace/winFlowJoWorkspace.hpp:417:13: warning: variable 'quad' is used uninitialized whenever 'if' condition is false [-Wsometimes-uninitialized]
else if(quadPattern == "--")
^˜˜˜˜˜˜˜˜˜˜˜˜˜˜˜˜˜˜
../inst/include/flowWorkspace/winFlowJoWorkspace.hpp:425:45: note: uninitialized use occurs here
CurlyGuadGate * g=new CurlyGuadGate(pp, quad);
^˜˜˜
../inst/include/flowWorkspace/winFlowJoWorkspace.hpp:417:10: note: remove the 'if' if its condition is always true
else if(quadPattern == "--")
^˜˜˜˜˜˜˜˜˜˜˜˜˜˜˜˜˜˜˜˜˜˜
../inst/include/flowWorkspace/winFlowJoWorkspace.hpp:410:5: note: variable 'quad' is declared here
QUAD quad;
^
../inst/include/flowWorkspace/winFlowJoWorkspace.hpp:779:12: warning: unused variable 'minRange' [-Wunused-variable]
double minRange=atof(transNode.getProperty("minRange").c_str());
^
3 warnings generated.
clang++ -std=gnu++11 -I"/Library/Frameworks/R.framework/Resources/include" -DNDEBUG -DROUT -I../inst/include/ -I/usr/include/libxml2 -ftemplate-depth=900 -I"/Library/Frameworks/R.framework/Versions/3.5/Resources/library/Rcpp/include" -I"/Library/Frameworks/R.framework/Versions/3.5/Resources/library/BH/include" -I"/Library/Frameworks/R.framework/Versions/3.5/Resources/library/RProtoBufLib/include" -I"/Library/Frameworks/R.framework/Versions/3.5/Resources/library/cytolib/include" -I/usr/local/include -fPIC -Wall -g -O2 -c RcppExports.cpp -o RcppExports.o
clang++ -std=gnu++11 -I"/Library/Frameworks/R.framework/Resources/include" -DNDEBUG -DROUT -I../inst/include/ -I/usr/include/libxml2 -ftemplate-depth=900 -I"/Library/Frameworks/R.framework/Versions/3.5/Resources/library/Rcpp/include" -I"/Library/Frameworks/R.framework/Versions/3.5/Resources/library/BH/include" -I"/Library/Frameworks/R.framework/Versions/3.5/Resources/library/RProtoBufLib/include" -I"/Library/Frameworks/R.framework/Versions/3.5/Resources/library/cytolib/include" -I/usr/local/include -fPIC -Wall -g -O2 -c getDescendants.cpp -o getDescendants.o
clang++ -std=gnu++11 -I"/Library/Frameworks/R.framework/Resources/include" -DNDEBUG -DROUT -I../inst/include/ -I/usr/include/libxml2 -ftemplate-depth=900 -I"/Library/Frameworks/R.framework/Versions/3.5/Resources/library/Rcpp/include" -I"/Library/Frameworks/R.framework/Versions/3.5/Resources/library/BH/include" -I"/Library/Frameworks/R.framework/Versions/3.5/Resources/library/RProtoBufLib/include" -I"/Library/Frameworks/R.framework/Versions/3.5/Resources/library/cytolib/include" -I/usr/local/include -fPIC -Wall -g -O2 -c getSingleCellExpression.cpp -o getSingleCellExpression.o
clang++ -std=gnu++11 -I"/Library/Frameworks/R.framework/Resources/include" -DNDEBUG -DROUT -I../inst/include/ -I/usr/include/libxml2 -ftemplate-depth=900 -I"/Library/Frameworks/R.framework/Versions/3.5/Resources/library/Rcpp/include" -I"/Library/Frameworks/R.framework/Versions/3.5/Resources/library/BH/include" -I"/Library/Frameworks/R.framework/Versions/3.5/Resources/library/RProtoBufLib/include" -I"/Library/Frameworks/R.framework/Versions/3.5/Resources/library/cytolib/include" -I/usr/local/include -fPIC -Wall -g -O2 -c setCounts.cpp -o setCounts.o
mkdir -p "/Users/biocbuild/bbs-3.7-bioc/meat/flowWorkspace.buildbin-libdir/flowWorkspace/lib"
ar rs "/Users/biocbuild/bbs-3.7-bioc/meat/flowWorkspace.buildbin-libdir/flowWorkspace/lib/libflowWorkspace.a" R_API.o R_GatingHierarchy.o R_GatingSet.o RcppExports.o getDescendants.o getSingleCellExpression.o setCounts.o
ar: creating archive /Users/biocbuild/bbs-3.7-bioc/meat/flowWorkspace.buildbin-libdir/flowWorkspace/lib/libflowWorkspace.a
clang++ -std=gnu++11 -dynamiclib -Wl,-headerpad_max_install_names -undefined dynamic_lookup -single_module -multiply_defined suppress -L/Library/Frameworks/R.framework/Resources/lib -L/usr/local/lib -o flowWorkspace.so R_API.o R_GatingHierarchy.o R_GatingSet.o RcppExports.o getDescendants.o getSingleCellExpression.o setCounts.o /Library/Frameworks/R.framework/Versions/3.5/Resources/library/RProtoBufLib/lib/GatingSet.pb.o /Library/Frameworks/R.framework/Versions/3.5/Resources/library/RProtoBufLib/lib/libprotobuf.a -lxml2 -lz -lpthread -licucore -lm -F/Library/Frameworks/R.framework/.. -framework R -Wl,-framework -Wl,CoreFoundation
if [ `uname -s` = 'Darwin' ]; then install_name_tool -change /usr/local/clang4/lib/libc++.1.dylib /usr/lib/libc++.1.dylib flowWorkspace.so; fi
installing to /Users/biocbuild/bbs-3.7-bioc/meat/flowWorkspace.buildbin-libdir/flowWorkspace/libs
** R
** inst
** byte-compile and prepare package for lazy loading
** help
*** installing help indices
** building package indices
** installing vignettes
** testing if installed package can be loaded
* DONE (flowWorkspace)
>>>>>>>
>>>>>>> FIXING LINKS FOR flowWorkspace.buildbin-libdir/flowWorkspace/libs//flowWorkspace.so
>>>>>>>
install_name_tool -change "/usr/local/lib/libgcc_s.1.dylib" "/Library/Frameworks/R.framework/Versions/3.5/Resources/lib/libgcc_s.1.dylib" "flowWorkspace.buildbin-libdir/flowWorkspace/libs//flowWorkspace.so"
install_name_tool -change "/usr/local/lib/libgfortran.3.dylib" "/Library/Frameworks/R.framework/Versions/3.5/Resources/lib/libgfortran.3.dylib" "flowWorkspace.buildbin-libdir/flowWorkspace/libs//flowWorkspace.so"
install_name_tool -change "/usr/local/lib/libreadline.5.2.dylib" "/Library/Frameworks/R.framework/Versions/3.5/Resources/lib/libreadline.5.2.dylib" "flowWorkspace.buildbin-libdir/flowWorkspace/libs//flowWorkspace.so"
install_name_tool -change "/usr/local/lib/libreadline.dylib" "/Library/Frameworks/R.framework/Versions/3.5/Resources/lib/libreadline.dylib" "flowWorkspace.buildbin-libdir/flowWorkspace/libs//flowWorkspace.so"
install_name_tool -change "/usr/local/lib/libquadmath.0.dylib" "/Library/Frameworks/R.framework/Versions/3.5/Resources/lib/libquadmath.0.dylib" "flowWorkspace.buildbin-libdir/flowWorkspace/libs//flowWorkspace.so"